Workbook

Sheet AMDEC_Risques
A1: Processus / Étape | B1: Mode de Défaillance | C1: Effets | D1: Gravité (1-10) | E1: Occurrence (1-10) | F1: Détection (1-10) | G1: IPR (GxOxD) | H1: Niveau de Risque | I1: Actions Correctives | J1: Responsable | K1: Échéance | L1: Statut
G2: =IFERROR(D2*E2*F2,"") | H2: =IF(G2="","",IF(G2>150,"Critique",IF(G2>=50,"Significatif","Modéré"))) | L2: Ouvert
G3: =IFERROR(D3*E3*F3,"") | H3: =IF(G3="","",IF(G3>150,"Critique",IF(G3>=50,"Significatif","Modéré"))) | L3: Ouvert
G4: =IFERROR(D4*E4*F4,"") | H4: =IF(G4="","",IF(G4>150,"Critique",IF(G4>=50,"Significatif","Modéré"))) | L4: Ouvert
G5: =IFERROR(D5*E5*F5,"") | H5: =IF(G5="","",IF(G5>150,"Critique",IF(G5>=50,"Significatif","Modéré"))) | L5: Ouvert
G6: =IFERROR(D6*E6*F6,"") | H6: =IF(G6="","",IF(G6>150,"Critique",IF(G6>=50,"Significatif","Modéré"))) | L6: Ouvert
G7: =IFERROR(D7*E7*F7,"") | H7: =IF(G7="","",IF(G7>150,"Critique",IF(G7>=50,"Significatif","Modéré"))) | L7: Ouvert
G8: =IFERROR(D8*E8*F8,"") | H8: =IF(G8="","",IF(G8>150,"Critique",IF(G8>=50,"Significatif","Modéré"))) | L8: Ouvert
G9: =IFERROR(D9*E9*F9,"") | H9: =IF(G9="","",IF(G9>150,"Critique",IF(G9>=50,"Significatif","Modéré"))) | L9: Ouvert
G10: =IFERROR(D10*E10*F10,"") | H10: =IF(G10="","",IF(G10>150,"Critique",IF(G10>=50,"Significatif","Modéré"))) | L10: Ouvert
G11: =IFERROR(D11*E11*F11,"") | H11: =IF(G11="","",IF(G11>150,"Critique",IF(G11>=50,"Significatif","Modéré"))) | L11: Ouvert
G12: =IFERROR(D12*E12*F12,"") | H12: =IF(G12="","",IF(G12>150,"Critique",IF(G12>=50,"Significatif","Modéré"))) | L12: Ouvert
G13: =IFERROR(D13*E13*F13,"") | H13: =IF(G13="","",IF(G13>150,"Critique",IF(G13>=50,"Significatif","Modéré"))) | L13: Ouvert
... G200: =IFERROR(D200*E200*F200,"") | H200: =IF(G200="","",IF(G200>150,"Critique",IF(G200>=50,"Significatif","Modéré"))) | L200: Ouvert

Sheet SPC_Controle
A1: Date | B1: Mesure | C1: Moyenne Globale | D1: LSC | E1: LIC | F1: Statut | H1: PARAMÈTRES SPC
C2: =IF($I$2="","",$I$2) | D2: =IF($I$4="","",$I$4) | E2: =IF($I$5="","",$I$5) | F2: =IF(OR(B2>$I$4,B2<$I$5),"Hors contrôle","OK") | H2: Moyenne | I2: =IFERROR(AVERAGE(B2:B200),"")
C3: =IF($I$2="","",$I$2) | D3: =IF($I$4="","",$I$4) | E3: =IF($I$5="","",$I$5) | F3: =IF(OR(B3>$I$4,B3<$I$5),"Hors contrôle","OK") | H3: Écart-type | I3: =IFERROR(STDEV.P(B2:B200),"")
C4: =IF($I$2="","",$I$2) | D4: =IF($I$4="","",$I$4) | E4: =IF($I$5="","",$I$5) | F4: =IF(OR(B4>$I$4,B4<$I$5),"Hors contrôle","OK") | H4: LSC (µ+3σ) | I4: =IF(I2<>"",I2+3*I3,"")
C5: =IF($I$2="","",$I$2) | D5: =IF($I$4="","",$I$4) | E5: =IF($I$5="","",$I$5) | F5: =IF(OR(B5>$I$4,B5<$I$5),"Hors contrôle","OK") | H5: LIC (µ-3σ) | I5: =IF(I2<>"",I2-3*I3,"")
C6: =IF($I$2="","",$I$2) | D6: =IF($I$4="","",$I$4) | E6: =IF($I$5="","",$I$5) | F6: =IF(OR(B6>$I$4,B6<$I$5),"Hors contrôle","OK")
C7: =IF($I$2="","",$I$2) | D7: =IF($I$4="","",$I$4) | E7: =IF($I$5="","",$I$5) | F7: =IF(OR(B7>$I$4,B7<$I$5),"Hors contrôle","OK")
C8: =IF($I$2="","",$I$2) | D8: =IF($I$4="","",$I$4) | E8: =IF($I$5="","",$I$5) | F8: =IF(OR(B8>$I$4,B8<$I$5),"Hors contrôle","OK")
C9: =IF($I$2="","",$I$2) | D9: =IF($I$4="","",$I$4) | E9: =IF($I$5="","",$I$5) | F9: =IF(OR(B9>$I$4,B9<$I$5),"Hors contrôle","OK")
C10: =IF($I$2="","",$I$2) | D10: =IF($I$4="","",$I$4) | E10: =IF($I$5="","",$I$5) | F10: =IF(OR(B10>$I$4,B10<$I$5),"Hors contrôle","OK")
C11: =IF($I$2="","",$I$2) | D11: =IF($I$4="","",$I$4) | E11: =IF($I$5="","",$I$5) | F11: =IF(OR(B11>$I$4,B11<$I$5),"Hors contrôle","OK")
C12: =IF($I$2="","",$I$2) | D12: =IF($I$4="","",$I$4) | E12: =IF($I$5="","",$I$5) | F12: =IF(OR(B12>$I$4,B12<$I$5),"Hors contrôle","OK")
C13: =IF($I$2="","",$I$2) | D13: =IF($I$4="","",$I$4) | E13: =IF($I$5="","",$I$5) | F13: =IF(OR(B13>$I$4,B13<$I$5),"Hors contrôle","OK")
C14: =IF($I$2="","",$I$2) | D14: =IF($I$4="","",$I$4) | E14: =IF($I$5="","",$I$5) | F14: =IF(OR(B14>$I$4,B14<$I$5),"Hors contrôle","OK")
C15: =IF($I$2="","",$I$2) | D15: =IF($I$4="","",$I$4) | E15: =IF($I$5="","",$I$5) | F15: =IF(OR(B15>$I$4,B15<$I$5),"Hors contrôle","OK")
C16: =IF($I$2="","",$I$2) | D16: =IF($I$4="","",$I$4) | E16: =IF($I$5="","",$I$5) | F16: =IF(OR(B16>$I$4,B16<$I$5),"Hors contrôle","OK")
C17: =IF($I$2="","",$I$2) | D17: =IF($I$4="","",$I$4) | E17: =IF($I$5="","",$I$5) | F17: =IF(OR(B17>$I$4,B17<$I$5),"Hors contrôle","OK")
... C200: =IF($I$2="","",$I$2) | D200: =IF($I$4="","",$I$4) | E200: =IF($I$5="","",$I$5) | F200: =IF(OR(B200>$I$4,B200<$I$5),"Hors contrôle","OK")

Sheet Pareto_IPR
A1: Pareto des modes de défaillance (IPR)
A3: Mode de Défaillance | B3: IPR | C3: Rang (IPR) | D3: Cumul | E3: Cumul %
A4: =IFERROR(INDEX(AMDEC_Risques!$B$2:$B$200,MATCH(B4,AMDEC_Risques!$G$2:$G$200,0)),"") | B4: =IFERROR(LARGE(AMDEC_Risques!$G$2:$G$200,1),"") | C4: 1 | D4: =IF(B4="","",IF(4=4,B4,D3+B4)) | E4: =IFERROR(D4/SUM($B$4:$B$33),0)
A5: =IFERROR(INDEX(AMDEC_Risques!$B$2:$B$200,MATCH(B5,AMDEC_Risques!$G$2:$G$200,0)),"") | B5: =IFERROR(LARGE(AMDEC_Risques!$G$2:$G$200,2),"") | C5: 2 | D5: =IF(B5="","",IF(5=4,B5,D4+B5)) | E5: =IFERROR(D5/SUM($B$4:$B$33),0)
A6: =IFERROR(INDEX(AMDEC_Risques!$B$2:$B$200,MATCH(B6,AMDEC_Risques!$G$2:$G$200,0)),"") | B6: =IFERROR(LARGE(AMDEC_Risques!$G$2:$G$200,3),"") | C6: 3 | D6: =IF(B6="","",IF(6=4,B6,D5+B6)) | E6: =IFERROR(D6/SUM($B$4:$B$33),0)
A7: =IFERROR(INDEX(AMDEC_Risques!$B$2:$B$200,MATCH(B7,AMDEC_Risques!$G$2:$G$200,0)),"") | B7: =IFERROR(LARGE(AMDEC_Risques!$G$2:$G$200,4),"") | C7: 4 | D7: =IF(B7="","",IF(7=4,B7,D6+B7)) | E7: =IFERROR(D7/SUM($B$4:$B$33),0)
A8: =IFERROR(INDEX(AMDEC_Risques!$B$2:$B$200,MATCH(B8,AMDEC_Risques!$G$2:$G$200,0)),"") | B8: =IFERROR(LARGE(AMDEC_Risques!$G$2:$G$200,5),"") | C8: 5 | D8: =IF(B8="","",IF(8=4,B8,D7+B8)) | E8: =IFERROR(D8/SUM($B$4:$B$33),0)
A9: =IFERROR(INDEX(AMDEC_Risques!$B$2:$B$200,MATCH(B9,AMDEC_Risques!$G$2:$G$200,0)),"") | B9: =IFERROR(LARGE(AMDEC_Risques!$G$2:$G$200,6),"") | C9: 6 | D9: =IF(B9="","",IF(9=4,B9,D8+B9)) | E9: =IFERROR(D9/SUM($B$4:$B$33),0)
A10: =IFERROR(INDEX(AMDEC_Risques!$B$2:$B$200,MATCH(B10,AMDEC_Risques!$G$2:$G$200,0)),"") | B10: =IFERROR(LARGE(AMDEC_Risques!$G$2:$G$200,7),"") | C10: 7 | D10: =IF(B10="","",IF(10=4,B10,D9+B10)) | E10: =IFERROR(D10/SUM($B$4:$B$33),0)
A11: =IFERROR(INDEX(AMDEC_Risques!$B$2:$B$200,MATCH(B11,AMDEC_Risques!$G$2:$G$200,0)),"") | B11: =IFERROR(LARGE(AMDEC_Risques!$G$2:$G$200,8),"") | C11: 8 | D11: =IF(B11="","",IF(11=4,B11,D10+B11)) | E11: =IFERROR(D11/SUM($B$4:$B$33),0)
A12: =IFERROR(INDEX(AMDEC_Risques!$B$2:$B$200,MATCH(B12,AMDEC_Risques!$G$2:$G$200,0)),"") | B12: =IFERROR(LARGE(AMDEC_Risques!$G$2:$G$200,9),"") | C12: 9 | D12: =IF(B12="","",IF(12=4,B12,D11+B12)) | E12: =IFERROR(D12/SUM($B$4:$B$33),0)
A13: =IFERROR(INDEX(AMDEC_Risques!$B$2:$B$200,MATCH(B13,AMDEC_Risques!$G$2:$G$200,0)),"") | B13: =IFERROR(LARGE(AMDEC_Risques!$G$2:$G$200,10),"") | C13: 10 | D13: =IF(B13="","",IF(13=4,B13,D12+B13)) | E13: =IFERROR(D13/SUM($B$4:$B$33),0)
A14: =IFERROR(INDEX(AMDEC_Risques!$B$2:$B$200,MATCH(B14,AMDEC_Risques!$G$2:$G$200,0)),"") | B14: =IFERROR(LARGE(AMDEC_Risques!$G$2:$G$200,11),"") | C14: 11 | D14: =IF(B14="","",IF(14=4,B14,D13+B14)) | E14: =IFERROR(D14/SUM($B$4:$B$33),0)
A15: =IFERROR(INDEX(AMDEC_Risques!$B$2:$B$200,MATCH(B15,AMDEC_Risques!$G$2:$G$200,0)),"") | B15: =IFERROR(LARGE(AMDEC_Risques!$G$2:$G$200,12),"") | C15: 12 | D15: =IF(B15="","",IF(15=4,B15,D14+B15)) | E15: =IFERROR(D15/SUM($B$4:$B$33),0)
A16: =IFERROR(INDEX(AMDEC_Risques!$B$2:$B$200,MATCH(B16,AMDEC_Risques!$G$2:$G$200,0)),"") | B16: =IFERROR(LARGE(AMDEC_Risques!$G$2:$G$200,13),"") | C16: 13 | D16: =IF(B16="","",IF(16=4,B16,D15+B16)) | E16: =IFERROR(D16/SUM($B$4:$B$33),0)
A17: =IFERROR(INDEX(AMDEC_Risques!$B$2:$B$200,MATCH(B17,AMDEC_Risques!$G$2:$G$200,0)),"") | B17: =IFERROR(LARGE(AMDEC_Risques!$G$2:$G$200,14),"") | C17: 14 | D17: =IF(B17="","",IF(17=4,B17,D16+B17)) | E17: =IFERROR(D17/SUM($B$4:$B$33),0)
A18: =IFERROR(INDEX(AMDEC_Risques!$B$2:$B$200,MATCH(B18,AMDEC_Risques!$G$2:$G$200,0)),"") | B18: =IFERROR(LARGE(AMDEC_Risques!$G$2:$G$200,15),"") | C18: 15 | D18: =IF(B18="","",IF(18=4,B18,D17+B18)) | E18: =IFERROR(D18/SUM($B$4:$B$33),0)
A19: =IFERROR(INDEX(AMDEC_Risques!$B$2:$B$200,MATCH(B19,AMDEC_Risques!$G$2:$G$200,0)),"") | B19: =IFERROR(LARGE(AMDEC_Risques!$G$2:$G$200,16),"") | C19: 16 | D19: =IF(B19="","",IF(19=4,B19,D18+B19)) | E19: =IFERROR(D19/SUM($B$4:$B$33),0)
A20: =IFERROR(INDEX(AMDEC_Risques!$B$2:$B$200,MATCH(B20,AMDEC_Risques!$G$2:$G$200,0)),"") | B20: =IFERROR(LARGE(AMDEC_Risques!$G$2:$G$200,17),"") | C20: 17 | D20: =IF(B20="","",IF(20=4,B20,D19+B20)) | E20: =IFERROR(D20/SUM($B$4:$B$33),0)
A21: =IFERROR(INDEX(AMDEC_Risques!$B$2:$B$200,MATCH(B21,AMDEC_Risques!$G$2:$G$200,0)),"") | B21: =IFERROR(LARGE(AMDEC_Risques!$G$2:$G$200,18),"") | C21: 18 | D21: =IF(B21="","",IF(21=4,B21,D20+B21)) | E21: =IFERROR(D21/SUM($B$4:$B$33),0)
A22: =IFERROR(INDEX(AMDEC_Risques!$B$2:$B$200,MATCH(B22,AMDEC_Risques!$G$2:$G$200,0)),"") | B22: =IFERROR(LARGE(AMDEC_Risques!$G$2:$G$200,19),"") | C22: 19 | D22: =IF(B22="","",IF(22=4,B22,D21+B22)) | E22: =IFERROR(D22/SUM($B$4:$B$33),0)
A23: =IFERROR(INDEX(AMDEC_Risques!$B$2:$B$200,MATCH(B23,AMDEC_Risques!$G$2:$G$200,0)),"") | B23: =IFERROR(LARGE(AMDEC_Risques!$G$2:$G$200,20),"") | C23: 20 | D23: =IF(B23="","",IF(23=4,B23,D22+B23)) | E23: =IFERROR(D23/SUM($B$4:$B$33),0)
A24: =IFERROR(INDEX(AMDEC_Risques!$B$2:$B$200,MATCH(B24,AMDEC_Risques!$G$2:$G$200,0)),"") | B24: =IFERROR(LARGE(AMDEC_Risques!$G$2:$G$200,21),"") | C24: 21 | D24: =IF(B24="","",IF(24=4,B24,D23+B24)) | E24: =IFERROR(D24/SUM($B$4:$B$33),0)
A25: =IFERROR(INDEX(AMDEC_Risques!$B$2:$B$200,MATCH(B25,AMDEC_Risques!$G$2:$G$200,0)),"") | B25: =IFERROR(LARGE(AMDEC_Risques!$G$2:$G$200,22),"") | C25: 22 | D25: =IF(B25="","",IF(25=4,B25,D24+B25)) | E25: =IFERROR(D25/SUM($B$4:$B$33),0)
A26: =IFERROR(INDEX(AMDEC_Risques!$B$2:$B$200,MATCH(B26,AMDEC_Risques!$G$2:$G$200,0)),"") | B26: =IFERROR(LARGE(AMDEC_Risques!$G$2:$G$200,23),"") | C26: 23 | D26: =IF(B26="","",IF(26=4,B26,D25+B26)) | E26: =IFERROR(D26/SUM($B$4:$B$33),0)
A27: =IFERROR(INDEX(AMDEC_Risques!$B$2:$B$200,MATCH(B27,AMDEC_Risques!$G$2:$G$200,0)),"") | B27: =IFERROR(LARGE(AMDEC_Risques!$G$2:$G$200,24),"") | C27: 24 | D27: =IF(B27="","",IF(27=4,B27,D26+B27)) | E27: =IFERROR(D27/SUM($B$4:$B$33),0)
A28: =IFERROR(INDEX(AMDEC_Risques!$B$2:$B$200,MATCH(B28,AMDEC_Risques!$G$2:$G$200,0)),"") | B28: =IFERROR(LARGE(AMDEC_Risques!$G$2:$G$200,25),"") | C28: 25 | D28: =IF(B28="","",IF(28=4,B28,D27+B28)) | E28: =IFERROR(D28/SUM($B$4:$B$33),0)
A29: =IFERROR(INDEX(AMDEC_Risques!$B$2:$B$200,MATCH(B29,AMDEC_Risques!$G$2:$G$200,0)),"") | B29: =IFERROR(LARGE(AMDEC_Risques!$G$2:$G$200,26),"") | C29: 26 | D29: =IF(B29="","",IF(29=4,B29,D28+B29)) | E29: =IFERROR(D29/SUM($B$4:$B$33),0)
A30: =IFERROR(INDEX(AMDEC_Risques!$B$2:$B$200,MATCH(B30,AMDEC_Risques!$G$2:$G$200,0)),"") | B30: =IFERROR(LARGE(AMDEC_Risques!$G$2:$G$200,27),"") | C30: 27 | D30: =IF(B30="","",IF(30=4,B30,D29+B30)) | E30: =IFERROR(D30/SUM($B$4:$B$33),0)
A31: =IFERROR(INDEX(AMDEC_Risques!$B$2:$B$200,MATCH(B31,AMDEC_Risques!$G$2:$G$200,0)),"") | B31: =IFERROR(LARGE(AMDEC_Risques!$G$2:$G$200,28),"") | C31: 28 | D31: =IF(B31="","",IF(31=4,B31,D30+B31)) | E31: =IFERROR(D31/SUM($B$4:$B$33),0)
A32: =IFERROR(INDEX(AMDEC_Risques!$B$2:$B$200,MATCH(B32,AMDEC_Risques!$G$2:$G$200,0)),"") | B32: =IFERROR(LARGE(AMDEC_Risques!$G$2:$G$200,29),"") | C32: 29 | D32: =IF(B32="","",IF(32=4,B32,D31+B32)) | E32: =IFERROR(D32/SUM($B$4:$B$33),0)
A33: =IFERROR(INDEX(AMDEC_Risques!$B$2:$B$200,MATCH(B33,AMDEC_Risques!$G$2:$G$200,0)),"") | B33: =IFERROR(LARGE(AMDEC_Risques!$G$2:$G$200,30),"") | C33: 30 | D33: =IF(B33="","",IF(33=4,B33,D32+B33)) | E33: =IFERROR(D33/SUM($B$4:$B$33),0)

Sheet Dashboard_Risques
A1: DASHBOARD GLOBAL DE SURVEILLANCE DES RISQUES
A3: 📊 KPI AMDEC | B3: =COUNTA(AMDEC_Risques!B2:B200) | D3: Mesures total | E3: =COUNTA(SPC_Controle!B2:B200)
A4: Total de Risques Identifiés : | B4: =IFERROR(AVERAGE(AMDEC_Risques!G2:G200),0) | D4: % Hors contrôle | E4: =IFERROR(COUNTIF(SPC_Controle!F2:F200,"Hors contrôle")/COUNTA(SPC_Controle!F2:F200),0)
A5: IPR Moyen : | B5: =IFERROR(COUNTIF(AMDEC_Risques!G2:G200,">150")/COUNTIF(AMDEC_Risques!G2:G200,">0"),0) | D5: Moyenne (µ) | E5: =SPC_Controle!I2
A6: % Risques Critiques (IPR>150) : | B6: =IFERROR(COUNTIF(AMDEC_Risques!L2:L200,"Fermé")/COUNTA(AMDEC_Risques!L2:L200),0) | D6: Écart-type (σ) | E6: =SPC_Controle!I3
A7: % Risques Fermés :
A8: Sous-KPI AMDEC
A9: IPR Médian : | B9: =IFERROR(MEDIAN(IF(AMDEC_Risques!G2:G200>0,AMDEC_Risques!G2:G200)),0)
A10: IPR Maximum : | B10: =IFERROR(MAX(AMDEC_Risques!G2:G200),0)
A11: Nombre de risques très critiques (IPR>300) : | B11: =IFERROR(COUNTIF(AMDEC_Risques!G2:G200,">300"),0)
A12: % Risques En cours : | B12: =IFERROR(COUNTIF(AMDEC_Risques!L2:L200,"En cours")/COUNTA(AMDEC_Risques!L2:L200),0)
A13: Délai moyen restant (jours) – risques non fermés : | B13: =IFERROR(AVERAGE(IF((AMDEC_Risques!L2:L200<>"Fermé")*(AMDEC_Risques!K2:K200<>""),AMDEC_Risques!K2:K200-TODAY())), "")
A14: Ecart-type (σ) :
A16: Sous-KPI SPC
A17: % Mesures dans les limites (LSC/LIC) : | E17: =IFERROR(1- (COUNTIF(SPC_Controle!F2:F200,"Hors contrôle")/COUNTA(SPC_Controle!F2:F200)),0)
A18: Dernier statut mesuré : | E18: =IFERROR(LOOKUP(2,1/(SPC_Controle!F2:F200<>""),SPC_Controle!F2:F200),"")
A19: Max au-dessus de LSC : | E19: =IFERROR(MAX(IF(SPC_Controle!B2:B200>SPC_Controle!$I$4,SPC_Controle!B2:B200-SPC_Controle!$I$4)), "")
A20: Min en-dessous de LIC : | E20: =IFERROR(MIN(IF(SPC_Controle!B2:B200<SPC_Controle!$I$5,SPC_Controle!B2:B200-SPC_Controle!$I$5)), "")
A21: Hors contrôle (30 derniers points) : | E21: =IFERROR(COUNTIF(OFFSET(SPC_Controle!F2,MAX(COUNTA(SPC_Controle!B2:B200)-30,0),0,MIN(30,COUNTA(SPC_Controle!B2:B200)),1),"Hors contrôle"),0)
A22: Tendance (Δ moy. 7 derniers vs 7 précédents) : | E22: =IF(COUNTA(SPC_Controle!B2:B200)>=14, AVERAGE(OFFSET(SPC_Controle!B2,COUNTA(SPC_Controle!B2:B200)-7,0,7,1)) - AVERAGE(OFFSET(SPC_Controle!B2,COUNTA(SPC_Controle!B2:B200)-14,0,7,1)), "")

Sheet Guide
A1: Mode d’emploi – Modèle AMDEC & SPC (Avancé)
A3: 1) Renseignez vos risques dans AMDEC_Risques (G, O, D en 1..10). L’IPR et le niveau de risque se calculent.
A5: 2) Ajoutez vos mesures dans SPC_Controle (Date, Mesure). Les limites µ±3σ et le statut se calculent.
A7: 3) Consultez Pareto_IPR pour les priorités et Dashboard_Risques pour les KPI globaux.
