Workbook

Sheet 8D_Report_Model
A1: 📋 Rapport 8D - Modèle Amélioré
A2: Réf. Info. Client | C2: Numéro de FNC | E2: Pilote | G2: Autorisé par
A3: Réf. Produit client | C3: Numéro 8-D | E3: Équipe | G3: Fonction
A4: Réf. Produit | G4: Date
A5: ➡️ Étape 1 : Décrire ➡️ Étape 2 : Analyser ➡️ Étape 3 : Agir ➡️ Étape 4 : Vérifier ➡️ Étape 5 : Clôturer
I6: Statut | J6: Commentaires
A7: 👉 Décrivez précisément le problème (quoi, où, quand, comment). | E7: 👉 Listez les actions immédiates pour sécuriser la production.
A10: 2 Prise en compte pièce similaire
A13: 👉 Vérifiez si le problème impacte d'autres pièces ou variantes.
E15: 5 Analyse des causes réelles
A16: 3 Analyse initiale
A19: 👉 Identifiez où la non-conformité aurait dû être détectée. | E19: 👉 Analysez les causes profondes (5 pourquoi, Ishikawa, AMDEC).
E23: 6 Solution définitive
E27: 👉 Définissez les actions correctives définitives et responsables.
E31: 7 Confirmation de la solution définitive
E35: 👉 Validez l’efficacité des solutions par données factuelles.
E37: 8 Mise à jour documentation & Bilan
E41: 👉 Mettez à jour les documents, plans, process, FMEA et standards.

Sheet Dashboard
A1: 📊 Mini-Dashboard - Suivi des Actions (Log chronologique)
A3: Statut | B3: Nombre
A4: Ouverte | B4: =COUNTIF(Actions_Log!H2:H500,"Ouverte")
A5: En cours | B5: =COUNTIF(Actions_Log!H2:H500,"En cours")
A6: Fermée | B6: =COUNTIF(Actions_Log!H2:H500,"Fermée")
A8: KPI global de progression (%) | B8: =IFERROR(COUNTIF(Actions_Log!H2:H500,"Fermée")/COUNTA(Actions_Log!H2:H500),0)
A11: Mois | B11: Actions fermées (mois) | C11: Cumul Fermées
A12: =EOMONTH(TODAY(),-5)+1 | B12: =COUNTIFS(Actions_Log!G2:G500,">="&A12,Actions_Log!G2:G500,"<="&=EOMONTH(A12,0),Actions_Log!H2:H500,"Fermée") | C12: =B12
A13: =EOMONTH(TODAY(),-4)+1 | B13: =COUNTIFS(Actions_Log!G2:G500,">="&A13,Actions_Log!G2:G500,"<="&=EOMONTH(A13,0),Actions_Log!H2:H500,"Fermée") | C13: =C12+B13
A14: =EOMONTH(TODAY(),-3)+1 | B14: =COUNTIFS(Actions_Log!G2:G500,">="&A14,Actions_Log!G2:G500,"<="&=EOMONTH(A14,0),Actions_Log!H2:H500,"Fermée") | C14: =C13+B14
A15: =EOMONTH(TODAY(),-2)+1 | B15: =COUNTIFS(Actions_Log!G2:G500,">="&A15,Actions_Log!G2:G500,"<="&=EOMONTH(A15,0),Actions_Log!H2:H500,"Fermée") | C15: =C14+B15
A16: =EOMONTH(TODAY(),-1)+1 | B16: =COUNTIFS(Actions_Log!G2:G500,">="&A16,Actions_Log!G2:G500,"<="&=EOMONTH(A16,0),Actions_Log!H2:H500,"Fermée") | C16: =C15+B16
A17: =EOMONTH(TODAY(),-0)+1 | B17: =COUNTIFS(Actions_Log!G2:G500,">="&A17,Actions_Log!G2:G500,"<="&=EOMONTH(A17,0),Actions_Log!H2:H500,"Fermée") | C17: =C16+B17

Sheet Actions_Log
A1: ID | B1: Action | C1: Responsable | D1: Service | E1: Date_Création | F1: Échéance | G1: Date_Clôture | H1: Statut | I1: Priorité | J1: Commentaires
A2: ACT-001
A3: ACT-002
A4: ACT-003
A5: ACT-004
A6: ACT-005
A7: ACT-006
A8: ACT-007
A9: ACT-008
A10: ACT-009
A11: ACT-010
A12: ACT-011
A13: ACT-012
... A31: ACT-030
