Workbook
Name BalanceIDList: Balances!$A$2:$A$5
Name BalanceTable: Balances!$A$1:$D$5
Name CalibrationTypeList: Lists!$A$2:$A$4
Name LocationList: Lists!$B$2:$B$5

Sheet Lists
A1: Calibration Type | B1: Example Locations
A2: Internal | B2: QC Lab A
A3: External | B3: QC Lab B
A4: Verification | B4: R&D Lab
B5: Production Weighing Room

Sheet Balances
A1: Balance ID | B1: Model | C1: Location | D1: Tolerance (g)
A2: BAL-1001 | B2: Mettler XPR205 | C2: QC Lab A | D2: 0.002
A3: BAL-1002 | B3: Sartorius Cubis II | C3: QC Lab B | D3: 0.005
A4: BAL-2001 | B4: Mettler MS1003TS | C4: R&D Lab | D4: 0.01
A5: BAL-3001 | B5: Kern EW-N | C5: Production Weighing Room | D5: 0.02

Sheet Calibration Log
A1: Laboratory Balance Calibration Verification Log (Automated)
A2: Fill yellow cells; computed fields update automatically.
A3: Date | B3: Balance ID | C3: Location (auto) | D3: Calibration Type | E3: Weight Used (g) | F3: Reading (g) | G3: Difference (g) | H3: Abs Error (g) | I3: Tolerance (g) | J3: Pass/Fail | K3: Technician | L3: Remarks
C4: =IFERROR(INDEX(Balances!$C:$C, MATCH([[#This Row],[Balance ID]], Balances!$A:$A, 0)), "") -> 0 | G4: =IF(OR([[#This Row],[Reading (g)]]="",[[#This Row],[Weight Used (g)]]=""),"",[[#This Row],[Reading (g)]]-[[#This Row],[Weight Used (g)]]) -> 0 | H4: =IF([[#This Row],[Difference (g)]]="","",ABS([[#This Row],[Difference (g)]])) -> 0 | I4: =IFERROR(INDEX(Balances!$D:$D, MATCH([[#This Row],[Balance ID]], Balances!$A:$A, 0)),"") -> 0 | J4: =IF(OR([[#This Row],[Abs Error (g)]]="",[[#This Row],[Tolerance (g)]]=""),"",IF([[#This Row],[Abs Error (g)]]<=[[#This Row],[Tolerance (g)]],"PASS","FAIL")) -> 0
C5: =IFERROR(INDEX(Balances!$C:$C, MATCH([[#This Row],[Balance ID]], Balances!$A:$A, 0)), "") -> 0 | G5: =IF(OR([[#This Row],[Reading (g)]]="",[[#This Row],[Weight Used (g)]]=""),"",[[#This Row],[Reading (g)]]-[[#This Row],[Weight Used (g)]]) -> 0 | H5: =IF([[#This Row],[Difference (g)]]="","",ABS([[#This Row],[Difference (g)]])) -> 0 | I5: =IFERROR(INDEX(Balances!$D:$D, MATCH([[#This Row],[Balance ID]], Balances!$A:$A, 0)),"") -> 0 | J5: =IF(OR([[#This Row],[Abs Error (g)]]="",[[#This Row],[Tolerance (g)]]=""),"",IF([[#This Row],[Abs Error (g)]]<=[[#This Row],[Tolerance (g)]],"PASS","FAIL")) -> 0
C6: =IFERROR(INDEX(Balances!$C:$C, MATCH([[#This Row],[Balance ID]], Balances!$A:$A, 0)), "") -> 0 | G6: =IF(OR([[#This Row],[Reading (g)]]="",[[#This Row],[Weight Used (g)]]=""),"",[[#This Row],[Reading (g)]]-[[#This Row],[Weight Used (g)]]) -> 0 | H6: =IF([[#This Row],[Difference (g)]]="","",ABS([[#This Row],[Difference (g)]])) -> 0 | I6: =IFERROR(INDEX(Balances!$D:$D, MATCH([[#This Row],[Balance ID]], Balances!$A:$A, 0)),"") -> 0 | J6: =IF(OR([[#This Row],[Abs Error (g)]]="",[[#This Row],[Tolerance (g)]]=""),"",IF([[#This Row],[Abs Error (g)]]<=[[#This Row],[Tolerance (g)]],"PASS","FAIL")) -> 0
C7: =IFERROR(INDEX(Balances!$C:$C, MATCH([[#This Row],[Balance ID]], Balances!$A:$A, 0)), "") -> 0 | G7: =IF(OR([[#This Row],[Reading (g)]]="",[[#This Row],[Weight Used (g)]]=""),"",[[#This Row],[Reading (g)]]-[[#This Row],[Weight Used (g)]]) -> 0 | H7: =IF([[#This Row],[Difference (g)]]="","",ABS([[#This Row],[Difference (g)]])) -> 0 | I7: =IFERROR(INDEX(Balances!$D:$D, MATCH([[#This Row],[Balance ID]], Balances!$A:$A, 0)),"") -> 0 | J7: =IF(OR([[#This Row],[Abs Error (g)]]="",[[#This Row],[Tolerance (g)]]=""),"",IF([[#This Row],[Abs Error (g)]]<=[[#This Row],[Tolerance (g)]],"PASS","FAIL")) -> 0
C8: =IFERROR(INDEX(Balances!$C:$C, MATCH([[#This Row],[Balance ID]], Balances!$A:$A, 0)), "") -> 0 | G8: =IF(OR([[#This Row],[Reading (g)]]="",[[#This Row],[Weight Used (g)]]=""),"",[[#This Row],[Reading (g)]]-[[#This Row],[Weight Used (g)]]) -> 0 | H8: =IF([[#This Row],[Difference (g)]]="","",ABS([[#This Row],[Difference (g)]])) -> 0 | I8: =IFERROR(INDEX(Balances!$D:$D, MATCH([[#This Row],[Balance ID]], Balances!$A:$A, 0)),"") -> 0 | J8: =IF(OR([[#This Row],[Abs Error (g)]]="",[[#This Row],[Tolerance (g)]]=""),"",IF([[#This Row],[Abs Error (g)]]<=[[#This Row],[Tolerance (g)]],"PASS","FAIL")) -> 0
C9: =IFERROR(INDEX(Balances!$C:$C, MATCH([[#This Row],[Balance ID]], Balances!$A:$A, 0)), "") -> 0 | G9: =IF(OR([[#This Row],[Reading (g)]]="",[[#This Row],[Weight Used (g)]]=""),"",[[#This Row],[Reading (g)]]-[[#This Row],[Weight Used (g)]]) -> 0 | H9: =IF([[#This Row],[Difference (g)]]="","",ABS([[#This Row],[Difference (g)]])) -> 0 | I9: =IFERROR(INDEX(Balances!$D:$D, MATCH([[#This Row],[Balance ID]], Balances!$A:$A, 0)),"") -> 0 | J9: =IF(OR([[#This Row],[Abs Error (g)]]="",[[#This Row],[Tolerance (g)]]=""),"",IF([[#This Row],[Abs Error (g)]]<=[[#This Row],[Tolerance (g)]],"PASS","FAIL")) -> 0
C10: =IFERROR(INDEX(Balances!$C:$C, MATCH([[#This Row],[Balance ID]], Balances!$A:$A, 0)), "") -> 0 | G10: =IF(OR([[#This Row],[Reading (g)]]="",[[#This Row],[Weight Used (g)]]=""),"",[[#This Row],[Reading (g)]]-[[#This Row],[Weight Used (g)]]) -> 0 | H10: =IF([[#This Row],[Difference (g)]]="","",ABS([[#This Row],[Difference (g)]])) -> 0 | I10: =IFERROR(INDEX(Balances!$D:$D, MATCH([[#This Row],[Balance ID]], Balances!$A:$A, 0)),"") -> 0 | J10: =IF(OR([[#This Row],[Abs Error (g)]]="",[[#This Row],[Tolerance (g)]]=""),"",IF([[#This Row],[Abs Error (g)]]<=[[#This Row],[Tolerance (g)]],"PASS","FAIL")) -> 0
C11: =IFERROR(INDEX(Balances!$C:$C, MATCH([[#This Row],[Balance ID]], Balances!$A:$A, 0)), "") -> 0 | G11: =IF(OR([[#This Row],[Reading (g)]]="",[[#This Row],[Weight Used (g)]]=""),"",[[#This Row],[Reading (g)]]-[[#This Row],[Weight Used (g)]]) -> 0 | H11: =IF([[#This Row],[Difference (g)]]="","",ABS([[#This Row],[Difference (g)]])) -> 0 | I11: =IFERROR(INDEX(Balances!$D:$D, MATCH([[#This Row],[Balance ID]], Balances!$A:$A, 0)),"") -> 0 | J11: =IF(OR([[#This Row],[Abs Error (g)]]="",[[#This Row],[Tolerance (g)]]=""),"",IF([[#This Row],[Abs Error (g)]]<=[[#This Row],[Tolerance (g)]],"PASS","FAIL")) -> 0
C12: =IFERROR(INDEX(Balances!$C:$C, MATCH([[#This Row],[Balance ID]], Balances!$A:$A, 0)), "") -> 0 | G12: =IF(OR([[#This Row],[Reading (g)]]="",[[#This Row],[Weight Used (g)]]=""),"",[[#This Row],[Reading (g)]]-[[#This Row],[Weight Used (g)]]) -> 0 | H12: =IF([[#This Row],[Difference (g)]]="","",ABS([[#This Row],[Difference (g)]])) -> 0 | I12: =IFERROR(INDEX(Balances!$D:$D, MATCH([[#This Row],[Balance ID]], Balances!$A:$A, 0)),"") -> 0 | J12: =IF(OR([[#This Row],[Abs Error (g)]]="",[[#This Row],[Tolerance (g)]]=""),"",IF([[#This Row],[Abs Error (g)]]<=[[#This Row],[Tolerance (g)]],"PASS","FAIL")) -> 0
C13: =IFERROR(INDEX(Balances!$C:$C, MATCH([[#This Row],[Balance ID]], Balances!$A:$A, 0)), "") -> 0 | G13: =IF(OR([[#This Row],[Reading (g)]]="",[[#This Row],[Weight Used (g)]]=""),"",[[#This Row],[Reading (g)]]-[[#This Row],[Weight Used (g)]]) -> 0 | H13: =IF([[#This Row],[Difference (g)]]="","",ABS([[#This Row],[Difference (g)]])) -> 0 | I13: =IFERROR(INDEX(Balances!$D:$D, MATCH([[#This Row],[Balance ID]], Balances!$A:$A, 0)),"") -> 0 | J13: =IF(OR([[#This Row],[Abs Error (g)]]="",[[#This Row],[Tolerance (g)]]=""),"",IF([[#This Row],[Abs Error (g)]]<=[[#This Row],[Tolerance (g)]],"PASS","FAIL")) -> 0
C14: =IFERROR(INDEX(Balances!$C:$C, MATCH([[#This Row],[Balance ID]], Balances!$A:$A, 0)), "") -> 0 | G14: =IF(OR([[#This Row],[Reading (g)]]="",[[#This Row],[Weight Used (g)]]=""),"",[[#This Row],[Reading (g)]]-[[#This Row],[Weight Used (g)]]) -> 0 | H14: =IF([[#This Row],[Difference (g)]]="","",ABS([[#This Row],[Difference (g)]])) -> 0 | I14: =IFERROR(INDEX(Balances!$D:$D, MATCH([[#This Row],[Balance ID]], Balances!$A:$A, 0)),"") -> 0 | J14: =IF(OR([[#This Row],[Abs Error (g)]]="",[[#This Row],[Tolerance (g)]]=""),"",IF([[#This Row],[Abs Error (g)]]<=[[#This Row],[Tolerance (g)]],"PASS","FAIL")) -> 0
C15: =IFERROR(INDEX(Balances!$C:$C, MATCH([[#This Row],[Balance ID]], Balances!$A:$A, 0)), "") -> 0 | G15: =IF(OR([[#This Row],[Reading (g)]]="",[[#This Row],[Weight Used (g)]]=""),"",[[#This Row],[Reading (g)]]-[[#This Row],[Weight Used (g)]]) -> 0 | H15: =IF([[#This Row],[Difference (g)]]="","",ABS([[#This Row],[Difference (g)]])) -> 0 | I15: =IFERROR(INDEX(Balances!$D:$D, MATCH([[#This Row],[Balance ID]], Balances!$A:$A, 0)),"") -> 0 | J15: =IF(OR([[#This Row],[Abs Error (g)]]="",[[#This Row],[Tolerance (g)]]=""),"",IF([[#This Row],[Abs Error (g)]]<=[[#This Row],[Tolerance (g)]],"PASS","FAIL")) -> 0
... C403: =IFERROR(INDEX(Balances!$C:$C, MATCH([[#This Row],[Balance ID]], Balances!$A:$A, 0)), "") -> 0 | G403: =IF(OR([[#This Row],[Reading (g)]]="",[[#This Row],[Weight Used (g)]]=""),"",[[#This Row],[Reading (g)]]-[[#This Row],[Weight Used (g)]]) -> 0 | H403: =IF([[#This Row],[Difference (g)]]="","",ABS([[#This Row],[Difference (g)]])) -> 0 | I403: =IFERROR(INDEX(Balances!$D:$D, MATCH([[#This Row],[Balance ID]], Balances!$A:$A, 0)),"") -> 0 | J403: =IF(OR([[#This Row],[Abs Error (g)]]="",[[#This Row],[Tolerance (g)]]=""),"",IF([[#This Row],[Abs Error (g)]]<=[[#This Row],[Tolerance (g)]],"PASS","FAIL")) -> 0

Sheet Dashboard
A1: Calibration Verification Dashboard
A3: KPI | B3: Value
A4: Total Records | B4: =COUNTA(CalibLog[Date]) -> 0
A5: PASS Count | B5: =COUNTIF(CalibLog[Pass/Fail],"PASS") -> 0
A6: FAIL Count | B6: =COUNTIF(CalibLog[Pass/Fail],"FAIL") -> 0
A7: PASS Rate | B7: =IFERROR(B5/(B5+B6),0) -> 0
A10: Month | B10: Total | C10: Pass | D10: Pass Rate
A12: Jan | B12: =SUMPRODUCT(--(MONTH(CalibLog[Date])=1)) -> 0 | C12: =SUMPRODUCT(--(MONTH(CalibLog[Date])=1),--(CalibLog[Pass/Fail]="PASS")) -> 0 | D12: =IFERROR(C12/B12,0) -> 0
A13: Feb | B13: =SUMPRODUCT(--(MONTH(CalibLog[Date])=2)) -> 0 | C13: =SUMPRODUCT(--(MONTH(CalibLog[Date])=2),--(CalibLog[Pass/Fail]="PASS")) -> 0 | D13: =IFERROR(C13/B13,0) -> 0
A14: Mar | B14: =SUMPRODUCT(--(MONTH(CalibLog[Date])=3)) -> 0 | C14: =SUMPRODUCT(--(MONTH(CalibLog[Date])=3),--(CalibLog[Pass/Fail]="PASS")) -> 0 | D14: =IFERROR(C14/B14,0) -> 0
A15: Apr | B15: =SUMPRODUCT(--(MONTH(CalibLog[Date])=4)) -> 0 | C15: =SUMPRODUCT(--(MONTH(CalibLog[Date])=4),--(CalibLog[Pass/Fail]="PASS")) -> 0 | D15: =IFERROR(C15/B15,0) -> 0
A16: May | B16: =SUMPRODUCT(--(MONTH(CalibLog[Date])=5)) -> 0 | C16: =SUMPRODUCT(--(MONTH(CalibLog[Date])=5),--(CalibLog[Pass/Fail]="PASS")) -> 0 | D16: =IFERROR(C16/B16,0) -> 0
A17: Jun | B17: =SUMPRODUCT(--(MONTH(CalibLog[Date])=6)) -> 0 | C17: =SUMPRODUCT(--(MONTH(CalibLog[Date])=6),--(CalibLog[Pass/Fail]="PASS")) -> 0 | D17: =IFERROR(C17/B17,0) -> 0
A18: Jul | B18: =SUMPRODUCT(--(MONTH(CalibLog[Date])=7)) -> 0 | C18: =SUMPRODUCT(--(MONTH(CalibLog[Date])=7),--(CalibLog[Pass/Fail]="PASS")) -> 0 | D18: =IFERROR(C18/B18,0) -> 0
A19: Aug | B19: =SUMPRODUCT(--(MONTH(CalibLog[Date])=8)) -> 0 | C19: =SUMPRODUCT(--(MONTH(CalibLog[Date])=8),--(CalibLog[Pass/Fail]="PASS")) -> 0 | D19: =IFERROR(C19/B19,0) -> 0
A20: Sep | B20: =SUMPRODUCT(--(MONTH(CalibLog[Date])=9)) -> 0 | C20: =SUMPRODUCT(--(MONTH(CalibLog[Date])=9),--(CalibLog[Pass/Fail]="PASS")) -> 0 | D20: =IFERROR(C20/B20,0) -> 0
A21: Oct | B21: =SUMPRODUCT(--(MONTH(CalibLog[Date])=10)) -> 0 | C21: =SUMPRODUCT(--(MONTH(CalibLog[Date])=10),--(CalibLog[Pass/Fail]="PASS")) -> 0 | D21: =IFERROR(C21/B21,0) -> 0
A22: Nov | B22: =SUMPRODUCT(--(MONTH(CalibLog[Date])=11)) -> 0 | C22: =SUMPRODUCT(--(MONTH(CalibLog[Date])=11),--(CalibLog[Pass/Fail]="PASS")) -> 0 | D22: =IFERROR(C22/B22,0) -> 0
A23: Dec | B23: =SUMPRODUCT(--(MONTH(CalibLog[Date])=12)) -> 0 | C23: =SUMPRODUCT(--(MONTH(CalibLog[Date])=12),--(CalibLog[Pass/Fail]="PASS")) -> 0 | D23: =IFERROR(C23/B23,0) -> 0
