Workbook

Sheet Listes
A1: OuiNon | B1: Oui | C1: Non | D1: Partiel
A2: Statuts | B2: Planifié | C2: En cours | D2: Pour revue | E2: Approuvé | F2: Terminé | G2: En retard | H2: Bloqué
A3: Priorités | B3: Haute | C3: Moyenne | D3: Basse
A4: Energies | B4: Électricité | C4: Gaz
A5: Clauses50001 | B5: 4 Contexte | C5: 5 Leadership | D5: 6 Planification | E5: 7 Support | F5: 8 Opérations | G5: 9 Évaluation des performances | H5: 10 Amélioration

Sheet Checklist – Consultant ISO 50001
A1: Checklist – Consultant ISO 50001 (Conformité & Preuves)
A3: ID | B3: Clause ISO 50001 | C3: Exigence / Contrôle | D3: Critères d’acceptation (résultats attendus) | E3: Preuve / Lien (CDE) | F3: Responsable | G3: Échéance | H3: Statut | I3: Priorité | J3: Conforme (Oui/Non/Partiel) | K3: Commentaires | L3: Score risque (1-5)
A4: 1 | B4: 4 Contexte | C4: Périmètre SMEn défini et documenté | D4: Périmètre signé, sites inclus/exclus identifiés | F4: Energy Manager | H4: Planifié | I4: Moyenne | L4: 2
A5: 2 | B5: 5 Leadership | C5: Politique énergétique approuvée | D5: Version signée, diffusée | F5: Direction | H5: Planifié | I5: Haute | L5: 3
A6: 3 | B6: 6 Planification | C6: SEU identifiés & priorisés | D6: Méthode + scoring documentés | F6: Équipe énergie | H6: En cours | I6: Haute | J6: Partiel | L6: 4
A7: 4 | B7: 6 Planification | C7: Baseline & EnPI définis | D7: Formules + périodes + responsables | F7: Energy Manager | H7: Planifié | I7: Haute | L7: 4
A8: 5 | B8: 7 Support | C8: Compétences & formations | D8: Plan de formation en place | F8: RH/Qualité | H8: Planifié | I8: Moyenne | L8: 2
A9: 6 | B9: 8 Opérations | C9: Maîtrise opérationnelle des SEU | D9: Consignes écrites & preuves d'application | F9: Process owners | H9: Planifié | I9: Haute | L9: 4
A10: 7 | B10: 9 Éval. perf. | C10: M&V déployé (compteurs, BMS) | D10: Points de mesure et incertitudes déclarés | F10: Maintenance | H10: En cours | I10: Haute | J10: Partiel | L10: 4
A11: 8 | B11: 9 Éval. perf. | C11: Audit interne réalisé | D11: Rapport + NC/Obs traitées | F11: Qualité | H11: Planifié | I11: Moyenne | L11: 3
A12: 9 | B12: 10 Amélioration | C12: NC & actions correctives | D12: Efficacité vérifiée | F12: Qualité | H12: Planifié | I12: Moyenne | L12: 3
A13: 10 | B13: — | C13: Revue de direction tenue | D13: Décisions & ressources actées | F13: Direction | H13: Planifié | I13: Haute | L13: 3

Sheet Calcul simplifié – Actions
A1: Fiche de calcul simplifiée – Gains énergie, € et CO₂ (par action)
B3: Paramètres
B4: Taux d’actualisation (r) | C4: 0.08
B5: Durée (années, n) | C5: 5
B6: Tarif électricité (€/kWh) | C6: 0.12
B7: Tarif gaz (€/kWh) | C7: 0.06
B8: Facteur CO₂ élec (kg/kWh) | C8: 0.3
B9: Facteur CO₂ gaz (kg/kWh) | C9: 0.2
B11: Facteur d’annuité (AF) | C11: =IF(C4=0,"",(1-(1+C4)^(-C5))/C4)
B12: Note : remplacez tarifs & facteurs par vos valeurs réelles
A14: ID | B14: Site | C14: Énergie | D14: Usage/Processus | E14: Description action | F14: Baseline kWh/an | G14: Post kWh/an | H14: Gain kWh/an | I14: Tarif €/kWh | J14: Économies € /an | K14: Facteur CO₂ kg/kWh | L14: Gain CO₂ t/an | M14: CAPEX € | N14: OPEX €/an | O14: Économies nettes €/an | P14: Payback (années) | Q14: ROI % | R14: VAN / NPV (€) | S14: Statut | T14: Priorité | U14: Échéance | V14: Responsable | W14: Preuve/Lien | X14: Commentaires
A15: 1 | B15: Site A | C15: Électricité | D15: Air comprimé | E15: Réglage pression + détection fuites | F15: 480000 | G15: 420000 | H15: =MAX(0,F15-G15) | I15: =IF(C15="Électricité",$C$6,IF(C15="Gaz",$C$7,"")) | J15: =H15*I15 | K15: =IF(C15="Électricité",$C$8,IF(C15="Gaz",$C$9,"")) | L15: =IF(AND(H15>0,K15<>""),H15*K15/1000,"") | M15: 15000 | N15: 2000 | O15: =J15-N15 | P15: =IF(O15>0,M15/O15,"") | Q15: =IF(M15>0,O15/M15,"") | R15: =O15*$C$11 - M15 | S15: En cours | T15: Haute | V15: Maintenance
A16: 2 | B16: Site A | C16: Électricité | D16: HVAC/CVC | E16: Optimisation consignes + VFD tours | F16: 620000 | G16: 558000 | H16: =MAX(0,F16-G16) | I16: =IF(C16="Électricité",$C$6,IF(C16="Gaz",$C$7,"")) | J16: =H16*I16 | K16: =IF(C16="Électricité",$C$8,IF(C16="Gaz",$C$9,"")) | L16: =IF(AND(H16>0,K16<>""),H16*K16/1000,"") | M16: 20000 | N16: 2500 | O16: =J16-N16 | P16: =IF(O16>0,M16/O16,"") | Q16: =IF(M16>0,O16/M16,"") | R16: =O16*$C$11 - M16 | S16: Planifié | T16: Haute | V16: Facility
A17: 3 | B17: Site A | C17: Gaz | D17: Chaufferie | E17: Optimiser courbe de chauffe + purgeurs | F17: 1260000 | G17: 1171800 | H17: =MAX(0,F17-G17) | I17: =IF(C17="Électricité",$C$6,IF(C17="Gaz",$C$7,"")) | J17: =H17*I17 | K17: =IF(C17="Électricité",$C$8,IF(C17="Gaz",$C$9,"")) | L17: =IF(AND(H17>0,K17<>""),H17*K17/1000,"") | M17: 8000 | N17: 1000 | O17: =J17-N17 | P17: =IF(O17>0,M17/O17,"") | Q17: =IF(M17>0,O17/M17,"") | R17: =O17*$C$11 - M17 | S17: Bloqué | T17: Moyenne | V17: Maintenance | X17: Attente pièces purgeurs
A18: 4 | B18: Site B | C18: Électricité | D18: Éclairage | E18: LED + détection présence | F18: 180000 | G18: 90000 | H18: =MAX(0,F18-G18) | I18: =IF(C18="Électricité",$C$6,IF(C18="Gaz",$C$7,"")) | J18: =H18*I18 | K18: =IF(C18="Électricité",$C$8,IF(C18="Gaz",$C$9,"")) | L18: =IF(AND(H18>0,K18<>""),H18*K18/1000,"") | M18: 30000 | N18: 500 | O18: =J18-N18 | P18: =IF(O18>0,M18/O18,"") | Q18: =IF(M18>0,O18/M18,"") | R18: =O18*$C$11 - M18 | S18: En cours | T18: Moyenne | V18: Travaux
A19: 5 | B19: Site B | C19: Électricité | D19: Pompage | E19: VFD + recalage points | F19: 240000 | G19: 216000 | H19: =MAX(0,F19-G19) | I19: =IF(C19="Électricité",$C$6,IF(C19="Gaz",$C$7,"")) | J19: =H19*I19 | K19: =IF(C19="Électricité",$C$8,IF(C19="Gaz",$C$9,"")) | L19: =IF(AND(H19>0,K19<>""),H19*K19/1000,"") | M19: 18000 | N19: 1200 | O19: =J19-N19 | P19: =IF(O19>0,M19/O19,"") | Q19: =IF(M19>0,O19/M19,"") | R19: =O19*$C$11 - M19 | S19: Planifié | T19: Basse | V19: Process

Sheet Synthèse – Actions
A1: Synthèse – Totaux & KPI (Calcul simplifié)
A3: Total actions | B3: =COUNTA('Calcul simplifié – Actions'!A15:A600)
A4: Gain total kWh/an | B4: =SUM('Calcul simplifié – Actions'!H15:H600)
A5: Économies € brutes/an | B5: =SUM('Calcul simplifié – Actions'!J15:J600)
A6: Économies nettes €/an | B6: =SUM('Calcul simplifié – Actions'!O15:O600)
A7: CAPEX total € | B7: =SUM('Calcul simplifié – Actions'!M15:M600)
A8: Gain total CO₂ (t/an) | B8: =SUM('Calcul simplifié – Actions'!L15:L600)
A9: Payback global (ans) | B9: =IF(SUM('Calcul simplifié – Actions'!O15:O600)>0, SUM('Calcul simplifié – Actions'!M15:M600)/SUM('Calcul simplifié – Actions'!O15:O600), "")
A10: VAN totale (€) | B10: =SUM('Calcul simplifié – Actions'!R15:R600)
