Workbook

Sheet Catalogue

Sheet EPC_Checklist
A1: EPC — Check-list disponibilité • conformité • mise en place
A2: Site | B2: Zone/Poste | C2: Machine/Process | D2: EPC (type) | E2: Référence/ID | F2: Criticité (A/B/C) | G2: Norme/Doc (réf) | H2: Disponibilité (Oui/Non) | I2: Conformité (Conforme/Non conforme) | J2: Mise en place effective (Oui/Non) | K2: Date dernier contrôle | L2: Fréquence | M2: Prochaine visite (auto) | N2: Conformité globale (auto) | O2: Commentaire constat | P2: Action immédiate / containment | Q2: Action corrective | R2: Responsable | S2: Échéance action | T2: Statut action | U2: Preuve (photo/lien) | V2: Auditeur | W2: Date saisie
M3: =IF(K3="","",IF(L3="Quotidien",K3+1,IF(L3="Hebdomadaire",K3+7,IF(L3="Mensuel",K3+30,IF(L3="Trimestriel",K3+90,IF(L3="Annuel",K3+365,"")))))) | N3: =IF(AND(H3="Oui",I3="Conforme",J3="Oui"),"OK",IF(OR(H3="",I3="",J3=""),"", "Non conforme"))
M4: =IF(K4="","",IF(L4="Quotidien",K4+1,IF(L4="Hebdomadaire",K4+7,IF(L4="Mensuel",K4+30,IF(L4="Trimestriel",K4+90,IF(L4="Annuel",K4+365,"")))))) | N4: =IF(AND(H4="Oui",I4="Conforme",J4="Oui"),"OK",IF(OR(H4="",I4="",J4=""),"", "Non conforme"))
M5: =IF(K5="","",IF(L5="Quotidien",K5+1,IF(L5="Hebdomadaire",K5+7,IF(L5="Mensuel",K5+30,IF(L5="Trimestriel",K5+90,IF(L5="Annuel",K5+365,"")))))) | N5: =IF(AND(H5="Oui",I5="Conforme",J5="Oui"),"OK",IF(OR(H5="",I5="",J5=""),"", "Non conforme"))
M6: =IF(K6="","",IF(L6="Quotidien",K6+1,IF(L6="Hebdomadaire",K6+7,IF(L6="Mensuel",K6+30,IF(L6="Trimestriel",K6+90,IF(L6="Annuel",K6+365,"")))))) | N6: =IF(AND(H6="Oui",I6="Conforme",J6="Oui"),"OK",IF(OR(H6="",I6="",J6=""),"", "Non conforme"))
M7: =IF(K7="","",IF(L7="Quotidien",K7+1,IF(L7="Hebdomadaire",K7+7,IF(L7="Mensuel",K7+30,IF(L7="Trimestriel",K7+90,IF(L7="Annuel",K7+365,"")))))) | N7: =IF(AND(H7="Oui",I7="Conforme",J7="Oui"),"OK",IF(OR(H7="",I7="",J7=""),"", "Non conforme"))
M8: =IF(K8="","",IF(L8="Quotidien",K8+1,IF(L8="Hebdomadaire",K8+7,IF(L8="Mensuel",K8+30,IF(L8="Trimestriel",K8+90,IF(L8="Annuel",K8+365,"")))))) | N8: =IF(AND(H8="Oui",I8="Conforme",J8="Oui"),"OK",IF(OR(H8="",I8="",J8=""),"", "Non conforme"))
M9: =IF(K9="","",IF(L9="Quotidien",K9+1,IF(L9="Hebdomadaire",K9+7,IF(L9="Mensuel",K9+30,IF(L9="Trimestriel",K9+90,IF(L9="Annuel",K9+365,"")))))) | N9: =IF(AND(H9="Oui",I9="Conforme",J9="Oui"),"OK",IF(OR(H9="",I9="",J9=""),"", "Non conforme"))
M10: =IF(K10="","",IF(L10="Quotidien",K10+1,IF(L10="Hebdomadaire",K10+7,IF(L10="Mensuel",K10+30,IF(L10="Trimestriel",K10+90,IF(L10="Annuel",K10+365,"")))))) | N10: =IF(AND(H10="Oui",I10="Conforme",J10="Oui"),"OK",IF(OR(H10="",I10="",J10=""),"", "Non conforme"))
M11: =IF(K11="","",IF(L11="Quotidien",K11+1,IF(L11="Hebdomadaire",K11+7,IF(L11="Mensuel",K11+30,IF(L11="Trimestriel",K11+90,IF(L11="Annuel",K11+365,"")))))) | N11: =IF(AND(H11="Oui",I11="Conforme",J11="Oui"),"OK",IF(OR(H11="",I11="",J11=""),"", "Non conforme"))
M12: =IF(K12="","",IF(L12="Quotidien",K12+1,IF(L12="Hebdomadaire",K12+7,IF(L12="Mensuel",K12+30,IF(L12="Trimestriel",K12+90,IF(L12="Annuel",K12+365,"")))))) | N12: =IF(AND(H12="Oui",I12="Conforme",J12="Oui"),"OK",IF(OR(H12="",I12="",J12=""),"", "Non conforme"))
M13: =IF(K13="","",IF(L13="Quotidien",K13+1,IF(L13="Hebdomadaire",K13+7,IF(L13="Mensuel",K13+30,IF(L13="Trimestriel",K13+90,IF(L13="Annuel",K13+365,"")))))) | N13: =IF(AND(H13="Oui",I13="Conforme",J13="Oui"),"OK",IF(OR(H13="",I13="",J13=""),"", "Non conforme"))
M14: =IF(K14="","",IF(L14="Quotidien",K14+1,IF(L14="Hebdomadaire",K14+7,IF(L14="Mensuel",K14+30,IF(L14="Trimestriel",K14+90,IF(L14="Annuel",K14+365,"")))))) | N14: =IF(AND(H14="Oui",I14="Conforme",J14="Oui"),"OK",IF(OR(H14="",I14="",J14=""),"", "Non conforme"))
... M1000: =IF(K1000="","",IF(L1000="Quotidien",K1000+1,IF(L1000="Hebdomadaire",K1000+7,IF(L1000="Mensuel",K1000+30,IF(L1000="Trimestriel",K1000+90,IF(L1000="Annuel",K1000+365,"")))))) | N1000: =IF(AND(H1000="Oui",I1000="Conforme",J1000="Oui"),"OK",IF(OR(H1000="",I1000="",J1000=""),"", "Non conforme"))
A1001: Usine A | B1001: Ligne A – Capsulage | C1001: Visseuse A1 | D1001: Carter fixe + interverrouillage | E1001: EPC-CA-001 | F1001: A | G1001: STD-SAFE-01 | H1001: Oui | I1001: Conforme | J1001: Oui | K1001: 2025-08-15 | L1001: Hebdomadaire | O1001: OK à date | R1001: Chef d'équipe | T1001: Planifiée | V1001: Ali | W1001: 2025-08-17
A1002: Usine A | B1002: Ligne A – Capsulage | C1002: Convoyeur transfert | D1002: Protection latérale + carter grille | E1002: EPC-CA-002 | F1002: B | G1002: STD-SAFE-01 | H1002: Oui | I1002: Conforme | J1002: Oui | K1002: 2025-08-16 | L1002: Mensuel | O1002: RAS | R1002: Opérateur | T1002: Clôturée | V1002: Ali | W1002: 2025-08-17
A1003: Usine A | B1003: Ligne B – Remplissage | C1003: Zone entrée opérateur | D1003: Rideau lumineux cat.4 | E1003: EPC-RL-010 | F1003: A | G1003: STD-ISO-61496 | H1003: Oui | I1003: Conforme | J1003: Oui | K1003: 2025-08-12 | L1003: Hebdomadaire | O1003: Test OK (muting OK) | R1003: Maintenance | T1003: Planifiée | V1003: Nadia | W1003: 2025-08-17
A1004: Usine A | B1004: Ligne B – Remplissage | C1004: Trémie poudre | D1004: Hotte/aspiration localisée | E1004: EPC-ASP-021 | F1004: B | G1004: STD-HSE-ASP | H1004: Oui | I1004: Conforme | J1004: Oui | K1004: 2025-08-10 | L1004: Mensuel | O1004: Débit mesuré OK | R1004: HSE | T1004: Clôturée | V1004: Nadia | W1004: 2025-08-17
A1005: Usine A | B1005: Ligne C – Convoyage | C1005: Zone croisement | D1005: Barrière piétons + portillon | E1005: EPC-BAR-031 | F1005: B | G1005: STD-HSE-CIRC | H1005: Non | I1005: Non conforme | J1005: Non | K1005: 2025-08-17 | L1005: Quotidien | O1005: Allée ouverte, portillon HS | P1005: Rubalise + signalisation | Q1005: Remplacer portillon auto | R1005: Logistique | S1005: 2025-08-20 | T1005: En cours | U1005: Photos | V1005: Mouna | W1005: 2025-08-17
A1006: Usine A | B1006: Ligne C – Convoyage | C1006: Capotage moteur | D1006: Carter transparent + vis anti-perte | E1006: EPC-CA-033 | F1006: C | G1006: STD-SAFE-02 | H1006: Oui | I1006: Conforme | J1006: Oui | K1006: 2025-08-14 | L1006: Mensuel | O1006: RAS | R1006: Opérateur | T1006: Planifiée | V1006: Mouna | W1006: 2025-08-17
A1007: Usine A | B1007: Poste pesée | C1007: Ventilation captage | D1007: Bras d’aspiration + manchette | E1007: EPC-ASP-055 | F1007: A | G1007: STD-HSE-ASP | H1007: Oui | I1007: Non conforme | J1007: Oui | K1007: 2025-08-08 | L1007: Hebdomadaire | O1007: Débit insuffisant | P1007: Limiter exposition | Q1007: Changer cartouche + réglage | R1007: HSE | S1007: 2025-08-18 | T1007: Planifiée | U1007: Mesure | V1007: Sana | W1007: 2025-08-17
A1008: Usine A | B1008: Zone maintenance | C1008: Établi meulage | D1008: Écran pare-étincelles | E1008: EPC-ECR-070 | F1008: B | G1008: STD-HSE-ATEX | H1008: Non | I1008: Non conforme | J1008: Non | K1008: 2025-08-17 | L1008: Quotidien | O1008: Écran manquant | P1008: Interdire opération | Q1008: Commander écran | R1008: Maintenance | S1008: 2025-08-19 | T1008: En cours | U1008: Photo | V1008: Karim | W1008: 2025-08-17
A1009: Usine A | B1009: Couloir logistique | C1009: Croisement chariots/piétons | D1009: Marquage au sol + panneaux | E1009: EPC-SIG-091 | F1009: C | G1009: STD-HSE-CIRC | H1009: Oui | I1009: Conforme | J1009: Oui | K1009: 2025-08-09 | L1009: Mensuel | O1009: Marquage OK | R1009: Logistique | T1009: Clôturée | V1009: Hiba | W1009: 2025-08-17
A1010: Usine A | B1010: Labo QC | C1010: Sorbonne chimique | D1010: Sorbonne + alarme débit | E1010: EPC-SORB-101 | F1010: A | G1010: STD-LAB-VENT | H1010: Oui | I1010: Conforme | J1010: Oui | K1010: 2025-08-07 | L1010: Mensuel | O1010: Essai alarme OK | R1010: Qualité | T1010: Planifiée | V1010: Ali | W1010: 2025-08-17

Sheet EPC_Monitoring
A1: EPC — Monitoring & KPI
A2: KPIs EPC | D2: KPIs EPC
A3: Total lignes (EPC) | B3: =COUNTA(EPC_Checklist!D3:D1000) | D3: Criticité A — Non conforme | E3: =COUNTIFS(EPC_Checklist!F3:F1000,"A",EPC_Checklist!N3:N1000,"Non conforme")
A4: % conformité globale | B4: =IF(B3=0,"",ROUND(100*COUNTIF(EPC_Checklist!N3:N1000,"OK")/B3,1)) | D4: Criticité B — Non conforme | E4: =COUNTIFS(EPC_Checklist!F3:F1000,"B",EPC_Checklist!N3:N1000,"Non conforme")
D5: Criticité C — Non conforme | E5: =COUNTIFS(EPC_Checklist!F3:F1000,"C",EPC_Checklist!N3:N1000,"Non conforme")
A6: Non dispo (H=Non) | B6: =COUNTIF(EPC_Checklist!H3:H1000,"Non")
A7: Non conforme (I=Non conforme) | B7: =COUNTIF(EPC_Checklist!I3:I1000,"Non conforme")
A8: Non en place (J=Non) | B8: =COUNTIF(EPC_Checklist!J3:J1000,"Non")
A10: Inspections en retard | B10: =COUNTIF(EPC_Checklist!M3:M1000,"<"&TODAY())
A11: Actions en retard | B11: =COUNTIFS(EPC_Checklist!T3:T1000,"<>Clôturée",EPC_Checklist!S3:S1000,"<"&TODAY())
A13: Carter(s) non conformes | B13: =COUNTIFS(EPC_Checklist!D3:D1000,"*Carter*",EPC_Checklist!N3:N1000,"Non conforme")
A14: Rideau(x) non conformes | B14: =COUNTIFS(EPC_Checklist!D3:D1000,"*Rideau lumineux*",EPC_Checklist!N3:N1000,"Non conforme")
A15: Barrières piétons non conformes | B15: =COUNTIFS(EPC_Checklist!D3:D1000,"*Barrière piétons*",EPC_Checklist!N3:N1000,"Non conforme")
A16: Aspiration/Hotte non conforme | B16: =COUNTIFS(EPC_Checklist!D3:D1000,"*Aspiration/Hotte*",EPC_Checklist!N3:N1000,"Non conforme")
A17: Signalisation non conforme | B17: =COUNTIFS(EPC_Checklist!D3:D1000,"*Signalisation*",EPC_Checklist!N3:N1000,"Non conforme")
A18: Sorbonne non conforme | B18: =COUNTIFS(EPC_Checklist!D3:D1000,"*Sorbonne*",EPC_Checklist!N3:N1000,"Non conforme")
