Workbook

Sheet Inventaire Cuisine
A1: Tableau Principal - Inventaire Cuisine
A3: Produits frais
A4: Nom du produit | B4: Catégorie | C4: Quantité | D4: Unité | E4: Quantité minimale | F4: Prix unitaire | G4: Valeur de stock
G5: =C5*F5
G6: =C6*F6
G7: =C7*F7
G8: =C8*F8
G9: =C9*F9
G10: =C10*F10
G11: =C11*F11
G12: =C12*F12
G13: =C13*F13
G14: =C14*F14
A15: KPI - Produits frais
A16: Valeur totale | B16: =SUM(G5:G14)
A17: Nombre d’articles | B17: =COUNTA(A5:A14)
A18: Valeur moyenne | B18: =IF(B16=0,0,B16/B17)
A21: Produits secs
A22: Nom du produit | B22: Catégorie | C22: Quantité | D22: Unité | E22: Quantité minimale | F22: Prix unitaire | G22: Valeur de stock
G23: =C23*F23
G24: =C24*F24
G25: =C25*F25
G26: =C26*F26
G27: =C27*F27
G28: =C28*F28
G29: =C29*F29
G30: =C30*F30
G31: =C31*F31
G32: =C32*F32
A33: KPI - Produits secs
A34: Valeur totale | B34: =SUM(G23:G32)
A35: Nombre d’articles | B35: =COUNTA(A23:A32)
A36: Valeur moyenne | B36: =IF(B34=0,0,B34/B35)
A39: Boissons
A40: Nom du produit | B40: Catégorie | C40: Quantité | D40: Unité | E40: Quantité minimale | F40: Prix unitaire | G40: Valeur de stock
G41: =C41*F41
G42: =C42*F42
G43: =C43*F43
G44: =C44*F44
G45: =C45*F45
...

Sheet Tableau de bord
A1: Tableau de Bord - Inventaire Cuisine
A2: Catégorie | B2: Valeur totale | C2: Nombre d’articles | D2: Valeur moyenne
A3: Produits frais | B3: ='Inventaire Cuisine'!B19 | C3: ='Inventaire Cuisine'!B20 | D3: ='Inventaire Cuisine'!B21
A4: Produits secs | B4: ='Inventaire Cuisine'!B36 | C4: ='Inventaire Cuisine'!B37 | D4: ='Inventaire Cuisine'!B38
A5: Boissons | B5: ='Inventaire Cuisine'!B53 | C5: ='Inventaire Cuisine'!B54 | D5: ='Inventaire Cuisine'!B55
A6: Épices & condiments | B6: ='Inventaire Cuisine'!B70 | C6: ='Inventaire Cuisine'!B71 | D6: ='Inventaire Cuisine'!B72
