Workbook

Sheet PAIE_MENSUELLE
A1: FICHE DE PAIE MENSUELLE - MULTI-SALARIÉS (BELGIQUE)
A2: ID | B2: Nom | C2: Mois | D2: Brut (€) | E2: Avantages (€) | F2: Base ONSS (€) | G2: ONSS (€) | H2: Cot. spéciale (€) | I2: Pr. prof. (€) | J2: Autres retenues (€) | K2: Total retenues (€) | L2: Net à payer (€) | M2: Compte bancaire | N2: Observations
A3: 1 | B3: Dupont Jean | C3: Janvier | D3: 3000 | E3: 150 | F3: =D3+E3 | G3: =F3*13.07/100 | H3: 30 | I3: 375 | J3: 20 | K3: =G3+H3+I3+J3 | L3: =D3+E3-K3 | M3: BE123
A4: 1 | B4: Dupont Jean | C4: Février | D4: 3000 | E4: 150 | F4: =D4+E4 | G4: =F4*13.07/100 | H4: 30 | I4: 375 | J4: 20 | K4: =G4+H4+I4+J4 | L4: =D4+E4-K4 | M4: BE123
A5: 2 | B5: Van Dijk Lea | C5: Janvier | D5: 2800 | E5: 100 | F5: =D5+E5 | G5: =F5*13.07/100 | H5: 28 | I5: 320 | J5: 15 | K5: =G5+H5+I5+J5 | L5: =D5+E5-K5 | M5: BE456
A6: 2 | B6: Van Dijk Lea | C6: Février | D6: 2800 | E6: 100 | F6: =D6+E6 | G6: =F6*13.07/100 | H6: 28 | I6: 320 | J6: 15 | K6: =G6+H6+I6+J6 | L6: =D6+E6-K6 | M6: BE456
A7: 3 | B7: Timmerman Luc | C7: Janvier | D7: 3200 | E7: 200 | F7: =D7+E7 | G7: =F7*13.07/100 | H7: 35 | I7: 400 | J7: 25 | K7: =G7+H7+I7+J7 | L7: =D7+E7-K7 | M7: BE789

Sheet RÉCAP_ANNUEL
A1: RÉCAPITULATIF ANNUEL PAR SALARIÉ
A2: ID | B2: Nom | C2: Total Brut (€) | D2: Total Retenues (€) | E2: Total Net (€) | F2: Nombre de mois | G2: Compte bancaire
A3: 1 | B3: Dupont Jean | C3: =SUMIF(PAIE_MENSUELLE!A:A,1,PAIE_MENSUELLE!D:D) | D3: =SUMIF(PAIE_MENSUELLE!A:A,1,PAIE_MENSUELLE!K:K) | E3: =SUMIF(PAIE_MENSUELLE!A:A,1,PAIE_MENSUELLE!L:L) | F3: =COUNTIF(PAIE_MENSUELLE!A:A,1) | G3: BE123
A4: 2 | B4: Van Dijk Lea | C4: =SUMIF(PAIE_MENSUELLE!A:A,2,PAIE_MENSUELLE!D:D) | D4: =SUMIF(PAIE_MENSUELLE!A:A,2,PAIE_MENSUELLE!K:K) | E4: =SUMIF(PAIE_MENSUELLE!A:A,2,PAIE_MENSUELLE!L:L) | F4: =COUNTIF(PAIE_MENSUELLE!A:A,2) | G4: BE456
A5: 3 | B5: Timmerman Luc | C5: =SUMIF(PAIE_MENSUELLE!A:A,3,PAIE_MENSUELLE!D:D) | D5: =SUMIF(PAIE_MENSUELLE!A:A,3,PAIE_MENSUELLE!K:K) | E5: =SUMIF(PAIE_MENSUELLE!A:A,3,PAIE_MENSUELLE!L:L) | F5: =COUNTIF(PAIE_MENSUELLE!A:A,3) | G5: BE789

Sheet BILAN_MENSUEL_SERVICE
A1: BILAN MENSUEL PAR SERVICE
A2: Mois | B2: Service | C2: Total Brut (€) | D2: Total Retenues (€) | E2: Total Net (€)
A3: Janvier | B3: Administration | C3: =SUMIFS(PAIE_MENSUELLE!D:D, PAIE_MENSUELLE!A:A, 1, PAIE_MENSUELLE!C:C, "Janvier") | D3: =SUMIFS(PAIE_MENSUELLE!K:K, PAIE_MENSUELLE!A:A, 1, PAIE_MENSUELLE!C:C, "Janvier") | E3: =SUMIFS(PAIE_MENSUELLE!L:L, PAIE_MENSUELLE!A:A, 1, PAIE_MENSUELLE!C:C, "Janvier")
A4: Janvier | B4: Commercial | C4: =SUMIFS(PAIE_MENSUELLE!D:D, PAIE_MENSUELLE!A:A, 2, PAIE_MENSUELLE!C:C, "Janvier") | D4: =SUMIFS(PAIE_MENSUELLE!K:K, PAIE_MENSUELLE!A:A, 2, PAIE_MENSUELLE!C:C, "Janvier") | E4: =SUMIFS(PAIE_MENSUELLE!L:L, PAIE_MENSUELLE!A:A, 2, PAIE_MENSUELLE!C:C, "Janvier")
A5: Janvier | B5: Production | C5: =SUMIFS(PAIE_MENSUELLE!D:D, PAIE_MENSUELLE!A:A, 3, PAIE_MENSUELLE!C:C, "Janvier") | D5: =SUMIFS(PAIE_MENSUELLE!K:K, PAIE_MENSUELLE!A:A, 3, PAIE_MENSUELLE!C:C, "Janvier") | E5: =SUMIFS(PAIE_MENSUELLE!L:L, PAIE_MENSUELLE!A:A, 3, PAIE_MENSUELLE!C:C, "Janvier")
A6: Février | B6: Administration | C6: =SUMIFS(PAIE_MENSUELLE!D:D, PAIE_MENSUELLE!A:A, 1, PAIE_MENSUELLE!C:C, "Février") | D6: =SUMIFS(PAIE_MENSUELLE!K:K, PAIE_MENSUELLE!A:A, 1, PAIE_MENSUELLE!C:C, "Février") | E6: =SUMIFS(PAIE_MENSUELLE!L:L, PAIE_MENSUELLE!A:A, 1, PAIE_MENSUELLE!C:C, "Février")
A7: Février | B7: Commercial | C7: =SUMIFS(PAIE_MENSUELLE!D:D, PAIE_MENSUELLE!A:A, 2, PAIE_MENSUELLE!C:C, "Février") | D7: =SUMIFS(PAIE_MENSUELLE!K:K, PAIE_MENSUELLE!A:A, 2, PAIE_MENSUELLE!C:C, "Février") | E7: =SUMIFS(PAIE_MENSUELLE!L:L, PAIE_MENSUELLE!A:A, 2, PAIE_MENSUELLE!C:C, "Février")
