Workbook

Sheet Données Utilisateurs
A1: Fournisseur | B1: Catégorie | C1: Référent | D1: Commandes | E1: Conformité Qualité (%) | F1: Respect Délais (%) | G1: Non-conformités | H1: Réactivité (j) | I1: Satisfaction (1-5) | J1: Retards | K1: Écart Prix (%)
A2: F1 | B2: Électronique | C2: Durand | D2: 50 | E2: 96 | F2: 93 | G2: 1 | H2: 2.5 | I2: 5 | J2: 1 | K2: 0.5
A3: F1 | B3: Électronique | C3: Durand | D3: 40 | E3: 95 | F3: 91 | G3: 0 | H3: 2 | I3: 4 | J3: 0 | K3: 1
A4: F2 | B4: Textile | C4: Martin | D4: 60 | E4: 91 | F4: 88 | G4: 2 | H4: 3.5 | I4: 4 | J4: 2 | K4: -0.5
A5: F2 | B5: Textile | C5: Martin | D5: 45 | E5: 90 | F5: 86 | G5: 1 | H5: 3.8 | I5: 3 | J5: 1 | K5: 0.2
A6: F3 | B6: Métaux | C6: Nguyen | D6: 55 | E6: 87 | F6: 90 | G6: 2 | H6: 2.8 | I6: 2 | J6: 0 | K6: -1
A7: F3 | B7: Métaux | C7: Nguyen | D7: 60 | E7: 89 | F7: 91 | G7: 3 | H7: 3 | I7: 3 | J7: 1 | K7: -0.8
A8: F1 | B8: Électronique | C8: Durand | D8: 30 | E8: 97 | F8: 94 | G8: 0 | H8: 2.2 | I8: 5 | J8: 0 | K8: 0.3
A9: F2 | B9: Textile | C9: Martin | D9: 50 | E9: 92 | F9: 87 | G9: 2 | H9: 3.1 | I9: 4 | J9: 1 | K9: 0
A10: F3 | B10: Métaux | C10: Nguyen | D10: 50 | E10: 88 | F10: 89 | G10: 2 | H10: 3.3 | I10: 3 | J10: 2 | K10: -0.6
A11: F1 | B11: Électronique | C11: Durand | D11: 60 | E11: 94 | F11: 92 | G11: 1 | H11: 2.1 | I11: 4 | J11: 1 | K11: 0.7

Sheet KPI Synthèse
A1: Fournisseur | B1: Commandes | C1: Qualité Moy. (%) | D1: Délais Moy. (%) | E1: Non-conformités Moy. | F1: Réactivité Moy. (j) | G1: Satisfaction Moy. | H1: Retards | I1: Écart Prix Moy. (%) | J1: Performance Globale (%)
A2: F1 | B2: =IFERROR(SUMIF('Données Utilisateurs'!A:A, A2, 'Données Utilisateurs'!D:D), 0) | C2: =IFERROR(AVERAGEIF('Données Utilisateurs'!A:A, A2, 'Données Utilisateurs'!E:E), 0) | D2: =IFERROR(AVERAGEIF('Données Utilisateurs'!A:A, A2, 'Données Utilisateurs'!F:F), 0) | E2: =IFERROR(AVERAGEIF('Données Utilisateurs'!A:A, A2, 'Données Utilisateurs'!G:G), 0) | F2: =IFERROR(AVERAGEIF('Données Utilisateurs'!A:A, A2, 'Données Utilisateurs'!H:H), 0) | G2: =IFERROR(AVERAGEIF('Données Utilisateurs'!A:A, A2, 'Données Utilisateurs'!I:I), 0) | H2: =IFERROR(AVERAGEIF('Données Utilisateurs'!A:A, A2, 'Données Utilisateurs'!J:J), 0) | I2: =IFERROR(AVERAGEIF('Données Utilisateurs'!A:A, A2, 'Données Utilisateurs'!K:K), 0) | J2: =IFERROR(ROUND(((C2+D2+7*E2-2*F2+G2)/5), 2), 0)
A3: F2 | B3: =IFERROR(SUMIF('Données Utilisateurs'!A:A, A3, 'Données Utilisateurs'!D:D), 0) | C3: =IFERROR(AVERAGEIF('Données Utilisateurs'!A:A, A3, 'Données Utilisateurs'!E:E), 0) | D3: =IFERROR(AVERAGEIF('Données Utilisateurs'!A:A, A3, 'Données Utilisateurs'!F:F), 0) | E3: =IFERROR(AVERAGEIF('Données Utilisateurs'!A:A, A3, 'Données Utilisateurs'!G:G), 0) | F3: =IFERROR(AVERAGEIF('Données Utilisateurs'!A:A, A3, 'Données Utilisateurs'!H:H), 0) | G3: =IFERROR(AVERAGEIF('Données Utilisateurs'!A:A, A3, 'Données Utilisateurs'!I:I), 0) | H3: =IFERROR(AVERAGEIF('Données Utilisateurs'!A:A, A3, 'Données Utilisateurs'!J:J), 0) | I3: =IFERROR(AVERAGEIF('Données Utilisateurs'!A:A, A3, 'Données Utilisateurs'!K:K), 0) | J3: =IFERROR(ROUND(((C3+D3+7*E3-2*F3+G3)/5), 2), 0)
A4: F3 | B4: =IFERROR(SUMIF('Données Utilisateurs'!A:A, A4, 'Données Utilisateurs'!D:D), 0) | C4: =IFERROR(AVERAGEIF('Données Utilisateurs'!A:A, A4, 'Données Utilisateurs'!E:E), 0) | D4: =IFERROR(AVERAGEIF('Données Utilisateurs'!A:A, A4, 'Données Utilisateurs'!F:F), 0) | E4: =IFERROR(AVERAGEIF('Données Utilisateurs'!A:A, A4, 'Données Utilisateurs'!G:G), 0) | F4: =IFERROR(AVERAGEIF('Données Utilisateurs'!A:A, A4, 'Données Utilisateurs'!H:H), 0) | G4: =IFERROR(AVERAGEIF('Données Utilisateurs'!A:A, A4, 'Données Utilisateurs'!I:I), 0) | H4: =IFERROR(AVERAGEIF('Données Utilisateurs'!A:A, A4, 'Données Utilisateurs'!J:J), 0) | I4: =IFERROR(AVERAGEIF('Données Utilisateurs'!A:A, A4, 'Données Utilisateurs'!K:K), 0) | J4: =IFERROR(ROUND(((C4+D4+7*E4-2*F4+G4)/5), 2), 0)
