Workbook

Sheet Formulaire Générique Complet
A1: 📋 FORMULAIRE GÉNÉRIQUE COMPLET AVEC TABLEAUX
A3: 1. INFORMATIONS GÉNÉRALES
A4: Nom / Prénom :
A5: Date : | C5: 2025-06-22
A6: Objet de la demande :
A7: Service concerné :
A8: Type de demande :
A9: 2. DÉTAILS DE LA DEMANDE
A10: Description de la demande :
A11: Justification :
A12: Date souhaitée :
A13: Priorité :
A14: Responsable affecté :
A15: 📦 Ressources nécessaires (si applicable)
A16: Type | B16: Référence | C16: Quantité | D16: Commentaire
A22: 3. VALIDATION ET SUIVI
A23: Responsable validation :
A24: Date de validation :
A25: Statut :
A26: Commentaires :
A27: ⏳ Délai estimé (jours) : | C27: =IF(ISNUMBER(C6)*ISNUMBER(C12), C12 - C6, "")

Sheet Suivi des Demandes
A1: ID | B1: Nom / Prénom | C1: Date Demande | D1: Objet | E1: Service | F1: Type de Demande | G1: Date Souhaitée | H1: Priorité | I1: Statut | J1: Responsable Validation | K1: Date Validation | L1: Délai (jours)
A2: =ROW()-1 -> 1 | B2: ='Formulaire Générique Complet'!C4 -> 0 | C2: ='Formulaire Générique Complet'!C5 -> 2025-06-22 | D2: ='Formulaire Générique Complet'!C6 -> 0 | E2: ='Formulaire Générique Complet'!C7 -> 0 | F2: ='Formulaire Générique Complet'!C8 -> 0 | G2: ='Formulaire Générique Complet'!C12 -> 0 | H2: ='Formulaire Générique Complet'!C13 -> 0 | I2: ='Formulaire Générique Complet'!C19 -> 0 | J2: ='Formulaire Générique Complet'!C17 -> 0 | K2: ='Formulaire Générique Complet'!C18 -> 0 | L2: ='Formulaire Générique Complet'!C20 -> 0

Sheet Suivi Recrutement
A1: ID | B1: Nom du Demandeur | C1: Date de Demande | D1: Poste Requis | E1: Service | F1: Type de Contrat | G1: Date Souhaitée | H1: Niveau d'Urgence | I1: Profil Recherché | J1: Statut | K1: Date de Validation | L1: Responsable RH | M1: Commentaire
A2: =ROW()-1 -> 1 | B2: ='Formulaire Générique Complet'!C4 -> 0 | C2: ='Formulaire Générique Complet'!C5 -> 2025-06-22 | D2: ='Formulaire Générique Complet'!C6 -> 0 | E2: ='Formulaire Générique Complet'!C7 -> 0 | F2: ='Formulaire Générique Complet'!C8 -> 0 | G2: ='Formulaire Générique Complet'!C12 -> 0 | H2: ='Formulaire Générique Complet'!C13 -> 0 | I2: ='Formulaire Générique Complet'!C11 -> 0 | J2: ='Formulaire Générique Complet'!C19 -> 0 | K2: ='Formulaire Générique Complet'!C18 -> 0 | L2: ='Formulaire Générique Complet'!C17 -> 0 | M2: ='Formulaire Générique Complet'!C20 -> 0
