Workbook

Sheet Saisie Données
A1: Date | B1: Indicateur | C1: Valeur Mesurée | D1: Seuil Cible
A2: 01/06/2025 | B2: Qualité (%) | C2: 93 | D2: 95
A3: 01/06/2025 | B3: Délais livrés à temps (%) | C3: 88 | D3: 90
A4: 01/06/2025 | B4: TRS (%) | C4: 76 | D4: 85
A5: 01/06/2025 | B5: Taux de rebuts (%) | C5: 3.5 | D5: 2
A6: 01/06/2025 | B6: Disponibilité Machine (%) | C6: 85 | D6: 92
A7: 01/06/2025 | B7: MTTR (min) | C7: 40 | D7: 30
A8: 01/06/2025 | B8: MTBF (heures) | C8: 100 | D8: 120
A9: 01/06/2025 | B9: Taux d'absentéisme (%) | C9: 4.2 | D9: 2
A10: 01/06/2025 | B10: Nombre d'incidents qualité | C10: 12 | D10: 5
A11: 01/06/2025 | B11: Coût de la non-qualité (€) | C11: 2200 | D11: 1000
A12: 01/06/2025 | B12: Taux de charge RH (%) | C12: 98 | D12: 85
A13: 01/06/2025 | B13: Nombre de postes vacants | C13: 7 | D13: 3
A14: 01/06/2025 | B14: Temps moyen de recrutement (jours) | C14: 45 | D14: 30

Sheet Analyse & Résultats
A1: Indicateur | B1: Valeur | C1: Seuil | D1: Écart | E1: État | F1: Recommandation RH | G1: Priorité | H1: Recrutement Nécessaire
A2: ='Saisie Données'!B2 -> 0 | B2: ='Saisie Données'!C2 -> 0 | C2: ='Saisie Données'!D2 -> 0 | D2: =C2-B2 -> 0 | E2: =IF(D2>0,"🔴 Alerte","🟢 OK") -> 0 | F2: =IF(E2="🔴 Alerte","Former / Recruter / Réorganiser","Aucune") -> 0 | G2: =IF(D2>10,"Haute",IF(D2>5,"Moyenne","Basse")) -> 0 | H2: =IF(AND(A2="Taux de charge RH (%)",D2>10),"Oui",IF(AND(A2="Nombre de postes vacants",D2>2),"Oui",IF(AND(A2="Temps moyen de recrutement (jours)",D2>5),"Oui","Non"))) -> 0
A3: ='Saisie Données'!B3 -> 0 | B3: ='Saisie Données'!C3 -> 0 | C3: ='Saisie Données'!D3 -> 0 | D3: =C3-B3 -> 0 | E3: =IF(D3>0,"🔴 Alerte","🟢 OK") -> 0 | F3: =IF(E3="🔴 Alerte","Former / Recruter / Réorganiser","Aucune") -> 0 | G3: =IF(D3>10,"Haute",IF(D3>5,"Moyenne","Basse")) -> 0 | H3: =IF(AND(A3="Taux de charge RH (%)",D3>10),"Oui",IF(AND(A3="Nombre de postes vacants",D3>2),"Oui",IF(AND(A3="Temps moyen de recrutement (jours)",D3>5),"Oui","Non"))) -> 0
A4: ='Saisie Données'!B4 -> 0 | B4: ='Saisie Données'!C4 -> 0 | C4: ='Saisie Données'!D4 -> 0 | D4: =C4-B4 -> 0 | E4: =IF(D4>0,"🔴 Alerte","🟢 OK") -> 0 | F4: =IF(E4="🔴 Alerte","Former / Recruter / Réorganiser","Aucune") -> 0 | G4: =IF(D4>10,"Haute",IF(D4>5,"Moyenne","Basse")) -> 0 | H4: =IF(AND(A4="Taux de charge RH (%)",D4>10),"Oui",IF(AND(A4="Nombre de postes vacants",D4>2),"Oui",IF(AND(A4="Temps moyen de recrutement (jours)",D4>5),"Oui","Non"))) -> 0
A5: ='Saisie Données'!B5 -> 0 | B5: ='Saisie Données'!C5 -> 0 | C5: ='Saisie Données'!D5 -> 0 | D5: =C5-B5 -> 0 | E5: =IF(D5>0,"🔴 Alerte","🟢 OK") -> 0 | F5: =IF(E5="🔴 Alerte","Former / Recruter / Réorganiser","Aucune") -> 0 | G5: =IF(D5>10,"Haute",IF(D5>5,"Moyenne","Basse")) -> 0 | H5: =IF(AND(A5="Taux de charge RH (%)",D5>10),"Oui",IF(AND(A5="Nombre de postes vacants",D5>2),"Oui",IF(AND(A5="Temps moyen de recrutement (jours)",D5>5),"Oui","Non"))) -> 0
A6: ='Saisie Données'!B6 -> 0 | B6: ='Saisie Données'!C6 -> 0 | C6: ='Saisie Données'!D6 -> 0 | D6: =C6-B6 -> 0 | E6: =IF(D6>0,"🔴 Alerte","🟢 OK") -> 0 | F6: =IF(E6="🔴 Alerte","Former / Recruter / Réorganiser","Aucune") -> 0 | G6: =IF(D6>10,"Haute",IF(D6>5,"Moyenne","Basse")) -> 0 | H6: =IF(AND(A6="Taux de charge RH (%)",D6>10),"Oui",IF(AND(A6="Nombre de postes vacants",D6>2),"Oui",IF(AND(A6="Temps moyen de recrutement (jours)",D6>5),"Oui","Non"))) -> 0
A7: ='Saisie Données'!B7 -> 0 | B7: ='Saisie Données'!C7 -> 0 | C7: ='Saisie Données'!D7 -> 0 | D7: =C7-B7 -> 0 | E7: =IF(D7>0,"🔴 Alerte","🟢 OK") -> 0 | F7: =IF(E7="🔴 Alerte","Former / Recruter / Réorganiser","Aucune") -> 0 | G7: =IF(D7>10,"Haute",IF(D7>5,"Moyenne","Basse")) -> 0 | H7: =IF(AND(A7="Taux de charge RH (%)",D7>10),"Oui",IF(AND(A7="Nombre de postes vacants",D7>2),"Oui",IF(AND(A7="Temps moyen de recrutement (jours)",D7>5),"Oui","Non"))) -> 0
A8: ='Saisie Données'!B8 -> 0 | B8: ='Saisie Données'!C8 -> 0 | C8: ='Saisie Données'!D8 -> 0 | D8: =C8-B8 -> 0 | E8: =IF(D8>0,"🔴 Alerte","🟢 OK") -> 0 | F8: =IF(E8="🔴 Alerte","Former / Recruter / Réorganiser","Aucune") -> 0 | G8: =IF(D8>10,"Haute",IF(D8>5,"Moyenne","Basse")) -> 0 | H8: =IF(AND(A8="Taux de charge RH (%)",D8>10),"Oui",IF(AND(A8="Nombre de postes vacants",D8>2),"Oui",IF(AND(A8="Temps moyen de recrutement (jours)",D8>5),"Oui","Non"))) -> 0
A9: ='Saisie Données'!B9 -> 0 | B9: ='Saisie Données'!C9 -> 0 | C9: ='Saisie Données'!D9 -> 0 | D9: =C9-B9 -> 0 | E9: =IF(D9>0,"🔴 Alerte","🟢 OK") -> 0 | F9: =IF(E9="🔴 Alerte","Former / Recruter / Réorganiser","Aucune") -> 0 | G9: =IF(D9>10,"Haute",IF(D9>5,"Moyenne","Basse")) -> 0 | H9: =IF(AND(A9="Taux de charge RH (%)",D9>10),"Oui",IF(AND(A9="Nombre de postes vacants",D9>2),"Oui",IF(AND(A9="Temps moyen de recrutement (jours)",D9>5),"Oui","Non"))) -> 0
A10: ='Saisie Données'!B10 -> 0 | B10: ='Saisie Données'!C10 -> 0 | C10: ='Saisie Données'!D10 -> 0 | D10: =C10-B10 -> 0 | E10: =IF(D10>0,"🔴 Alerte","🟢 OK") -> 0 | F10: =IF(E10="🔴 Alerte","Former / Recruter / Réorganiser","Aucune") -> 0 | G10: =IF(D10>10,"Haute",IF(D10>5,"Moyenne","Basse")) -> 0 | H10: =IF(AND(A10="Taux de charge RH (%)",D10>10),"Oui",IF(AND(A10="Nombre de postes vacants",D10>2),"Oui",IF(AND(A10="Temps moyen de recrutement (jours)",D10>5),"Oui","Non"))) -> 0
A11: ='Saisie Données'!B11 -> 0 | B11: ='Saisie Données'!C11 -> 0 | C11: ='Saisie Données'!D11 -> 0 | D11: =C11-B11 -> 0 | E11: =IF(D11>0,"🔴 Alerte","🟢 OK") -> 0 | F11: =IF(E11="🔴 Alerte","Former / Recruter / Réorganiser","Aucune") -> 0 | G11: =IF(D11>10,"Haute",IF(D11>5,"Moyenne","Basse")) -> 0 | H11: =IF(AND(A11="Taux de charge RH (%)",D11>10),"Oui",IF(AND(A11="Nombre de postes vacants",D11>2),"Oui",IF(AND(A11="Temps moyen de recrutement (jours)",D11>5),"Oui","Non"))) -> 0
A12: ='Saisie Données'!B12 -> 0 | B12: ='Saisie Données'!C12 -> 0 | C12: ='Saisie Données'!D12 -> 0 | D12: =C12-B12 -> 0 | E12: =IF(D12>0,"🔴 Alerte","🟢 OK") -> 0 | F12: =IF(E12="🔴 Alerte","Former / Recruter / Réorganiser","Aucune") -> 0 | G12: =IF(D12>10,"Haute",IF(D12>5,"Moyenne","Basse")) -> 0 | H12: =IF(AND(A12="Taux de charge RH (%)",D12>10),"Oui",IF(AND(A12="Nombre de postes vacants",D12>2),"Oui",IF(AND(A12="Temps moyen de recrutement (jours)",D12>5),"Oui","Non"))) -> 0
A13: ='Saisie Données'!B13 -> 0 | B13: ='Saisie Données'!C13 -> 0 | C13: ='Saisie Données'!D13 -> 0 | D13: =C13-B13 -> 0 | E13: =IF(D13>0,"🔴 Alerte","🟢 OK") -> 0 | F13: =IF(E13="🔴 Alerte","Former / Recruter / Réorganiser","Aucune") -> 0 | G13: =IF(D13>10,"Haute",IF(D13>5,"Moyenne","Basse")) -> 0 | H13: =IF(AND(A13="Taux de charge RH (%)",D13>10),"Oui",IF(AND(A13="Nombre de postes vacants",D13>2),"Oui",IF(AND(A13="Temps moyen de recrutement (jours)",D13>5),"Oui","Non"))) -> 0
A14: ='Saisie Données'!B14 -> 0 | B14: ='Saisie Données'!C14 -> 0 | C14: ='Saisie Données'!D14 -> 0 | D14: =C14-B14 -> 0 | E14: =IF(D14>0,"🔴 Alerte","🟢 OK") -> 0 | F14: =IF(E14="🔴 Alerte","Former / Recruter / Réorganiser","Aucune") -> 0 | G14: =IF(D14>10,"Haute",IF(D14>5,"Moyenne","Basse")) -> 0 | H14: =IF(AND(A14="Taux de charge RH (%)",D14>10),"Oui",IF(AND(A14="Nombre de postes vacants",D14>2),"Oui",IF(AND(A14="Temps moyen de recrutement (jours)",D14>5),"Oui","Non"))) -> 0

Sheet Visualisation
