Workbook

Sheet Reception_Intelligente
A1: Date | B1: Fournisseur | C1: Produit | D1: Quantité Commandée | E1: Quantité Reçue | F1: Écart | G1: État de Conformité | H1: Urgence | I1: Recommandation Automatique | J1: Action Suivi
D2: 100 | E2: 100 | F2: =E2-D2 | G2: =IF(ABS(F2)<=5,"✅ Conforme","❌ Non Conforme") | H2: =IF(ABS(F2)>10,"Élevée",IF(ABS(F2)>5,"Modérée","Faible")) | I2: =IF(G2="✅ Conforme","Aucune","Vérification requise")
D3: 100 | E3: 90 | F3: =E3-D3 | G3: =IF(ABS(F3)<=5,"✅ Conforme","❌ Non Conforme") | H3: =IF(ABS(F3)>10,"Élevée",IF(ABS(F3)>5,"Modérée","Faible")) | I3: =IF(G3="✅ Conforme","Aucune","Vérification requise")
D4: 100 | E4: 95 | F4: =E4-D4 | G4: =IF(ABS(F4)<=5,"✅ Conforme","❌ Non Conforme") | H4: =IF(ABS(F4)>10,"Élevée",IF(ABS(F4)>5,"Modérée","Faible")) | I4: =IF(G4="✅ Conforme","Aucune","Vérification requise")
D5: 100 | E5: 100 | F5: =E5-D5 | G5: =IF(ABS(F5)<=5,"✅ Conforme","❌ Non Conforme") | H5: =IF(ABS(F5)>10,"Élevée",IF(ABS(F5)>5,"Modérée","Faible")) | I5: =IF(G5="✅ Conforme","Aucune","Vérification requise")
D6: 100 | E6: 90 | F6: =E6-D6 | G6: =IF(ABS(F6)<=5,"✅ Conforme","❌ Non Conforme") | H6: =IF(ABS(F6)>10,"Élevée",IF(ABS(F6)>5,"Modérée","Faible")) | I6: =IF(G6="✅ Conforme","Aucune","Vérification requise")
D7: 100 | E7: 95 | F7: =E7-D7 | G7: =IF(ABS(F7)<=5,"✅ Conforme","❌ Non Conforme") | H7: =IF(ABS(F7)>10,"Élevée",IF(ABS(F7)>5,"Modérée","Faible")) | I7: =IF(G7="✅ Conforme","Aucune","Vérification requise")
D8: 100 | E8: 100 | F8: =E8-D8 | G8: =IF(ABS(F8)<=5,"✅ Conforme","❌ Non Conforme") | H8: =IF(ABS(F8)>10,"Élevée",IF(ABS(F8)>5,"Modérée","Faible")) | I8: =IF(G8="✅ Conforme","Aucune","Vérification requise")
D9: 100 | E9: 90 | F9: =E9-D9 | G9: =IF(ABS(F9)<=5,"✅ Conforme","❌ Non Conforme") | H9: =IF(ABS(F9)>10,"Élevée",IF(ABS(F9)>5,"Modérée","Faible")) | I9: =IF(G9="✅ Conforme","Aucune","Vérification requise")
D10: 100 | E10: 95 | F10: =E10-D10 | G10: =IF(ABS(F10)<=5,"✅ Conforme","❌ Non Conforme") | H10: =IF(ABS(F10)>10,"Élevée",IF(ABS(F10)>5,"Modérée","Faible")) | I10: =IF(G10="✅ Conforme","Aucune","Vérification requise")
D11: 100 | E11: 100 | F11: =E11-D11 | G11: =IF(ABS(F11)<=5,"✅ Conforme","❌ Non Conforme") | H11: =IF(ABS(F11)>10,"Élevée",IF(ABS(F11)>5,"Modérée","Faible")) | I11: =IF(G11="✅ Conforme","Aucune","Vérification requise")

Sheet Synthese_Ecarts_Critiques
A1: Date | B1: Fournisseur | C1: Produit | D1: Quantité Commandée | E1: Quantité Reçue | F1: Écart | G1: Urgence | H1: État | I1: Action Recommandée
A2: =IF(ABS(Reception_Intelligente!F3)>5,Reception_Intelligente!B3,"") | B2: =IF(ABS(Reception_Intelligente!F3)>5,Reception_Intelligente!C3,"") | C2: =IF(ABS(Reception_Intelligente!F3)>5,Reception_Intelligente!D3,"") | D2: =IF(ABS(Reception_Intelligente!F3)>5,Reception_Intelligente!E3,"") | E2: =IF(ABS(Reception_Intelligente!F3)>5,Reception_Intelligente!F3,"") | F2: =IF(ABS(Reception_Intelligente!F3)>5,Reception_Intelligente!G3,"") | G2: =IF(ABS(Reception_Intelligente!F3)>5,Reception_Intelligente!H3,"") | H2: =IF(ABS(Reception_Intelligente!F3)>5,Reception_Intelligente!I3,"") | I2: =IF(ABS(Reception_Intelligente!F3)>5,Reception_Intelligente!J3,"")
A3: =IF(ABS(Reception_Intelligente!F4)>5,Reception_Intelligente!B4,"") | B3: =IF(ABS(Reception_Intelligente!F4)>5,Reception_Intelligente!C4,"") | C3: =IF(ABS(Reception_Intelligente!F4)>5,Reception_Intelligente!D4,"") | D3: =IF(ABS(Reception_Intelligente!F4)>5,Reception_Intelligente!E4,"") | E3: =IF(ABS(Reception_Intelligente!F4)>5,Reception_Intelligente!F4,"") | F3: =IF(ABS(Reception_Intelligente!F4)>5,Reception_Intelligente!G4,"") | G3: =IF(ABS(Reception_Intelligente!F4)>5,Reception_Intelligente!H4,"") | H3: =IF(ABS(Reception_Intelligente!F4)>5,Reception_Intelligente!I4,"") | I3: =IF(ABS(Reception_Intelligente!F4)>5,Reception_Intelligente!J4,"")
A4: =IF(ABS(Reception_Intelligente!F5)>5,Reception_Intelligente!B5,"") | B4: =IF(ABS(Reception_Intelligente!F5)>5,Reception_Intelligente!C5,"") | C4: =IF(ABS(Reception_Intelligente!F5)>5,Reception_Intelligente!D5,"") | D4: =IF(ABS(Reception_Intelligente!F5)>5,Reception_Intelligente!E5,"") | E4: =IF(ABS(Reception_Intelligente!F5)>5,Reception_Intelligente!F5,"") | F4: =IF(ABS(Reception_Intelligente!F5)>5,Reception_Intelligente!G5,"") | G4: =IF(ABS(Reception_Intelligente!F5)>5,Reception_Intelligente!H5,"") | H4: =IF(ABS(Reception_Intelligente!F5)>5,Reception_Intelligente!I5,"") | I4: =IF(ABS(Reception_Intelligente!F5)>5,Reception_Intelligente!J5,"")
A5: =IF(ABS(Reception_Intelligente!F6)>5,Reception_Intelligente!B6,"") | B5: =IF(ABS(Reception_Intelligente!F6)>5,Reception_Intelligente!C6,"") | C5: =IF(ABS(Reception_Intelligente!F6)>5,Reception_Intelligente!D6,"") | D5: =IF(ABS(Reception_Intelligente!F6)>5,Reception_Intelligente!E6,"") | E5: =IF(ABS(Reception_Intelligente!F6)>5,Reception_Intelligente!F6,"") | F5: =IF(ABS(Reception_Intelligente!F6)>5,Reception_Intelligente!G6,"") | G5: =IF(ABS(Reception_Intelligente!F6)>5,Reception_Intelligente!H6,"") | H5: =IF(ABS(Reception_Intelligente!F6)>5,Reception_Intelligente!I6,"") | I5: =IF(ABS(Reception_Intelligente!F6)>5,Reception_Intelligente!J6,"")
A6: =IF(ABS(Reception_Intelligente!F7)>5,Reception_Intelligente!B7,"") | B6: =IF(ABS(Reception_Intelligente!F7)>5,Reception_Intelligente!C7,"") | C6: =IF(ABS(Reception_Intelligente!F7)>5,Reception_Intelligente!D7,"") | D6: =IF(ABS(Reception_Intelligente!F7)>5,Reception_Intelligente!E7,"") | E6: =IF(ABS(Reception_Intelligente!F7)>5,Reception_Intelligente!F7,"") | F6: =IF(ABS(Reception_Intelligente!F7)>5,Reception_Intelligente!G7,"") | G6: =IF(ABS(Reception_Intelligente!F7)>5,Reception_Intelligente!H7,"") | H6: =IF(ABS(Reception_Intelligente!F7)>5,Reception_Intelligente!I7,"") | I6: =IF(ABS(Reception_Intelligente!F7)>5,Reception_Intelligente!J7,"")
A7: =IF(ABS(Reception_Intelligente!F8)>5,Reception_Intelligente!B8,"") | B7: =IF(ABS(Reception_Intelligente!F8)>5,Reception_Intelligente!C8,"") | C7: =IF(ABS(Reception_Intelligente!F8)>5,Reception_Intelligente!D8,"") | D7: =IF(ABS(Reception_Intelligente!F8)>5,Reception_Intelligente!E8,"") | E7: =IF(ABS(Reception_Intelligente!F8)>5,Reception_Intelligente!F8,"") | F7: =IF(ABS(Reception_Intelligente!F8)>5,Reception_Intelligente!G8,"") | G7: =IF(ABS(Reception_Intelligente!F8)>5,Reception_Intelligente!H8,"") | H7: =IF(ABS(Reception_Intelligente!F8)>5,Reception_Intelligente!I8,"") | I7: =IF(ABS(Reception_Intelligente!F8)>5,Reception_Intelligente!J8,"")
A8: =IF(ABS(Reception_Intelligente!F9)>5,Reception_Intelligente!B9,"") | B8: =IF(ABS(Reception_Intelligente!F9)>5,Reception_Intelligente!C9,"") | C8: =IF(ABS(Reception_Intelligente!F9)>5,Reception_Intelligente!D9,"") | D8: =IF(ABS(Reception_Intelligente!F9)>5,Reception_Intelligente!E9,"") | E8: =IF(ABS(Reception_Intelligente!F9)>5,Reception_Intelligente!F9,"") | F8: =IF(ABS(Reception_Intelligente!F9)>5,Reception_Intelligente!G9,"") | G8: =IF(ABS(Reception_Intelligente!F9)>5,Reception_Intelligente!H9,"") | H8: =IF(ABS(Reception_Intelligente!F9)>5,Reception_Intelligente!I9,"") | I8: =IF(ABS(Reception_Intelligente!F9)>5,Reception_Intelligente!J9,"")
A9: =IF(ABS(Reception_Intelligente!F10)>5,Reception_Intelligente!B10,"") | B9: =IF(ABS(Reception_Intelligente!F10)>5,Reception_Intelligente!C10,"") | C9: =IF(ABS(Reception_Intelligente!F10)>5,Reception_Intelligente!D10,"") | D9: =IF(ABS(Reception_Intelligente!F10)>5,Reception_Intelligente!E10,"") | E9: =IF(ABS(Reception_Intelligente!F10)>5,Reception_Intelligente!F10,"") | F9: =IF(ABS(Reception_Intelligente!F10)>5,Reception_Intelligente!G10,"") | G9: =IF(ABS(Reception_Intelligente!F10)>5,Reception_Intelligente!H10,"") | H9: =IF(ABS(Reception_Intelligente!F10)>5,Reception_Intelligente!I10,"") | I9: =IF(ABS(Reception_Intelligente!F10)>5,Reception_Intelligente!J10,"")
A10: =IF(ABS(Reception_Intelligente!F11)>5,Reception_Intelligente!B11,"") | B10: =IF(ABS(Reception_Intelligente!F11)>5,Reception_Intelligente!C11,"") | C10: =IF(ABS(Reception_Intelligente!F11)>5,Reception_Intelligente!D11,"") | D10: =IF(ABS(Reception_Intelligente!F11)>5,Reception_Intelligente!E11,"") | E10: =IF(ABS(Reception_Intelligente!F11)>5,Reception_Intelligente!F11,"") | F10: =IF(ABS(Reception_Intelligente!F11)>5,Reception_Intelligente!G11,"") | G10: =IF(ABS(Reception_Intelligente!F11)>5,Reception_Intelligente!H11,"") | H10: =IF(ABS(Reception_Intelligente!F11)>5,Reception_Intelligente!I11,"") | I10: =IF(ABS(Reception_Intelligente!F11)>5,Reception_Intelligente!J11,"")
A11: =IF(ABS(Reception_Intelligente!F12)>5,Reception_Intelligente!B12,"") | B11: =IF(ABS(Reception_Intelligente!F12)>5,Reception_Intelligente!C12,"") | C11: =IF(ABS(Reception_Intelligente!F12)>5,Reception_Intelligente!D12,"") | D11: =IF(ABS(Reception_Intelligente!F12)>5,Reception_Intelligente!E12,"") | E11: =IF(ABS(Reception_Intelligente!F12)>5,Reception_Intelligente!F12,"") | F11: =IF(ABS(Reception_Intelligente!F12)>5,Reception_Intelligente!G12,"") | G11: =IF(ABS(Reception_Intelligente!F12)>5,Reception_Intelligente!H12,"") | H11: =IF(ABS(Reception_Intelligente!F12)>5,Reception_Intelligente!I12,"") | I11: =IF(ABS(Reception_Intelligente!F12)>5,Reception_Intelligente!J12,"")

Sheet Alerte_Ecarts
A1: 🔔 État des Écarts Critiques
A2: Nombre d'écarts critiques détectés : | B2: =COUNTA(Synthese_Ecarts_Critiques!A2:A100)
A3: Alerte visuelle : | B3: =IF(B2>3,"🚨 Trop d'écarts","🟢 Situation maîtrisée")

Sheet Plan_Action_Correctif
A1: Date | B1: Fournisseur | C1: Produit | D1: Type d'Écart | E1: Gravité | F1: Action Corrective | G1: Responsable | H1: Date Suivi | I1: État
A2: =Synthese_Ecarts_Critiques!A2 | B2: =Synthese_Ecarts_Critiques!B2 | C2: =Synthese_Ecarts_Critiques!C2 | D2: Écart de quantité | E2: =Synthese_Ecarts_Critiques!G2
A3: =Synthese_Ecarts_Critiques!A3 | B3: =Synthese_Ecarts_Critiques!B3 | C3: =Synthese_Ecarts_Critiques!C3 | D3: Écart de quantité | E3: =Synthese_Ecarts_Critiques!G3
A4: =Synthese_Ecarts_Critiques!A4 | B4: =Synthese_Ecarts_Critiques!B4 | C4: =Synthese_Ecarts_Critiques!C4 | D4: Écart de quantité | E4: =Synthese_Ecarts_Critiques!G4
A5: =Synthese_Ecarts_Critiques!A5 | B5: =Synthese_Ecarts_Critiques!B5 | C5: =Synthese_Ecarts_Critiques!C5 | D5: Écart de quantité | E5: =Synthese_Ecarts_Critiques!G5
A6: =Synthese_Ecarts_Critiques!A6 | B6: =Synthese_Ecarts_Critiques!B6 | C6: =Synthese_Ecarts_Critiques!C6 | D6: Écart de quantité | E6: =Synthese_Ecarts_Critiques!G6
A7: =Synthese_Ecarts_Critiques!A7 | B7: =Synthese_Ecarts_Critiques!B7 | C7: =Synthese_Ecarts_Critiques!C7 | D7: Écart de quantité | E7: =Synthese_Ecarts_Critiques!G7
A8: =Synthese_Ecarts_Critiques!A8 | B8: =Synthese_Ecarts_Critiques!B8 | C8: =Synthese_Ecarts_Critiques!C8 | D8: Écart de quantité | E8: =Synthese_Ecarts_Critiques!G8
A9: =Synthese_Ecarts_Critiques!A9 | B9: =Synthese_Ecarts_Critiques!B9 | C9: =Synthese_Ecarts_Critiques!C9 | D9: Écart de quantité | E9: =Synthese_Ecarts_Critiques!G9
A10: =Synthese_Ecarts_Critiques!A10 | B10: =Synthese_Ecarts_Critiques!B10 | C10: =Synthese_Ecarts_Critiques!C10 | D10: Écart de quantité | E10: =Synthese_Ecarts_Critiques!G10
A11: =Synthese_Ecarts_Critiques!A11 | B11: =Synthese_Ecarts_Critiques!B11 | C11: =Synthese_Ecarts_Critiques!C11 | D11: Écart de quantité | E11: =Synthese_Ecarts_Critiques!G11

Sheet Synthese_Globale
A1: 📊 SYNTHESE GLOBALE - SUIVI LOGISTIQUE
A2: Date | B2: Fournisseur | C2: Produit | D2: Quantité Commandée | E2: Quantité Reçue | F2: Écart | G2: Urgence | H2: État | I2: Action Recommandée
A3: =Synthese_Ecarts_Critiques!A2 | B3: =Synthese_Ecarts_Critiques!B2 | C3: =Synthese_Ecarts_Critiques!C2 | D3: =Synthese_Ecarts_Critiques!D2 | E3: =Synthese_Ecarts_Critiques!E2 | F3: =Synthese_Ecarts_Critiques!F2 | G3: =Synthese_Ecarts_Critiques!G2 | H3: =Synthese_Ecarts_Critiques!H2 | I3: =Synthese_Ecarts_Critiques!I2
A4: =Synthese_Ecarts_Critiques!A3 | B4: =Synthese_Ecarts_Critiques!B3 | C4: =Synthese_Ecarts_Critiques!C3 | D4: =Synthese_Ecarts_Critiques!D3 | E4: =Synthese_Ecarts_Critiques!E3 | F4: =Synthese_Ecarts_Critiques!F3 | G4: =Synthese_Ecarts_Critiques!G3 | H4: =Synthese_Ecarts_Critiques!H3 | I4: =Synthese_Ecarts_Critiques!I3
A5: =Synthese_Ecarts_Critiques!A4 | B5: =Synthese_Ecarts_Critiques!B4 | C5: =Synthese_Ecarts_Critiques!C4 | D5: =Synthese_Ecarts_Critiques!D4 | E5: =Synthese_Ecarts_Critiques!E4 | F5: =Synthese_Ecarts_Critiques!F4 | G5: =Synthese_Ecarts_Critiques!G4 | H5: =Synthese_Ecarts_Critiques!H4 | I5: =Synthese_Ecarts_Critiques!I4
A6: =Synthese_Ecarts_Critiques!A5 | B6: =Synthese_Ecarts_Critiques!B5 | C6: =Synthese_Ecarts_Critiques!C5 | D6: =Synthese_Ecarts_Critiques!D5 | E6: =Synthese_Ecarts_Critiques!E5 | F6: =Synthese_Ecarts_Critiques!F5 | G6: =Synthese_Ecarts_Critiques!G5 | H6: =Synthese_Ecarts_Critiques!H5 | I6: =Synthese_Ecarts_Critiques!I5
A7: =Synthese_Ecarts_Critiques!A6 | B7: =Synthese_Ecarts_Critiques!B6 | C7: =Synthese_Ecarts_Critiques!C6 | D7: =Synthese_Ecarts_Critiques!D6 | E7: =Synthese_Ecarts_Critiques!E6 | F7: =Synthese_Ecarts_Critiques!F6 | G7: =Synthese_Ecarts_Critiques!G6 | H7: =Synthese_Ecarts_Critiques!H6 | I7: =Synthese_Ecarts_Critiques!I6
A8: =Synthese_Ecarts_Critiques!A7 | B8: =Synthese_Ecarts_Critiques!B7 | C8: =Synthese_Ecarts_Critiques!C7 | D8: =Synthese_Ecarts_Critiques!D7 | E8: =Synthese_Ecarts_Critiques!E7 | F8: =Synthese_Ecarts_Critiques!F7 | G8: =Synthese_Ecarts_Critiques!G7 | H8: =Synthese_Ecarts_Critiques!H7 | I8: =Synthese_Ecarts_Critiques!I7
A9: =Synthese_Ecarts_Critiques!A8 | B9: =Synthese_Ecarts_Critiques!B8 | C9: =Synthese_Ecarts_Critiques!C8 | D9: =Synthese_Ecarts_Critiques!D8 | E9: =Synthese_Ecarts_Critiques!E8 | F9: =Synthese_Ecarts_Critiques!F8 | G9: =Synthese_Ecarts_Critiques!G8 | H9: =Synthese_Ecarts_Critiques!H8 | I9: =Synthese_Ecarts_Critiques!I8
A10: =Synthese_Ecarts_Critiques!A9 | B10: =Synthese_Ecarts_Critiques!B9 | C10: =Synthese_Ecarts_Critiques!C9 | D10: =Synthese_Ecarts_Critiques!D9 | E10: =Synthese_Ecarts_Critiques!E9 | F10: =Synthese_Ecarts_Critiques!F9 | G10: =Synthese_Ecarts_Critiques!G9 | H10: =Synthese_Ecarts_Critiques!H9 | I10: =Synthese_Ecarts_Critiques!I9
A11: =Synthese_Ecarts_Critiques!A10 | B11: =Synthese_Ecarts_Critiques!B10 | C11: =Synthese_Ecarts_Critiques!C10 | D11: =Synthese_Ecarts_Critiques!D10 | E11: =Synthese_Ecarts_Critiques!E10 | F11: =Synthese_Ecarts_Critiques!F10 | G11: =Synthese_Ecarts_Critiques!G10 | H11: =Synthese_Ecarts_Critiques!H10 | I11: =Synthese_Ecarts_Critiques!I10
A12: =Synthese_Ecarts_Critiques!A11 | B12: =Synthese_Ecarts_Critiques!B11 | C12: =Synthese_Ecarts_Critiques!C11 | D12: =Synthese_Ecarts_Critiques!D11 | E12: =Synthese_Ecarts_Critiques!E11 | F12: =Synthese_Ecarts_Critiques!F11 | G12: =Synthese_Ecarts_Critiques!G11 | H12: =Synthese_Ecarts_Critiques!H11 | I12: =Synthese_Ecarts_Critiques!I11
A15: PLAN D’ACTION CORRECTIF
A16: Date | B16: Fournisseur | C16: Produit | D16: Type d'Écart | E16: Gravité | F16: Action Corrective | G16: Responsable | H16: Date Suivi | I16: État
A17: =Plan_Action_Correctif!A2 | B17: =Plan_Action_Correctif!B2 | C17: =Plan_Action_Correctif!C2 | D17: =Plan_Action_Correctif!D2 | E17: =Plan_Action_Correctif!E2 | F17: =Plan_Action_Correctif!F2 | G17: =Plan_Action_Correctif!G2 | H17: =Plan_Action_Correctif!H2 | I17: =Plan_Action_Correctif!I2
A18: =Plan_Action_Correctif!A3 | B18: =Plan_Action_Correctif!B3 | C18: =Plan_Action_Correctif!C3 | D18: =Plan_Action_Correctif!D3 | E18: =Plan_Action_Correctif!E3 | F18: =Plan_Action_Correctif!F3 | G18: =Plan_Action_Correctif!G3 | H18: =Plan_Action_Correctif!H3 | I18: =Plan_Action_Correctif!I3
A19: =Plan_Action_Correctif!A4 | B19: =Plan_Action_Correctif!B4 | C19: =Plan_Action_Correctif!C4 | D19: =Plan_Action_Correctif!D4 | E19: =Plan_Action_Correctif!E4 | F19: =Plan_Action_Correctif!F4 | G19: =Plan_Action_Correctif!G4 | H19: =Plan_Action_Correctif!H4 | I19: =Plan_Action_Correctif!I4
A20: =Plan_Action_Correctif!A5 | B20: =Plan_Action_Correctif!B5 | C20: =Plan_Action_Correctif!C5 | D20: =Plan_Action_Correctif!D5 | E20: =Plan_Action_Correctif!E5 | F20: =Plan_Action_Correctif!F5 | G20: =Plan_Action_Correctif!G5 | H20: =Plan_Action_Correctif!H5 | I20: =Plan_Action_Correctif!I5
A21: =Plan_Action_Correctif!A6 | B21: =Plan_Action_Correctif!B6 | C21: =Plan_Action_Correctif!C6 | D21: =Plan_Action_Correctif!D6 | E21: =Plan_Action_Correctif!E6 | F21: =Plan_Action_Correctif!F6 | G21: =Plan_Action_Correctif!G6 | H21: =Plan_Action_Correctif!H6 | I21: =Plan_Action_Correctif!I6
A22: =Plan_Action_Correctif!A7 | B22: =Plan_Action_Correctif!B7 | C22: =Plan_Action_Correctif!C7 | D22: =Plan_Action_Correctif!D7 | E22: =Plan_Action_Correctif!E7 | F22: =Plan_Action_Correctif!F7 | G22: =Plan_Action_Correctif!G7 | H22: =Plan_Action_Correctif!H7 | I22: =Plan_Action_Correctif!I7
A23: =Plan_Action_Correctif!A8 | B23: =Plan_Action_Correctif!B8 | C23: =Plan_Action_Correctif!C8 | D23: =Plan_Action_Correctif!D8 | E23: =Plan_Action_Correctif!E8 | F23: =Plan_Action_Correctif!F8 | G23: =Plan_Action_Correctif!G8 | H23: =Plan_Action_Correctif!H8 | I23: =Plan_Action_Correctif!I8
A24: =Plan_Action_Correctif!A9 | B24: =Plan_Action_Correctif!B9 | C24: =Plan_Action_Correctif!C9 | D24: =Plan_Action_Correctif!D9 | E24: =Plan_Action_Correctif!E9 | F24: =Plan_Action_Correctif!F9 | G24: =Plan_Action_Correctif!G9 | H24: =Plan_Action_Correctif!H9 | I24: =Plan_Action_Correctif!I9
A25: =Plan_Action_Correctif!A10 | B25: =Plan_Action_Correctif!B10 | C25: =Plan_Action_Correctif!C10 | D25: =Plan_Action_Correctif!D10 | E25: =Plan_Action_Correctif!E10 | F25: =Plan_Action_Correctif!F10 | G25: =Plan_Action_Correctif!G10 | H25: =Plan_Action_Correctif!H10 | I25: =Plan_Action_Correctif!I10
A26: =Plan_Action_Correctif!A11 | B26: =Plan_Action_Correctif!B11 | C26: =Plan_Action_Correctif!C11 | D26: =Plan_Action_Correctif!D11 | E26: =Plan_Action_Correctif!E11 | F26: =Plan_Action_Correctif!F11 | G26: =Plan_Action_Correctif!G11 | H26: =Plan_Action_Correctif!H11 | I26: =Plan_Action_Correctif!I11

Sheet Fusion_Global
A1: Source | B1: Date | C1: Fournisseur | D1: Produit | E1: Quantité Commandée | F1: Quantité Reçue | G1: Écart | H1: Conformité | I1: Urgence | J1: Recommandation | K1: Action | L1: Responsable | M1: État
A2: Réception | B2: 01/06/2025 | C2: Fournisseur X | D2: Produit A | E2: 100 | F2: 95 | G2: -5 | H2: ✅ Conforme | I2: Faible | J2: Aucune
A3: Réception | B3: 02/06/2025 | C3: Fournisseur Y | D3: Produit B | E3: 100 | F3: 85 | G3: -15 | H3: ❌ Non Conforme | I3: Élevée | J3: Vérification requise
A4: Synthèse | B4: 03/06/2025 | C4: Fournisseur Z | D4: Produit C | E4: 100 | F4: 90 | G4: -10 | H4: ❌ Non Conforme | I4: Modérée | J4: Inspection
A5: Plan Action | B5: 04/06/2025 | C5: Fournisseur X | D5: Produit A | E5: 100 | F5: 95 | G5: -5 | H5: ✅ Conforme | I5: Faible | J5: Aucune | K5: Réinformer fournisseur | L5: Mme Dupont | M5: En cours
A6: Plan Action | B6: 05/06/2025 | C6: Fournisseur Y | D6: Produit B | E6: 100 | F6: 85 | G6: -15 | H6: ❌ Non Conforme | I6: Élevée | J6: Remplacement | K6: Reprise produit | L6: M. Lefevre | M6: Clos
A7: Synthèse | B7: =IF(ABS(Reception_Intelligente!F8)>5,Reception_Intelligente!B8,"") | C7: =IF(ABS(Reception_Intelligente!F8)>5,Reception_Intelligente!C8,"") | D7: =IF(ABS(Reception_Intelligente!F8)>5,Reception_Intelligente!D8,"") | E7: =IF(ABS(Reception_Intelligente!F8)>5,Reception_Intelligente!E8,"") | F7: =IF(ABS(Reception_Intelligente!F8)>5,Reception_Intelligente!F8,"") | G7: =IF(ABS(Reception_Intelligente!F8)>5,Reception_Intelligente!G8,"") | H7: =IF(ABS(Reception_Intelligente!F8)>5,Reception_Intelligente!H8,"") | I7: =IF(ABS(Reception_Intelligente!F8)>5,Reception_Intelligente!I8,"") | J7: =IF(ABS(Reception_Intelligente!F8)>5,Reception_Intelligente!J8,"")
A8: Synthèse | B8: =IF(ABS(Reception_Intelligente!F9)>5,Reception_Intelligente!B9,"") | C8: =IF(ABS(Reception_Intelligente!F9)>5,Reception_Intelligente!C9,"") | D8: =IF(ABS(Reception_Intelligente!F9)>5,Reception_Intelligente!D9,"") | E8: =IF(ABS(Reception_Intelligente!F9)>5,Reception_Intelligente!E9,"") | F8: =IF(ABS(Reception_Intelligente!F9)>5,Reception_Intelligente!F9,"") | G8: =IF(ABS(Reception_Intelligente!F9)>5,Reception_Intelligente!G9,"") | H8: =IF(ABS(Reception_Intelligente!F9)>5,Reception_Intelligente!H9,"") | I8: =IF(ABS(Reception_Intelligente!F9)>5,Reception_Intelligente!I9,"") | J8: =IF(ABS(Reception_Intelligente!F9)>5,Reception_Intelligente!J9,"")
A9: Synthèse | B9: =IF(ABS(Reception_Intelligente!F10)>5,Reception_Intelligente!B10,"") | C9: =IF(ABS(Reception_Intelligente!F10)>5,Reception_Intelligente!C10,"") | D9: =IF(ABS(Reception_Intelligente!F10)>5,Reception_Intelligente!D10,"") | E9: =IF(ABS(Reception_Intelligente!F10)>5,Reception_Intelligente!E10,"") | F9: =IF(ABS(Reception_Intelligente!F10)>5,Reception_Intelligente!F10,"") | G9: =IF(ABS(Reception_Intelligente!F10)>5,Reception_Intelligente!G10,"") | H9: =IF(ABS(Reception_Intelligente!F10)>5,Reception_Intelligente!H10,"") | I9: =IF(ABS(Reception_Intelligente!F10)>5,Reception_Intelligente!I10,"") | J9: =IF(ABS(Reception_Intelligente!F10)>5,Reception_Intelligente!J10,"")
A10: Synthèse | B10: =IF(ABS(Reception_Intelligente!F11)>5,Reception_Intelligente!B11,"") | C10: =IF(ABS(Reception_Intelligente!F11)>5,Reception_Intelligente!C11,"") | D10: =IF(ABS(Reception_Intelligente!F11)>5,Reception_Intelligente!D11,"") | E10: =IF(ABS(Reception_Intelligente!F11)>5,Reception_Intelligente!E11,"") | F10: =IF(ABS(Reception_Intelligente!F11)>5,Reception_Intelligente!F11,"") | G10: =IF(ABS(Reception_Intelligente!F11)>5,Reception_Intelligente!G11,"") | H10: =IF(ABS(Reception_Intelligente!F11)>5,Reception_Intelligente!H11,"") | I10: =IF(ABS(Reception_Intelligente!F11)>5,Reception_Intelligente!I11,"") | J10: =IF(ABS(Reception_Intelligente!F11)>5,Reception_Intelligente!J11,"")
A11: Synthèse | B11: =IF(ABS(Reception_Intelligente!F12)>5,Reception_Intelligente!B12,"") | C11: =IF(ABS(Reception_Intelligente!F12)>5,Reception_Intelligente!C12,"") | D11: =IF(ABS(Reception_Intelligente!F12)>5,Reception_Intelligente!D12,"") | E11: =IF(ABS(Reception_Intelligente!F12)>5,Reception_Intelligente!E12,"") | F11: =IF(ABS(Reception_Intelligente!F12)>5,Reception_Intelligente!F12,"") | G11: =IF(ABS(Reception_Intelligente!F12)>5,Reception_Intelligente!G12,"") | H11: =IF(ABS(Reception_Intelligente!F12)>5,Reception_Intelligente!H12,"") | I11: =IF(ABS(Reception_Intelligente!F12)>5,Reception_Intelligente!I12,"") | J11: =IF(ABS(Reception_Intelligente!F12)>5,Reception_Intelligente!J12,"")
A12: Plan Action | B12: =Synthese_Ecarts_Critiques!A2 | C12: =Synthese_Ecarts_Critiques!B2 | D12: =Synthese_Ecarts_Critiques!C2 | E12: Écart de quantité | F12: =Synthese_Ecarts_Critiques!G2
A13: Plan Action | B13: =Synthese_Ecarts_Critiques!A3 | C13: =Synthese_Ecarts_Critiques!B3 | D13: =Synthese_Ecarts_Critiques!C3 | E13: Écart de quantité | F13: =Synthese_Ecarts_Critiques!G3
A14: Plan Action | B14: =Synthese_Ecarts_Critiques!A4 | C14: =Synthese_Ecarts_Critiques!B4 | D14: =Synthese_Ecarts_Critiques!C4 | E14: Écart de quantité | F14: =Synthese_Ecarts_Critiques!G4
A15: Plan Action | B15: =Synthese_Ecarts_Critiques!A5 | C15: =Synthese_Ecarts_Critiques!B5 | D15: =Synthese_Ecarts_Critiques!C5 | E15: Écart de quantité | F15: =Synthese_Ecarts_Critiques!G5
A16: Plan Action | B16: =Synthese_Ecarts_Critiques!A6 | C16: =Synthese_Ecarts_Critiques!B6 | D16: =Synthese_Ecarts_Critiques!C6 | E16: Écart de quantité | F16: =Synthese_Ecarts_Critiques!G6
A17: Plan Action | B17: =Synthese_Ecarts_Critiques!A7 | C17: =Synthese_Ecarts_Critiques!B7 | D17: =Synthese_Ecarts_Critiques!C7 | E17: Écart de quantité | F17: =Synthese_Ecarts_Critiques!G7
A18: Plan Action | B18: =Synthese_Ecarts_Critiques!A8 | C18: =Synthese_Ecarts_Critiques!B8 | D18: =Synthese_Ecarts_Critiques!C8 | E18: Écart de quantité | F18: =Synthese_Ecarts_Critiques!G8
A19: Plan Action | B19: =Synthese_Ecarts_Critiques!A9 | C19: =Synthese_Ecarts_Critiques!B9 | D19: =Synthese_Ecarts_Critiques!C9 | E19: Écart de quantité | F19: =Synthese_Ecarts_Critiques!G9
A20: Plan Action | B20: =Synthese_Ecarts_Critiques!A10 | C20: =Synthese_Ecarts_Critiques!B10 | D20: =Synthese_Ecarts_Critiques!C10 | E20: Écart de quantité | F20: =Synthese_Ecarts_Critiques!G10
A21: Plan Action | B21: =Synthese_Ecarts_Critiques!A11 | C21: =Synthese_Ecarts_Critiques!B11 | D21: =Synthese_Ecarts_Critiques!C11 | E21: Écart de quantité | F21: =Synthese_Ecarts_Critiques!G11
