Workbook

Sheet Feedback Structuré
A1: Formulaire Structuré de Feedback Collaborateur
A2: Nom du collaborateur | B2: Date du feedback | C2: Type de feedback | D2: Situation observée | E2: Comportement observé | F2: Impact perçu | G2: Note globale (1 à 5) | H2: Suggestion d'amélioration

Sheet Synthèse Feedbacks
A1: Nom du collaborateur | B1: Nombre de feedbacks | C1: Moyenne des notes | D1: Dernier commentaire
B2: =SIERREUR(NB.SI('Feedback Structuré'!A3:A100, A2), "") | C2: =SIERREUR(MOYENNE.SI('Feedback Structuré'!A3:A100, A2, 'Feedback Structuré'!G3:G100), "") | D2: =SIERREUR(INDEX('Feedback Structuré'!H3:H100, MAX(FILTRE(LIGNE('Feedback Structuré'!A3:A100)-2, 'Feedback Structuré'!A3:A100=A2))), "")
B3: =SIERREUR(NB.SI('Feedback Structuré'!A3:A100, A3), "") | C3: =SIERREUR(MOYENNE.SI('Feedback Structuré'!A3:A100, A3, 'Feedback Structuré'!G3:G100), "") | D3: =SIERREUR(INDEX('Feedback Structuré'!H3:H100, MAX(FILTRE(LIGNE('Feedback Structuré'!A3:A100)-2, 'Feedback Structuré'!A3:A100=A3))), "")
B4: =SIERREUR(NB.SI('Feedback Structuré'!A3:A100, A4), "") | C4: =SIERREUR(MOYENNE.SI('Feedback Structuré'!A3:A100, A4, 'Feedback Structuré'!G3:G100), "") | D4: =SIERREUR(INDEX('Feedback Structuré'!H3:H100, MAX(FILTRE(LIGNE('Feedback Structuré'!A3:A100)-2, 'Feedback Structuré'!A3:A100=A4))), "")
B5: =SIERREUR(NB.SI('Feedback Structuré'!A3:A100, A5), "") | C5: =SIERREUR(MOYENNE.SI('Feedback Structuré'!A3:A100, A5, 'Feedback Structuré'!G3:G100), "") | D5: =SIERREUR(INDEX('Feedback Structuré'!H3:H100, MAX(FILTRE(LIGNE('Feedback Structuré'!A3:A100)-2, 'Feedback Structuré'!A3:A100=A5))), "")
B6: =SIERREUR(NB.SI('Feedback Structuré'!A3:A100, A6), "") | C6: =SIERREUR(MOYENNE.SI('Feedback Structuré'!A3:A100, A6, 'Feedback Structuré'!G3:G100), "") | D6: =SIERREUR(INDEX('Feedback Structuré'!H3:H100, MAX(FILTRE(LIGNE('Feedback Structuré'!A3:A100)-2, 'Feedback Structuré'!A3:A100=A6))), "")
B7: =SIERREUR(NB.SI('Feedback Structuré'!A3:A100, A7), "") | C7: =SIERREUR(MOYENNE.SI('Feedback Structuré'!A3:A100, A7, 'Feedback Structuré'!G3:G100), "") | D7: =SIERREUR(INDEX('Feedback Structuré'!H3:H100, MAX(FILTRE(LIGNE('Feedback Structuré'!A3:A100)-2, 'Feedback Structuré'!A3:A100=A7))), "")
B8: =SIERREUR(NB.SI('Feedback Structuré'!A3:A100, A8), "") | C8: =SIERREUR(MOYENNE.SI('Feedback Structuré'!A3:A100, A8, 'Feedback Structuré'!G3:G100), "") | D8: =SIERREUR(INDEX('Feedback Structuré'!H3:H100, MAX(FILTRE(LIGNE('Feedback Structuré'!A3:A100)-2, 'Feedback Structuré'!A3:A100=A8))), "")
B9: =SIERREUR(NB.SI('Feedback Structuré'!A3:A100, A9), "") | C9: =SIERREUR(MOYENNE.SI('Feedback Structuré'!A3:A100, A9, 'Feedback Structuré'!G3:G100), "") | D9: =SIERREUR(INDEX('Feedback Structuré'!H3:H100, MAX(FILTRE(LIGNE('Feedback Structuré'!A3:A100)-2, 'Feedback Structuré'!A3:A100=A9))), "")
B10: =SIERREUR(NB.SI('Feedback Structuré'!A3:A100, A10), "") | C10: =SIERREUR(MOYENNE.SI('Feedback Structuré'!A3:A100, A10, 'Feedback Structuré'!G3:G100), "") | D10: =SIERREUR(INDEX('Feedback Structuré'!H3:H100, MAX(FILTRE(LIGNE('Feedback Structuré'!A3:A100)-2, 'Feedback Structuré'!A3:A100=A10))), "")
B11: =SIERREUR(NB.SI('Feedback Structuré'!A3:A100, A11), "") | C11: =SIERREUR(MOYENNE.SI('Feedback Structuré'!A3:A100, A11, 'Feedback Structuré'!G3:G100), "") | D11: =SIERREUR(INDEX('Feedback Structuré'!H3:H100, MAX(FILTRE(LIGNE('Feedback Structuré'!A3:A100)-2, 'Feedback Structuré'!A3:A100=A11))), "")
