Workbook

Sheet Dashboard One Page
A1: TABLEAU DE BORD HSE ET QHSE ONE PAGE | AA1: Axe | AB1: Score
AA2: Qualité | AB2: =DATA_QHSE!N13
A3: Qualité • Hygiène • Sécurité • Environnement | Vue exécutive semi-graphique, KPI automatisés et alertes visuelles | AA3: Hygiène | AB3: =DATA_QHSE!O13
AA4: Sécurité | AB4: =DATA_QHSE!P13
A5: =DATA_QHSE!B13/100 | E5: =DATA_QHSE!R13/100 | I5: =DATA_QHSE!C13 | M5: =DATA_QHSE!E13 | Q5: =DATA_QHSE!G13 | U5: =DATA_QHSE!I13 | AA5: Environnement | AB5: =DATA_QHSE!Q13
AA6: QHSE Global | AB6: =DATA_QHSE!R13
A9: Taux conformité | E9: Score QHSE | I9: Audits réalisés | M9: Actions ouvertes | Q9: Incidents sécurité | U9: Jours sans accident
AA10: Conforme | AB10: Écart
A11: QUALITÉ | I11: HYGIÈNE & CONFORMITÉ | Q11: SÉCURITÉ | AA11: =DATA_QHSE!B13 | AB11: =100-DATA_QHSE!B13
A13: Indicateur | B13: Objectif | C13: Réel | D13: Statut | I13: Contrôle | J13: Résultat | Q13: KPI Sécurité | R13: Valeur | S13: Alerte
A14: Réclamations clients | B14: <= 5 | C14: 2 | D14: =IF(C14<>"","OK","") | I14: Plan nettoyage | J14: Conforme | K14: ● | Q14: Accidents avec arrêt | R14: =Incidents!B13 | S14: =IF(R14<=1,"Vert",IF(R14<=3,"Orange","Rouge"))
A15: Non-conformités | B15: <= 10 | C15: =DATA_QHSE!D13 | D15: =IF(C15<=10,"OK","Alerte") | I15: Températures froid | J15: Conforme | K15: ● | Q15: Presqu’accidents | R15: =Incidents!C13 | S15: =IF(R15<=1,"Vert",IF(R15<=3,"Orange","Rouge"))
A16: Audits qualité | B16: >= 12 | C16: =Audits!B13 | D16: =IF(C16<>"","OK","") | I16: Traçabilité | J16: Conforme | K16: ● | Q16: Situations dangereuses | R16: =Incidents!D13 | S16: =IF(R16<=1,"Vert",IF(R16<=3,"Orange","Rouge"))
A17: Actions clôturées | B17: >= 90% | C17: =DATA_QHSE!F13 | D17: =IF(C17<>"","OK","") | I17: Contrôle nuisibles | J17: À surveiller | K17: ● | Q17: Formations SST | R17: =Incidents!E13 | S17: =IF(R17<=1,"Vert",IF(R17<=3,"Orange","Rouge"))
I18: EPI disponibles | J18: Conforme | K18: ● | Q18: Taux fréquence | R18: =Incidents!F13 | S18: =IF(R18<=1,"Vert",IF(R18<=3,"Orange","Rouge"))
Q19: Taux gravité | R19: =Incidents!G13 | S19: =IF(R19<=1,"Vert",IF(R19<=3,"Orange","Rouge"))
A28: ENVIRONNEMENT | I28: RADAR SCORE QHSE | Q28: PLAN D’ACTIONS PRIORITAIRE
A30: KPI Environnement | B30: Réel | C30: Objectif | D30: Tendance | Q30: Action | R30: Responsable | S30: Échéance | T30: Avancement
A31: Eau m³ | B31: =DATA_QHSE!J13 | C31: 110 | D31: ↓ | Q31: ='Registre Actions'!C2 | R31: ='Registre Actions'!D2 | S31: ='Registre Actions'!E2 | T31: ='Registre Actions'!G2
A32: Électricité kWh | B32: =DATA_QHSE!K13 | C32: 4300 | D32: ↓ | Q32: ='Registre Actions'!C3 | R32: ='Registre Actions'!D3 | S32: ='Registre Actions'!E3 | T32: ='Registre Actions'!G3
A33: Déchets recyclés | B33: =DATA_QHSE!L13/100 | C33: 0.8 | D33: ↑ | Q33: ='Registre Actions'!C4 | R33: ='Registre Actions'!D4 | S33: ='Registre Actions'!E4 | T33: ='Registre Actions'!G4
A34: CO₂ kg | B34: =DATA_QHSE!M13 | C34: 800 | D34: ↓ | Q34: ='Registre Actions'!C5 | R34: ='Registre Actions'!D5 | S34: ='Registre Actions'!E5 | T34: ='Registre Actions'!G5
Q35: ='Registre Actions'!C6 | R35: ='Registre Actions'!D6 | S35: ='Registre Actions'!E6 | T35: ='Registre Actions'!G6
Q36: ='Registre Actions'!C7 | R36: ='Registre Actions'!D7 | S36: ='Registre Actions'!E7 | T36: ='Registre Actions'!G7

Sheet DATA_QHSE
A1: Mois | B1: Conformité % | C1: Audits réalisés | D1: Non-conformités | E1: Actions ouvertes | F1: Actions clôturées | G1: Incidents | H1: Presqu’accidents | I1: Jours sans accident | J1: Eau m³ | K1: Électricité kWh | L1: Déchets recyclés % | M1: CO2 kg | N1: Score Qualité | O1: Score Hygiène | P1: Score Sécurité | Q1: Score Environnement | R1: Score QHSE
A2: Jan | B2: 94 | C2: 5 | D2: 8 | E2: 14 | F2: 10 | G2: 3 | H2: 7 | I2: 32 | J2: 142 | K2: 5650 | L2: 62 | M2: 1230 | N2: 88 | O2: 84 | P2: 82 | Q2: 79 | R2: =AVERAGE(N2:Q2)
A3: Fév | B3: 95 | C3: 6 | D3: 7 | E3: 12 | F3: 11 | G3: 2 | H3: 6 | I3: 61 | J3: 138 | K3: 5480 | L3: 65 | M3: 1190 | N3: 90 | O3: 86 | P3: 85 | Q3: 81 | R3: =AVERAGE(N3:Q3)
A4: Mar | B4: 96 | C4: 7 | D4: 6 | E4: 11 | F4: 13 | G4: 2 | H4: 5 | I4: 89 | J4: 132 | K4: 5300 | L4: 68 | M4: 1130 | N4: 91 | O4: 88 | P4: 86 | Q4: 84 | R4: =AVERAGE(N4:Q4)
A5: Avr | B5: 97 | C5: 8 | D5: 5 | E5: 10 | F5: 14 | G5: 1 | H5: 4 | I5: 118 | J5: 127 | K5: 5120 | L5: 70 | M5: 1070 | N5: 93 | O5: 90 | P5: 89 | Q5: 86 | R5: =AVERAGE(N5:Q5)
A6: Mai | B6: 98 | C6: 9 | D6: 4 | E6: 9 | F6: 15 | G6: 1 | H6: 3 | I6: 149 | J6: 121 | K6: 4950 | L6: 72 | M6: 1010 | N6: 94 | O6: 91 | P6: 91 | Q6: 88 | R6: =AVERAGE(N6:Q6)
A7: Juin | B7: 98.6 | C7: 10 | D7: 4 | E7: 8 | F7: 17 | G7: 1 | H7: 3 | I7: 187 | J7: 118 | K7: 4820 | L7: 75 | M7: 960 | N7: 96 | O7: 93 | P7: 92 | Q7: 90 | R7: =AVERAGE(N7:Q7)
A8: Juil | B8: 97.5 | C8: 9 | D8: 5 | E8: 9 | F8: 16 | G8: 2 | H8: 4 | I8: 32 | J8: 120 | K8: 4900 | L8: 74 | M8: 990 | N8: 94 | O8: 91 | P8: 89 | Q8: 89 | R8: =AVERAGE(N8:Q8)
A9: Août | B9: 98.2 | C9: 11 | D9: 3 | E9: 7 | F9: 18 | G9: 1 | H9: 3 | I9: 61 | J9: 116 | K9: 4750 | L9: 78 | M9: 930 | N9: 96 | O9: 94 | P9: 93 | Q9: 91 | R9: =AVERAGE(N9:Q9)
A10: Sep | B10: 98.8 | C10: 12 | D10: 3 | E10: 6 | F10: 20 | G10: 0 | H10: 2 | I10: 92 | J10: 112 | K10: 4620 | L10: 80 | M10: 890 | N10: 97 | O10: 95 | P10: 95 | Q10: 93 | R10: =AVERAGE(N10:Q10)
A11: Oct | B11: 99.1 | C11: 13 | D11: 2 | E11: 5 | F11: 22 | G11: 0 | H11: 2 | I11: 122 | J11: 109 | K11: 4510 | L11: 82 | M11: 860 | N11: 98 | O11: 96 | P11: 96 | Q11: 94 | R11: =AVERAGE(N11:Q11)
A12: Nov | B12: 98.9 | C12: 12 | D12: 2 | E12: 4 | F12: 21 | G12: 0 | H12: 1 | I12: 153 | J12: 106 | K12: 4380 | L12: 84 | M12: 820 | N12: 97 | O12: 96 | P12: 97 | Q12: 95 | R12: =AVERAGE(N12:Q12)
A13: Déc | B13: 99.3 | C13: 14 | D13: 1 | E13: 3 | F13: 25 | G13: 0 | H13: 1 | I13: 187 | J13: 102 | K13: 4250 | L13: 86 | M13: 780 | N13: 99 | O13: 97 | P13: 98 | Q13: 96 | R13: =AVERAGE(N13:Q13)

Sheet Registre Actions
A1: ID | B1: Domaine | C1: Action corrective / préventive | D1: Responsable | E1: Échéance | F1: Priorité | G1: Avancement % | H1: Statut
A2: AC-001 | B2: Qualité | C2: Traiter les causes racines des non-conformités récurrentes | D2: Responsable Qualité | E2: 2026-06-15 | F2: Haute | G2: 0.85 | H2: En cours
A3: AC-002 | B3: Sécurité | C3: Renforcer le balisage de la zone de circulation interne | D3: HSE Manager | E3: 2026-06-20 | F3: Critique | G3: 0.55 | H3: En retard
A4: AC-003 | B4: Hygiène | C4: Réviser la check-list de nettoyage hebdomadaire | D4: Chef Production | E4: 2026-06-12 | F4: Moyenne | G4: 1 | H4: Clôturée
A5: AC-004 | B5: Environnement | C5: Réduire la consommation électrique des lignes non utilisées | D5: Responsable Maintenance | E5: 2026-07-05 | F5: Haute | G5: 0.4 | H5: En cours
A6: AC-005 | B6: QHSE | C6: Former les équipes aux écarts d’audit interne | D6: RH / QHSE | E6: 2026-06-30 | F6: Moyenne | G6: 0.7 | H6: En cours
A7: AC-006 | B7: Sécurité | C7: Mettre à jour le registre des EPI obligatoires | D7: Superviseur Atelier | E7: 2026-06-10 | F7: Haute | G7: 1 | H7: Clôturée
A8: AC-007 | B8: Environnement | C8: Optimiser le tri des déchets cartons et plastiques | D8: Responsable Environnement | E8: 2026-07-15 | F8: Moyenne | G8: 0.3 | H8: Planifiée
A9: AC-008 | B9: Qualité | C9: Standardiser le contrôle final avant expédition | D9: Responsable Qualité | E9: 2026-07-01 | F9: Haute | G9: 0.62 | H9: En cours

Sheet Audits
A1: Mois | B1: Audits qualité | C1: Audits sécurité | D1: Audits environnement | E1: Taux clôture actions % | F1: Écarts majeurs | G1: Écarts mineurs
A2: Jan | B2: 2 | C2: 1 | D2: 2 | E2: 78 | F2: 1 | G2: 7
A3: Fév | B3: 3 | C3: 1 | D3: 2 | E3: 82 | F3: 1 | G3: 6
A4: Mar | B4: 3 | C4: 2 | D4: 2 | E4: 86 | F4: 0 | G4: 6
A5: Avr | B5: 4 | C5: 2 | D5: 2 | E5: 88 | F5: 0 | G5: 5
A6: Mai | B6: 4 | C6: 3 | D6: 2 | E6: 90 | F6: 0 | G6: 4
A7: Juin | B7: 5 | C7: 3 | D7: 2 | E7: 93 | F7: 0 | G7: 4
A8: Juil | B8: 4 | C8: 3 | D8: 2 | E8: 91 | F8: 0 | G8: 5
A9: Août | B9: 5 | C9: 3 | D9: 3 | E9: 94 | F9: 0 | G9: 3
A10: Sep | B10: 5 | C10: 4 | D10: 3 | E10: 96 | F10: 0 | G10: 3
A11: Oct | B11: 6 | C11: 4 | D11: 3 | E11: 97 | F11: 0 | G11: 2
A12: Nov | B12: 5 | C12: 4 | D12: 3 | E12: 96 | F12: 0 | G12: 2
A13: Déc | B13: 6 | C13: 5 | D13: 3 | E13: 98 | F13: 0 | G13: 1

Sheet Incidents
A1: Mois | B1: Accidents avec arrêt | C1: Presqu’accidents | D1: Situations dangereuses | E1: Formations SST | F1: Taux fréquence | G1: Taux gravité
A2: Jan | B2: 3 | C2: 7 | D2: 18 | E2: 18 | F2: 4.1 | G2: 0.9
A3: Fév | B3: 2 | C3: 6 | D3: 16 | E3: 20 | F3: 3.6 | G3: 0.8
A4: Mar | B4: 2 | C4: 5 | D4: 14 | E4: 22 | F4: 3 | G4: 0.7
A5: Avr | B5: 1 | C5: 4 | D5: 12 | E5: 25 | F5: 2.3 | G5: 0.5
A6: Mai | B6: 1 | C6: 3 | D6: 10 | E6: 27 | F6: 2 | G6: 0.4
A7: Juin | B7: 1 | C7: 3 | D7: 9 | E7: 28 | F7: 1.8 | G7: 0.4
A8: Juil | B8: 2 | C8: 4 | D8: 11 | E8: 25 | F8: 2.5 | G8: 0.6
A9: Août | B9: 1 | C9: 3 | D9: 8 | E9: 30 | F9: 1.6 | G9: 0.3
A10: Sep | B10: 0 | C10: 2 | D10: 7 | E10: 32 | F10: 0.9 | G10: 0.2
A11: Oct | B11: 0 | C11: 2 | D11: 6 | E11: 35 | F11: 0.7 | G11: 0.2
A12: Nov | B12: 0 | C12: 1 | D12: 5 | E12: 34 | F12: 0.6 | G12: 0.1
A13: Déc | B13: 0 | C13: 1 | D13: 4 | E13: 36 | F13: 0.5 | G13: 0.1

Sheet Paramètres
A1: Paramètre | B1: Valeur | C1: Utilisation
A2: Objectif conformité | B2: 98 | C2: Seuil vert conformité
A3: Objectif actions clôturées | B3: 90 | C3: Suivi actions
A4: Seuil incidents critique | B4: 3 | C4: Alerte sécurité
A5: Objectif déchets recyclés | B5: 80 | C5: Performance environnement
A6: Objectif score QHSE | B6: 92 | C6: Score global
