Workbook

Sheet Synthese
A1: Compte rendu d'activité — Synthèse annuelle
A3: Total activités | C3: Heures cumulées | E3: Objectif moyen | G3: Performance globale
A4: =SUM(Indicateurs!B3:B14) | C4: =SUM(Indicateurs!F3:F14) | E4: =AVERAGE(Indicateurs!K3:K14) | G4: =AVERAGE(Indicateurs!L3:L14)
A7: Contexte
A8: Rapport annuel | B8: =Parametres!B4 | C8: Ville | D8: =Parametres!B8 | E8: Service | F8: =Parametres!B6 | G8: Période | H8: =Parametres!B3
A9: Heures moyennes par activité | B9: =IF(A4=0,0,C4/A4)
A10: Performance annuelle (%) | B10: =G4
A12: Répartition des activités par projet
A13: Projet | B13: Nombre
A14: Audit interne | B14: 24
A15: Digitalisation | B15: 23
A16: Qualité des données | B16: 25
A17: Formation | B17: 23
A18: Analyse KPI | B18: 22
A19: Support opérationnel | B19: 18
A20: Reporting mensuel | B20: 25
A27: Statut | B27: Nombre
A28: Réalisées | B28: =SUM(Indicateurs!C3:C14)
A29: Reportées | B29: =SUM(Indicateurs!E3:E14)

Sheet Activites
A1: Compte rendu d'activité — Journal des actions
A2: Date | B2: Projet | C2: Type activité | D2: Description | E2: Temps (h) | F2: Priorité | G2: Statut | H2: Impact | I2: Intervenant | J2: Ville (France)
A3: 45660 | B3: Audit interne | C3: Documentation | D3: Rédaction d’une procédure et mise en place d’un contrôle qualité simple. | E3: 8 | F3: Basse | G3: Reporté | H3: Moyen | I3: Camille Martin | J3: Toulouse
A4: 45662 | B4: Digitalisation | C4: Support | D4: Consolidation des données et contrôle des écarts avant diffusion. | E4: 1 | F4: Haute | G4: En cours | H4: Faible | I4: Léa Dubois | J4: Nantes
A5: 45664 | B5: Audit interne | C5: Réunion | D5: Consolidation des données et contrôle des écarts avant diffusion. | E5: 1 | F5: Moyenne | G5: Reporté | H5: Moyen | I5: Léa Dubois | J5: Marseille
A6: 45666 | B6: Digitalisation | C6: Support | D6: Rédaction d’une procédure et mise en place d’un contrôle qualité simple. | E6: 4 | F6: Basse | G6: Reporté | H6: Fort | I6: Jules Laurent | J6: Lyon
A7: 45668 | B7: Digitalisation | C7: Documentation | D7: Consolidation des données et contrôle des écarts avant diffusion. | E7: 7 | F7: Haute | G7: En cours | H7: Faible | I7: Jules Laurent | J7: Montpellier
A8: 45670 | B8: Digitalisation | C8: Support | D8: Nettoyage des anomalies, correction des doublons et standardisation des formats. | E8: 7 | F8: Moyenne | G8: Réalisé | H8: Moyen | I8: Camille Martin | J8: Lille
A9: 45672 | B9: Qualité des données | C9: Support | D9: Nettoyage des anomalies, correction des doublons et standardisation des formats. | E9: 6 | F9: Haute | G9: En cours | H9: Faible | I9: Hugo Morel | J9: Bordeaux
A10: 45674 | B10: Formation | C10: Amélioration | D10: Automatisation d’un reporting récurrent (Power Query / tableaux dynamiques). | E10: 2 | F10: Moyenne | G10: En cours | H10: Fort | I10: Jules Laurent | J10: Toulouse
A11: 45676 | B11: Audit interne | C11: Production | D11: Consolidation des données et contrôle des écarts avant diffusion. | E11: 2 | F11: Basse | G11: Reporté | H11: Faible | I11: Jules Laurent | J11: Lille
A12: 45678 | B12: Analyse KPI | C12: Documentation | D12: Analyse des tendances et recommandations d’actions correctives. | E12: 3 | F12: Haute | G12: Réalisé | H12: Faible | I12: Chloé Petit | J12: Toulouse
A13: 45680 | B13: Qualité des données | C13: Support | D13: Mise à jour du tableau de bord et préparation de la synthèse direction. | E13: 2 | F13: Haute | G13: Reporté | H13: Moyen | I13: Enzo Rousseau | J13: Montpellier
A14: 45682 | B14: Support opérationnel | C14: Support | D14: Nettoyage des anomalies, correction des doublons et standardisation des formats. | E14: 6 | F14: Basse | G14: En cours | H14: Faible | I14: Enzo Rousseau | J14: Lyon
... A162: 45978 | B162: Qualité des données | C162: Support | D162: Automatisation d’un reporting récurrent (Power Query / tableaux dynamiques). | E162: 5 | F162: Moyenne | G162: En cours | H162: Moyen | I162: Lucas Bernard | J162: Lille

Sheet Indicateurs
A1: Indicateurs de performance — calcul automatique
A2: Mois | B2: Total activités | C2: Réalisées | D2: En cours | E2: Reportées | F2: Heures totales | G2: Heures réalisées | H2: Heures moyennes / activité | I2: Priorité haute | J2: Impact fort | K2: Objectif (réalisées) | L2: Taux réalisation
A3: Janvier | B3: =COUNTIFS(Activites!$A$3:$A$1048576,">="&$M3,Activites!$A$3:$A$1048576,"<="&$N3) | C3: =COUNTIFS(Activites!$A$3:$A$1048576,">="&$M3,Activites!$A$3:$A$1048576,"<="&$N3,Activites!$G$3:$G$1048576,"Réalisé") | D3: =COUNTIFS(Activites!$A$3:$A$1048576,">="&$M3,Activites!$A$3:$A$1048576,"<="&$N3,Activites!$G$3:$G$1048576,"En cours") | E3: =COUNTIFS(Activites!$A$3:$A$1048576,">="&$M3,Activites!$A$3:$A$1048576,"<="&$N3,Activites!$G$3:$G$1048576,"Reporté") | F3: =SUMIFS(Activites!$E$3:$E$1048576,Activites!$A$3:$A$1048576,">="&$M3,Activites!$A$3:$A$1048576,"<="&$N3) | G3: =SUMIFS(Activites!$E$3:$E$1048576,Activites!$A$3:$A$1048576,">="&$M3,Activites!$A$3:$A$1048576,"<="&$N3,Activites!$G$3:$G$1048576,"Réalisé") | H3: =IF(B3=0,0,F3/B3) | I3: =COUNTIFS(Activites!$A$3:$A$1048576,">="&$M3,Activites!$A$3:$A$1048576,"<="&$N3,Activites!$F$3:$F$1048576,"Haute") | J3: =COUNTIFS(Activites!$A$3:$A$1048576,">="&$M3,Activites!$A$3:$A$1048576,"<="&$N3,Activites!$H$3:$H$1048576,"Fort") | K3: 45 | L3: =IF(K3=0,0,C3/K3) | M3: 45658 | N3: 45688
A4: Février | B4: =COUNTIFS(Activites!$A$3:$A$1048576,">="&$M4,Activites!$A$3:$A$1048576,"<="&$N4) | C4: =COUNTIFS(Activites!$A$3:$A$1048576,">="&$M4,Activites!$A$3:$A$1048576,"<="&$N4,Activites!$G$3:$G$1048576,"Réalisé") | D4: =COUNTIFS(Activites!$A$3:$A$1048576,">="&$M4,Activites!$A$3:$A$1048576,"<="&$N4,Activites!$G$3:$G$1048576,"En cours") | E4: =COUNTIFS(Activites!$A$3:$A$1048576,">="&$M4,Activites!$A$3:$A$1048576,"<="&$N4,Activites!$G$3:$G$1048576,"Reporté") | F4: =SUMIFS(Activites!$E$3:$E$1048576,Activites!$A$3:$A$1048576,">="&$M4,Activites!$A$3:$A$1048576,"<="&$N4) | G4: =SUMIFS(Activites!$E$3:$E$1048576,Activites!$A$3:$A$1048576,">="&$M4,Activites!$A$3:$A$1048576,"<="&$N4,Activites!$G$3:$G$1048576,"Réalisé") | H4: =IF(B4=0,0,F4/B4) | I4: =COUNTIFS(Activites!$A$3:$A$1048576,">="&$M4,Activites!$A$3:$A$1048576,"<="&$N4,Activites!$F$3:$F$1048576,"Haute") | J4: =COUNTIFS(Activites!$A$3:$A$1048576,">="&$M4,Activites!$A$3:$A$1048576,"<="&$N4,Activites!$H$3:$H$1048576,"Fort") | K4: 45 | L4: =IF(K4=0,0,C4/K4) | M4: 45689 | N4: 45716
A5: Mars | B5: =COUNTIFS(Activites!$A$3:$A$1048576,">="&$M5,Activites!$A$3:$A$1048576,"<="&$N5) | C5: =COUNTIFS(Activites!$A$3:$A$1048576,">="&$M5,Activites!$A$3:$A$1048576,"<="&$N5,Activites!$G$3:$G$1048576,"Réalisé") | D5: =COUNTIFS(Activites!$A$3:$A$1048576,">="&$M5,Activites!$A$3:$A$1048576,"<="&$N5,Activites!$G$3:$G$1048576,"En cours") | E5: =COUNTIFS(Activites!$A$3:$A$1048576,">="&$M5,Activites!$A$3:$A$1048576,"<="&$N5,Activites!$G$3:$G$1048576,"Reporté") | F5: =SUMIFS(Activites!$E$3:$E$1048576,Activites!$A$3:$A$1048576,">="&$M5,Activites!$A$3:$A$1048576,"<="&$N5) | G5: =SUMIFS(Activites!$E$3:$E$1048576,Activites!$A$3:$A$1048576,">="&$M5,Activites!$A$3:$A$1048576,"<="&$N5,Activites!$G$3:$G$1048576,"Réalisé") | H5: =IF(B5=0,0,F5/B5) | I5: =COUNTIFS(Activites!$A$3:$A$1048576,">="&$M5,Activites!$A$3:$A$1048576,"<="&$N5,Activites!$F$3:$F$1048576,"Haute") | J5: =COUNTIFS(Activites!$A$3:$A$1048576,">="&$M5,Activites!$A$3:$A$1048576,"<="&$N5,Activites!$H$3:$H$1048576,"Fort") | K5: 45 | L5: =IF(K5=0,0,C5/K5) | M5: 45717 | N5: 45747
A6: Avril | B6: =COUNTIFS(Activites!$A$3:$A$1048576,">="&$M6,Activites!$A$3:$A$1048576,"<="&$N6) | C6: =COUNTIFS(Activites!$A$3:$A$1048576,">="&$M6,Activites!$A$3:$A$1048576,"<="&$N6,Activites!$G$3:$G$1048576,"Réalisé") | D6: =COUNTIFS(Activites!$A$3:$A$1048576,">="&$M6,Activites!$A$3:$A$1048576,"<="&$N6,Activites!$G$3:$G$1048576,"En cours") | E6: =COUNTIFS(Activites!$A$3:$A$1048576,">="&$M6,Activites!$A$3:$A$1048576,"<="&$N6,Activites!$G$3:$G$1048576,"Reporté") | F6: =SUMIFS(Activites!$E$3:$E$1048576,Activites!$A$3:$A$1048576,">="&$M6,Activites!$A$3:$A$1048576,"<="&$N6) | G6: =SUMIFS(Activites!$E$3:$E$1048576,Activites!$A$3:$A$1048576,">="&$M6,Activites!$A$3:$A$1048576,"<="&$N6,Activites!$G$3:$G$1048576,"Réalisé") | H6: =IF(B6=0,0,F6/B6) | I6: =COUNTIFS(Activites!$A$3:$A$1048576,">="&$M6,Activites!$A$3:$A$1048576,"<="&$N6,Activites!$F$3:$F$1048576,"Haute") | J6: =COUNTIFS(Activites!$A$3:$A$1048576,">="&$M6,Activites!$A$3:$A$1048576,"<="&$N6,Activites!$H$3:$H$1048576,"Fort") | K6: 45 | L6: =IF(K6=0,0,C6/K6) | M6: 45748 | N6: 45777
A7: Mai | B7: =COUNTIFS(Activites!$A$3:$A$1048576,">="&$M7,Activites!$A$3:$A$1048576,"<="&$N7) | C7: =COUNTIFS(Activites!$A$3:$A$1048576,">="&$M7,Activites!$A$3:$A$1048576,"<="&$N7,Activites!$G$3:$G$1048576,"Réalisé") | D7: =COUNTIFS(Activites!$A$3:$A$1048576,">="&$M7,Activites!$A$3:$A$1048576,"<="&$N7,Activites!$G$3:$G$1048576,"En cours") | E7: =COUNTIFS(Activites!$A$3:$A$1048576,">="&$M7,Activites!$A$3:$A$1048576,"<="&$N7,Activites!$G$3:$G$1048576,"Reporté") | F7: =SUMIFS(Activites!$E$3:$E$1048576,Activites!$A$3:$A$1048576,">="&$M7,Activites!$A$3:$A$1048576,"<="&$N7) | G7: =SUMIFS(Activites!$E$3:$E$1048576,Activites!$A$3:$A$1048576,">="&$M7,Activites!$A$3:$A$1048576,"<="&$N7,Activites!$G$3:$G$1048576,"Réalisé") | H7: =IF(B7=0,0,F7/B7) | I7: =COUNTIFS(Activites!$A$3:$A$1048576,">="&$M7,Activites!$A$3:$A$1048576,"<="&$N7,Activites!$F$3:$F$1048576,"Haute") | J7: =COUNTIFS(Activites!$A$3:$A$1048576,">="&$M7,Activites!$A$3:$A$1048576,"<="&$N7,Activites!$H$3:$H$1048576,"Fort") | K7: 45 | L7: =IF(K7=0,0,C7/K7) | M7: 45778 | N7: 45808
A8: Juin | B8: =COUNTIFS(Activites!$A$3:$A$1048576,">="&$M8,Activites!$A$3:$A$1048576,"<="&$N8) | C8: =COUNTIFS(Activites!$A$3:$A$1048576,">="&$M8,Activites!$A$3:$A$1048576,"<="&$N8,Activites!$G$3:$G$1048576,"Réalisé") | D8: =COUNTIFS(Activites!$A$3:$A$1048576,">="&$M8,Activites!$A$3:$A$1048576,"<="&$N8,Activites!$G$3:$G$1048576,"En cours") | E8: =COUNTIFS(Activites!$A$3:$A$1048576,">="&$M8,Activites!$A$3:$A$1048576,"<="&$N8,Activites!$G$3:$G$1048576,"Reporté") | F8: =SUMIFS(Activites!$E$3:$E$1048576,Activites!$A$3:$A$1048576,">="&$M8,Activites!$A$3:$A$1048576,"<="&$N8) | G8: =SUMIFS(Activites!$E$3:$E$1048576,Activites!$A$3:$A$1048576,">="&$M8,Activites!$A$3:$A$1048576,"<="&$N8,Activites!$G$3:$G$1048576,"Réalisé") | H8: =IF(B8=0,0,F8/B8) | I8: =COUNTIFS(Activites!$A$3:$A$1048576,">="&$M8,Activites!$A$3:$A$1048576,"<="&$N8,Activites!$F$3:$F$1048576,"Haute") | J8: =COUNTIFS(Activites!$A$3:$A$1048576,">="&$M8,Activites!$A$3:$A$1048576,"<="&$N8,Activites!$H$3:$H$1048576,"Fort") | K8: 45 | L8: =IF(K8=0,0,C8/K8) | M8: 45809 | N8: 45838
A9: Juillet | B9: =COUNTIFS(Activites!$A$3:$A$1048576,">="&$M9,Activites!$A$3:$A$1048576,"<="&$N9) | C9: =COUNTIFS(Activites!$A$3:$A$1048576,">="&$M9,Activites!$A$3:$A$1048576,"<="&$N9,Activites!$G$3:$G$1048576,"Réalisé") | D9: =COUNTIFS(Activites!$A$3:$A$1048576,">="&$M9,Activites!$A$3:$A$1048576,"<="&$N9,Activites!$G$3:$G$1048576,"En cours") | E9: =COUNTIFS(Activites!$A$3:$A$1048576,">="&$M9,Activites!$A$3:$A$1048576,"<="&$N9,Activites!$G$3:$G$1048576,"Reporté") | F9: =SUMIFS(Activites!$E$3:$E$1048576,Activites!$A$3:$A$1048576,">="&$M9,Activites!$A$3:$A$1048576,"<="&$N9) | G9: =SUMIFS(Activites!$E$3:$E$1048576,Activites!$A$3:$A$1048576,">="&$M9,Activites!$A$3:$A$1048576,"<="&$N9,Activites!$G$3:$G$1048576,"Réalisé") | H9: =IF(B9=0,0,F9/B9) | I9: =COUNTIFS(Activites!$A$3:$A$1048576,">="&$M9,Activites!$A$3:$A$1048576,"<="&$N9,Activites!$F$3:$F$1048576,"Haute") | J9: =COUNTIFS(Activites!$A$3:$A$1048576,">="&$M9,Activites!$A$3:$A$1048576,"<="&$N9,Activites!$H$3:$H$1048576,"Fort") | K9: 45 | L9: =IF(K9=0,0,C9/K9) | M9: 45839 | N9: 45869
A10: Août | B10: =COUNTIFS(Activites!$A$3:$A$1048576,">="&$M10,Activites!$A$3:$A$1048576,"<="&$N10) | C10: =COUNTIFS(Activites!$A$3:$A$1048576,">="&$M10,Activites!$A$3:$A$1048576,"<="&$N10,Activites!$G$3:$G$1048576,"Réalisé") | D10: =COUNTIFS(Activites!$A$3:$A$1048576,">="&$M10,Activites!$A$3:$A$1048576,"<="&$N10,Activites!$G$3:$G$1048576,"En cours") | E10: =COUNTIFS(Activites!$A$3:$A$1048576,">="&$M10,Activites!$A$3:$A$1048576,"<="&$N10,Activites!$G$3:$G$1048576,"Reporté") | F10: =SUMIFS(Activites!$E$3:$E$1048576,Activites!$A$3:$A$1048576,">="&$M10,Activites!$A$3:$A$1048576,"<="&$N10) | G10: =SUMIFS(Activites!$E$3:$E$1048576,Activites!$A$3:$A$1048576,">="&$M10,Activites!$A$3:$A$1048576,"<="&$N10,Activites!$G$3:$G$1048576,"Réalisé") | H10: =IF(B10=0,0,F10/B10) | I10: =COUNTIFS(Activites!$A$3:$A$1048576,">="&$M10,Activites!$A$3:$A$1048576,"<="&$N10,Activites!$F$3:$F$1048576,"Haute") | J10: =COUNTIFS(Activites!$A$3:$A$1048576,">="&$M10,Activites!$A$3:$A$1048576,"<="&$N10,Activites!$H$3:$H$1048576,"Fort") | K10: 45 | L10: =IF(K10=0,0,C10/K10) | M10: 45870 | N10: 45900
A11: Septembre | B11: =COUNTIFS(Activites!$A$3:$A$1048576,">="&$M11,Activites!$A$3:$A$1048576,"<="&$N11) | C11: =COUNTIFS(Activites!$A$3:$A$1048576,">="&$M11,Activites!$A$3:$A$1048576,"<="&$N11,Activites!$G$3:$G$1048576,"Réalisé") | D11: =COUNTIFS(Activites!$A$3:$A$1048576,">="&$M11,Activites!$A$3:$A$1048576,"<="&$N11,Activites!$G$3:$G$1048576,"En cours") | E11: =COUNTIFS(Activites!$A$3:$A$1048576,">="&$M11,Activites!$A$3:$A$1048576,"<="&$N11,Activites!$G$3:$G$1048576,"Reporté") | F11: =SUMIFS(Activites!$E$3:$E$1048576,Activites!$A$3:$A$1048576,">="&$M11,Activites!$A$3:$A$1048576,"<="&$N11) | G11: =SUMIFS(Activites!$E$3:$E$1048576,Activites!$A$3:$A$1048576,">="&$M11,Activites!$A$3:$A$1048576,"<="&$N11,Activites!$G$3:$G$1048576,"Réalisé") | H11: =IF(B11=0,0,F11/B11) | I11: =COUNTIFS(Activites!$A$3:$A$1048576,">="&$M11,Activites!$A$3:$A$1048576,"<="&$N11,Activites!$F$3:$F$1048576,"Haute") | J11: =COUNTIFS(Activites!$A$3:$A$1048576,">="&$M11,Activites!$A$3:$A$1048576,"<="&$N11,Activites!$H$3:$H$1048576,"Fort") | K11: 45 | L11: =IF(K11=0,0,C11/K11) | M11: 45901 | N11: 45930
A12: Octobre | B12: =COUNTIFS(Activites!$A$3:$A$1048576,">="&$M12,Activites!$A$3:$A$1048576,"<="&$N12) | C12: =COUNTIFS(Activites!$A$3:$A$1048576,">="&$M12,Activites!$A$3:$A$1048576,"<="&$N12,Activites!$G$3:$G$1048576,"Réalisé") | D12: =COUNTIFS(Activites!$A$3:$A$1048576,">="&$M12,Activites!$A$3:$A$1048576,"<="&$N12,Activites!$G$3:$G$1048576,"En cours") | E12: =COUNTIFS(Activites!$A$3:$A$1048576,">="&$M12,Activites!$A$3:$A$1048576,"<="&$N12,Activites!$G$3:$G$1048576,"Reporté") | F12: =SUMIFS(Activites!$E$3:$E$1048576,Activites!$A$3:$A$1048576,">="&$M12,Activites!$A$3:$A$1048576,"<="&$N12) | G12: =SUMIFS(Activites!$E$3:$E$1048576,Activites!$A$3:$A$1048576,">="&$M12,Activites!$A$3:$A$1048576,"<="&$N12,Activites!$G$3:$G$1048576,"Réalisé") | H12: =IF(B12=0,0,F12/B12) | I12: =COUNTIFS(Activites!$A$3:$A$1048576,">="&$M12,Activites!$A$3:$A$1048576,"<="&$N12,Activites!$F$3:$F$1048576,"Haute") | J12: =COUNTIFS(Activites!$A$3:$A$1048576,">="&$M12,Activites!$A$3:$A$1048576,"<="&$N12,Activites!$H$3:$H$1048576,"Fort") | K12: 45 | L12: =IF(K12=0,0,C12/K12) | M12: 45931 | N12: 45961
A13: Novembre | B13: =COUNTIFS(Activites!$A$3:$A$1048576,">="&$M13,Activites!$A$3:$A$1048576,"<="&$N13) | C13: =COUNTIFS(Activites!$A$3:$A$1048576,">="&$M13,Activites!$A$3:$A$1048576,"<="&$N13,Activites!$G$3:$G$1048576,"Réalisé") | D13: =COUNTIFS(Activites!$A$3:$A$1048576,">="&$M13,Activites!$A$3:$A$1048576,"<="&$N13,Activites!$G$3:$G$1048576,"En cours") | E13: =COUNTIFS(Activites!$A$3:$A$1048576,">="&$M13,Activites!$A$3:$A$1048576,"<="&$N13,Activites!$G$3:$G$1048576,"Reporté") | F13: =SUMIFS(Activites!$E$3:$E$1048576,Activites!$A$3:$A$1048576,">="&$M13,Activites!$A$3:$A$1048576,"<="&$N13) | G13: =SUMIFS(Activites!$E$3:$E$1048576,Activites!$A$3:$A$1048576,">="&$M13,Activites!$A$3:$A$1048576,"<="&$N13,Activites!$G$3:$G$1048576,"Réalisé") | H13: =IF(B13=0,0,F13/B13) | I13: =COUNTIFS(Activites!$A$3:$A$1048576,">="&$M13,Activites!$A$3:$A$1048576,"<="&$N13,Activites!$F$3:$F$1048576,"Haute") | J13: =COUNTIFS(Activites!$A$3:$A$1048576,">="&$M13,Activites!$A$3:$A$1048576,"<="&$N13,Activites!$H$3:$H$1048576,"Fort") | K13: 45 | L13: =IF(K13=0,0,C13/K13) | M13: 45962 | N13: 45991
A14: Décembre | B14: =COUNTIFS(Activites!$A$3:$A$1048576,">="&$M14,Activites!$A$3:$A$1048576,"<="&$N14) | C14: =COUNTIFS(Activites!$A$3:$A$1048576,">="&$M14,Activites!$A$3:$A$1048576,"<="&$N14,Activites!$G$3:$G$1048576,"Réalisé") | D14: =COUNTIFS(Activites!$A$3:$A$1048576,">="&$M14,Activites!$A$3:$A$1048576,"<="&$N14,Activites!$G$3:$G$1048576,"En cours") | E14: =COUNTIFS(Activites!$A$3:$A$1048576,">="&$M14,Activites!$A$3:$A$1048576,"<="&$N14,Activites!$G$3:$G$1048576,"Reporté") | F14: =SUMIFS(Activites!$E$3:$E$1048576,Activites!$A$3:$A$1048576,">="&$M14,Activites!$A$3:$A$1048576,"<="&$N14) | G14: =SUMIFS(Activites!$E$3:$E$1048576,Activites!$A$3:$A$1048576,">="&$M14,Activites!$A$3:$A$1048576,"<="&$N14,Activites!$G$3:$G$1048576,"Réalisé") | H14: =IF(B14=0,0,F14/B14) | I14: =COUNTIFS(Activites!$A$3:$A$1048576,">="&$M14,Activites!$A$3:$A$1048576,"<="&$N14,Activites!$F$3:$F$1048576,"Haute") | J14: =COUNTIFS(Activites!$A$3:$A$1048576,">="&$M14,Activites!$A$3:$A$1048576,"<="&$N14,Activites!$H$3:$H$1048576,"Fort") | K14: 45 | L14: =IF(K14=0,0,C14/K14) | M14: 45992 | N14: 46022

Sheet Parametres
A1: Paramètres du compte rendu d’activité
A3: Période | B3: Janvier – Décembre 2025
A4: Nom | B4: Camille Martin
A5: Fonction | B5: Chargé(e) de reporting
A6: Service | B6: Pilotage & Performance
A7: Entreprise | B7: Exemple SAS
A8: Ville (site) | B8: Paris
A9: Région | B9: Île-de-France
A10: Pays | B10: France
A11: Objectif annuel | B11: Suivi des activités, amélioration continue et reporting mensuel
A12: Mode rapport | B12: Annuel
