Workbook

Sheet Paramètres
A1: Paramètres globaux
A3: Niveau de service (z) | B3: 1.65
A4: Coeff. variation conso (σ/μ) | B4: 0.3
A5: Magasins (ex.) | B5: MG01,MG02,MG03
A6: Unités | B6: PIECE,KG,L,M,PACK,PAL
A7: Statut qualité | B7: Libre,Quarantaine,Bloqué

Sheet Articles
A1: Code article | B1: Désignation | C1: Unité | D1: Prix PMP | E1: Stock initial | F1: Conso_j | G1: LT_j | H1: σ/μ (coeff) | I1: z | J1: SS (calculé) | K1: ROP (calculé) | L1: Stock min | M1: Stock max
A2: ART-0001 | B2: Boulon M8x30 | C2: PIECE | D2: 0.12 | E2: 1000 | F2: 80 | G2: 3 | H2: =Paramètres!B4 | I2: =Paramètres!B3 | J2: =ROUNDUP(I2*(H2*F2)*SQRT(G2),0) | K2: =ROUNDUP(F2*G2+J2,0) | L2: 100 | M2: 200
A3: LUB-020 | B3: Huile HLP46 20L | C3: PACK | D3: 25 | E3: 20 | F3: 1 | G3: 5 | H3: =Paramètres!B4 | I3: =Paramètres!B3 | J3: =ROUNDUP(I3*(H3*F3)*SQRT(G3),0) | K3: =ROUNDUP(F3*G3+J3,0) | L3: 2 | M3: 6
J4: =ROUNDUP(I4*(H4*F4)*SQRT(G4),0) | K4: =ROUNDUP(F4*G4+J4,0)
J5: =ROUNDUP(I5*(H5*F5)*SQRT(G5),0) | K5: =ROUNDUP(F5*G5+J5,0)
J6: =ROUNDUP(I6*(H6*F6)*SQRT(G6),0) | K6: =ROUNDUP(F6*G6+J6,0)
J7: =ROUNDUP(I7*(H7*F7)*SQRT(G7),0) | K7: =ROUNDUP(F7*G7+J7,0)
J8: =ROUNDUP(I8*(H8*F8)*SQRT(G8),0) | K8: =ROUNDUP(F8*G8+J8,0)
J9: =ROUNDUP(I9*(H9*F9)*SQRT(G9),0) | K9: =ROUNDUP(F9*G9+J9,0)
J10: =ROUNDUP(I10*(H10*F10)*SQRT(G10),0) | K10: =ROUNDUP(F10*G10+J10,0)
J11: =ROUNDUP(I11*(H11*F11)*SQRT(G11),0) | K11: =ROUNDUP(F11*G11+J11,0)
J12: =ROUNDUP(I12*(H12*F12)*SQRT(G12),0) | K12: =ROUNDUP(F12*G12+J12,0)
J13: =ROUNDUP(I13*(H13*F13)*SQRT(G13),0) | K13: =ROUNDUP(F13*G13+J13,0)
J14: =ROUNDUP(I14*(H14*F14)*SQRT(G14),0) | K14: =ROUNDUP(F14*G14+J14,0)
J15: =ROUNDUP(I15*(H15*F15)*SQRT(G15),0) | K15: =ROUNDUP(F15*G15+J15,0)
... J301: =ROUNDUP(I301*(H301*F301)*SQRT(G301),0) | K301: =ROUNDUP(F301*G301+J301,0)

Sheet Registre
A1: Date | B1: Type | C1: N° bon | D1: Magasin | E1: Emplacement | F1: Code article | G1: Désignation | H1: Lot/Série | I1: DLC/DPF | J1: Qté | K1: Unité | L1: Prix PMP | M1: Signed Qté | N1: Valeur signée | O1: Observations
G2: =IFERROR(VLOOKUP(F2,Articles!$A:$M,2,FALSE),"") | L2: =IFERROR(VLOOKUP(F2,Articles!$A:$M,4,FALSE),"") | M2: =IF(OR(B2="BE",B2="BT+",B2="BI+"),J2,-J2) | N2: =IFERROR(M2*L2,"")
G3: =IFERROR(VLOOKUP(F3,Articles!$A:$M,2,FALSE),"") | L3: =IFERROR(VLOOKUP(F3,Articles!$A:$M,4,FALSE),"") | M3: =IF(OR(B3="BE",B3="BT+",B3="BI+"),J3,-J3) | N3: =IFERROR(M3*L3,"")
G4: =IFERROR(VLOOKUP(F4,Articles!$A:$M,2,FALSE),"") | L4: =IFERROR(VLOOKUP(F4,Articles!$A:$M,4,FALSE),"") | M4: =IF(OR(B4="BE",B4="BT+",B4="BI+"),J4,-J4) | N4: =IFERROR(M4*L4,"")
G5: =IFERROR(VLOOKUP(F5,Articles!$A:$M,2,FALSE),"") | L5: =IFERROR(VLOOKUP(F5,Articles!$A:$M,4,FALSE),"") | M5: =IF(OR(B5="BE",B5="BT+",B5="BI+"),J5,-J5) | N5: =IFERROR(M5*L5,"")
G6: =IFERROR(VLOOKUP(F6,Articles!$A:$M,2,FALSE),"") | L6: =IFERROR(VLOOKUP(F6,Articles!$A:$M,4,FALSE),"") | M6: =IF(OR(B6="BE",B6="BT+",B6="BI+"),J6,-J6) | N6: =IFERROR(M6*L6,"")
G7: =IFERROR(VLOOKUP(F7,Articles!$A:$M,2,FALSE),"") | L7: =IFERROR(VLOOKUP(F7,Articles!$A:$M,4,FALSE),"") | M7: =IF(OR(B7="BE",B7="BT+",B7="BI+"),J7,-J7) | N7: =IFERROR(M7*L7,"")
G8: =IFERROR(VLOOKUP(F8,Articles!$A:$M,2,FALSE),"") | L8: =IFERROR(VLOOKUP(F8,Articles!$A:$M,4,FALSE),"") | M8: =IF(OR(B8="BE",B8="BT+",B8="BI+"),J8,-J8) | N8: =IFERROR(M8*L8,"")
G9: =IFERROR(VLOOKUP(F9,Articles!$A:$M,2,FALSE),"") | L9: =IFERROR(VLOOKUP(F9,Articles!$A:$M,4,FALSE),"") | M9: =IF(OR(B9="BE",B9="BT+",B9="BI+"),J9,-J9) | N9: =IFERROR(M9*L9,"")
G10: =IFERROR(VLOOKUP(F10,Articles!$A:$M,2,FALSE),"") | L10: =IFERROR(VLOOKUP(F10,Articles!$A:$M,4,FALSE),"") | M10: =IF(OR(B10="BE",B10="BT+",B10="BI+"),J10,-J10) | N10: =IFERROR(M10*L10,"")
G11: =IFERROR(VLOOKUP(F11,Articles!$A:$M,2,FALSE),"") | L11: =IFERROR(VLOOKUP(F11,Articles!$A:$M,4,FALSE),"") | M11: =IF(OR(B11="BE",B11="BT+",B11="BI+"),J11,-J11) | N11: =IFERROR(M11*L11,"")
G12: =IFERROR(VLOOKUP(F12,Articles!$A:$M,2,FALSE),"") | L12: =IFERROR(VLOOKUP(F12,Articles!$A:$M,4,FALSE),"") | M12: =IF(OR(B12="BE",B12="BT+",B12="BI+"),J12,-J12) | N12: =IFERROR(M12*L12,"")
G13: =IFERROR(VLOOKUP(F13,Articles!$A:$M,2,FALSE),"") | L13: =IFERROR(VLOOKUP(F13,Articles!$A:$M,4,FALSE),"") | M13: =IF(OR(B13="BE",B13="BT+",B13="BI+"),J13,-J13) | N13: =IFERROR(M13*L13,"")
... G401: =IFERROR(VLOOKUP(F401,Articles!$A:$M,2,FALSE),"") | L401: =IFERROR(VLOOKUP(F401,Articles!$A:$M,4,FALSE),"") | M401: =IF(OR(B401="BE",B401="BT+",B401="BI+"),J401,-J401) | N401: =IFERROR(M401*L401,"")

Sheet Stock_Courant
A1: Code article | B1: Désignation | C1: Unité | D1: Stock initial | E1: Entrées (BE+BT+BI+) | F1: Sorties (BS+BT-+BI-) | G1: Stock courant | H1: SS | I1: ROP | J1: Sous ROP ?
A2: =IF(Articles!A2<>"",Articles!A2,"") | B2: =IF(Articles!B2<>"",Articles!B2,"") | C2: =IF(Articles!C2<>"",Articles!C2,"") | D2: =IF(Articles!E2<>"",Articles!E2,"") | E2: =SUMIFS(Registre!J:J,Registre!F:F,A2,Registre!B:B,"BE")+SUMIFS(Registre!J:J,Registre!F:F,A2,Registre!B:B,"BT+")+SUMIFS(Registre!J:J,Registre!F:F,A2,Registre!B:B,"BI+") | F2: =SUMIFS(Registre!J:J,Registre!F:F,A2,Registre!B:B,"BS")+SUMIFS(Registre!J:J,Registre!F:F,A2,Registre!B:B,"BT-")+SUMIFS(Registre!J:J,Registre!F:F,A2,Registre!B:B,"BI-") | G2: =IF(A2<>"",D2+E2-F2,"") | H2: =IF(Articles!J2<>"",Articles!J2,"") | I2: =IF(Articles!K2<>"",Articles!K2,"") | J2: =IF(AND(A2<>"",G2<>"",I2<>""),IF(G2<=I2,"OUI","NON"),"")
A3: =IF(Articles!A3<>"",Articles!A3,"") | B3: =IF(Articles!B3<>"",Articles!B3,"") | C3: =IF(Articles!C3<>"",Articles!C3,"") | D3: =IF(Articles!E3<>"",Articles!E3,"") | E3: =SUMIFS(Registre!J:J,Registre!F:F,A3,Registre!B:B,"BE")+SUMIFS(Registre!J:J,Registre!F:F,A3,Registre!B:B,"BT+")+SUMIFS(Registre!J:J,Registre!F:F,A3,Registre!B:B,"BI+") | F3: =SUMIFS(Registre!J:J,Registre!F:F,A3,Registre!B:B,"BS")+SUMIFS(Registre!J:J,Registre!F:F,A3,Registre!B:B,"BT-")+SUMIFS(Registre!J:J,Registre!F:F,A3,Registre!B:B,"BI-") | G3: =IF(A3<>"",D3+E3-F3,"") | H3: =IF(Articles!J3<>"",Articles!J3,"") | I3: =IF(Articles!K3<>"",Articles!K3,"") | J3: =IF(AND(A3<>"",G3<>"",I3<>""),IF(G3<=I3,"OUI","NON"),"")
A4: =IF(Articles!A4<>"",Articles!A4,"") | B4: =IF(Articles!B4<>"",Articles!B4,"") | C4: =IF(Articles!C4<>"",Articles!C4,"") | D4: =IF(Articles!E4<>"",Articles!E4,"") | E4: =SUMIFS(Registre!J:J,Registre!F:F,A4,Registre!B:B,"BE")+SUMIFS(Registre!J:J,Registre!F:F,A4,Registre!B:B,"BT+")+SUMIFS(Registre!J:J,Registre!F:F,A4,Registre!B:B,"BI+") | F4: =SUMIFS(Registre!J:J,Registre!F:F,A4,Registre!B:B,"BS")+SUMIFS(Registre!J:J,Registre!F:F,A4,Registre!B:B,"BT-")+SUMIFS(Registre!J:J,Registre!F:F,A4,Registre!B:B,"BI-") | G4: =IF(A4<>"",D4+E4-F4,"") | H4: =IF(Articles!J4<>"",Articles!J4,"") | I4: =IF(Articles!K4<>"",Articles!K4,"") | J4: =IF(AND(A4<>"",G4<>"",I4<>""),IF(G4<=I4,"OUI","NON"),"")
A5: =IF(Articles!A5<>"",Articles!A5,"") | B5: =IF(Articles!B5<>"",Articles!B5,"") | C5: =IF(Articles!C5<>"",Articles!C5,"") | D5: =IF(Articles!E5<>"",Articles!E5,"") | E5: =SUMIFS(Registre!J:J,Registre!F:F,A5,Registre!B:B,"BE")+SUMIFS(Registre!J:J,Registre!F:F,A5,Registre!B:B,"BT+")+SUMIFS(Registre!J:J,Registre!F:F,A5,Registre!B:B,"BI+") | F5: =SUMIFS(Registre!J:J,Registre!F:F,A5,Registre!B:B,"BS")+SUMIFS(Registre!J:J,Registre!F:F,A5,Registre!B:B,"BT-")+SUMIFS(Registre!J:J,Registre!F:F,A5,Registre!B:B,"BI-") | G5: =IF(A5<>"",D5+E5-F5,"") | H5: =IF(Articles!J5<>"",Articles!J5,"") | I5: =IF(Articles!K5<>"",Articles!K5,"") | J5: =IF(AND(A5<>"",G5<>"",I5<>""),IF(G5<=I5,"OUI","NON"),"")
A6: =IF(Articles!A6<>"",Articles!A6,"") | B6: =IF(Articles!B6<>"",Articles!B6,"") | C6: =IF(Articles!C6<>"",Articles!C6,"") | D6: =IF(Articles!E6<>"",Articles!E6,"") | E6: =SUMIFS(Registre!J:J,Registre!F:F,A6,Registre!B:B,"BE")+SUMIFS(Registre!J:J,Registre!F:F,A6,Registre!B:B,"BT+")+SUMIFS(Registre!J:J,Registre!F:F,A6,Registre!B:B,"BI+") | F6: =SUMIFS(Registre!J:J,Registre!F:F,A6,Registre!B:B,"BS")+SUMIFS(Registre!J:J,Registre!F:F,A6,Registre!B:B,"BT-")+SUMIFS(Registre!J:J,Registre!F:F,A6,Registre!B:B,"BI-") | G6: =IF(A6<>"",D6+E6-F6,"") | H6: =IF(Articles!J6<>"",Articles!J6,"") | I6: =IF(Articles!K6<>"",Articles!K6,"") | J6: =IF(AND(A6<>"",G6<>"",I6<>""),IF(G6<=I6,"OUI","NON"),"")
A7: =IF(Articles!A7<>"",Articles!A7,"") | B7: =IF(Articles!B7<>"",Articles!B7,"") | C7: =IF(Articles!C7<>"",Articles!C7,"") | D7: =IF(Articles!E7<>"",Articles!E7,"") | E7: =SUMIFS(Registre!J:J,Registre!F:F,A7,Registre!B:B,"BE")+SUMIFS(Registre!J:J,Registre!F:F,A7,Registre!B:B,"BT+")+SUMIFS(Registre!J:J,Registre!F:F,A7,Registre!B:B,"BI+") | F7: =SUMIFS(Registre!J:J,Registre!F:F,A7,Registre!B:B,"BS")+SUMIFS(Registre!J:J,Registre!F:F,A7,Registre!B:B,"BT-")+SUMIFS(Registre!J:J,Registre!F:F,A7,Registre!B:B,"BI-") | G7: =IF(A7<>"",D7+E7-F7,"") | H7: =IF(Articles!J7<>"",Articles!J7,"") | I7: =IF(Articles!K7<>"",Articles!K7,"") | J7: =IF(AND(A7<>"",G7<>"",I7<>""),IF(G7<=I7,"OUI","NON"),"")
A8: =IF(Articles!A8<>"",Articles!A8,"") | B8: =IF(Articles!B8<>"",Articles!B8,"") | C8: =IF(Articles!C8<>"",Articles!C8,"") | D8: =IF(Articles!E8<>"",Articles!E8,"") | E8: =SUMIFS(Registre!J:J,Registre!F:F,A8,Registre!B:B,"BE")+SUMIFS(Registre!J:J,Registre!F:F,A8,Registre!B:B,"BT+")+SUMIFS(Registre!J:J,Registre!F:F,A8,Registre!B:B,"BI+") | F8: =SUMIFS(Registre!J:J,Registre!F:F,A8,Registre!B:B,"BS")+SUMIFS(Registre!J:J,Registre!F:F,A8,Registre!B:B,"BT-")+SUMIFS(Registre!J:J,Registre!F:F,A8,Registre!B:B,"BI-") | G8: =IF(A8<>"",D8+E8-F8,"") | H8: =IF(Articles!J8<>"",Articles!J8,"") | I8: =IF(Articles!K8<>"",Articles!K8,"") | J8: =IF(AND(A8<>"",G8<>"",I8<>""),IF(G8<=I8,"OUI","NON"),"")
A9: =IF(Articles!A9<>"",Articles!A9,"") | B9: =IF(Articles!B9<>"",Articles!B9,"") | C9: =IF(Articles!C9<>"",Articles!C9,"") | D9: =IF(Articles!E9<>"",Articles!E9,"") | E9: =SUMIFS(Registre!J:J,Registre!F:F,A9,Registre!B:B,"BE")+SUMIFS(Registre!J:J,Registre!F:F,A9,Registre!B:B,"BT+")+SUMIFS(Registre!J:J,Registre!F:F,A9,Registre!B:B,"BI+") | F9: =SUMIFS(Registre!J:J,Registre!F:F,A9,Registre!B:B,"BS")+SUMIFS(Registre!J:J,Registre!F:F,A9,Registre!B:B,"BT-")+SUMIFS(Registre!J:J,Registre!F:F,A9,Registre!B:B,"BI-") | G9: =IF(A9<>"",D9+E9-F9,"") | H9: =IF(Articles!J9<>"",Articles!J9,"") | I9: =IF(Articles!K9<>"",Articles!K9,"") | J9: =IF(AND(A9<>"",G9<>"",I9<>""),IF(G9<=I9,"OUI","NON"),"")
A10: =IF(Articles!A10<>"",Articles!A10,"") | B10: =IF(Articles!B10<>"",Articles!B10,"") | C10: =IF(Articles!C10<>"",Articles!C10,"") | D10: =IF(Articles!E10<>"",Articles!E10,"") | E10: =SUMIFS(Registre!J:J,Registre!F:F,A10,Registre!B:B,"BE")+SUMIFS(Registre!J:J,Registre!F:F,A10,Registre!B:B,"BT+")+SUMIFS(Registre!J:J,Registre!F:F,A10,Registre!B:B,"BI+") | F10: =SUMIFS(Registre!J:J,Registre!F:F,A10,Registre!B:B,"BS")+SUMIFS(Registre!J:J,Registre!F:F,A10,Registre!B:B,"BT-")+SUMIFS(Registre!J:J,Registre!F:F,A10,Registre!B:B,"BI-") | G10: =IF(A10<>"",D10+E10-F10,"") | H10: =IF(Articles!J10<>"",Articles!J10,"") | I10: =IF(Articles!K10<>"",Articles!K10,"") | J10: =IF(AND(A10<>"",G10<>"",I10<>""),IF(G10<=I10,"OUI","NON"),"")
A11: =IF(Articles!A11<>"",Articles!A11,"") | B11: =IF(Articles!B11<>"",Articles!B11,"") | C11: =IF(Articles!C11<>"",Articles!C11,"") | D11: =IF(Articles!E11<>"",Articles!E11,"") | E11: =SUMIFS(Registre!J:J,Registre!F:F,A11,Registre!B:B,"BE")+SUMIFS(Registre!J:J,Registre!F:F,A11,Registre!B:B,"BT+")+SUMIFS(Registre!J:J,Registre!F:F,A11,Registre!B:B,"BI+") | F11: =SUMIFS(Registre!J:J,Registre!F:F,A11,Registre!B:B,"BS")+SUMIFS(Registre!J:J,Registre!F:F,A11,Registre!B:B,"BT-")+SUMIFS(Registre!J:J,Registre!F:F,A11,Registre!B:B,"BI-") | G11: =IF(A11<>"",D11+E11-F11,"") | H11: =IF(Articles!J11<>"",Articles!J11,"") | I11: =IF(Articles!K11<>"",Articles!K11,"") | J11: =IF(AND(A11<>"",G11<>"",I11<>""),IF(G11<=I11,"OUI","NON"),"")
A12: =IF(Articles!A12<>"",Articles!A12,"") | B12: =IF(Articles!B12<>"",Articles!B12,"") | C12: =IF(Articles!C12<>"",Articles!C12,"") | D12: =IF(Articles!E12<>"",Articles!E12,"") | E12: =SUMIFS(Registre!J:J,Registre!F:F,A12,Registre!B:B,"BE")+SUMIFS(Registre!J:J,Registre!F:F,A12,Registre!B:B,"BT+")+SUMIFS(Registre!J:J,Registre!F:F,A12,Registre!B:B,"BI+") | F12: =SUMIFS(Registre!J:J,Registre!F:F,A12,Registre!B:B,"BS")+SUMIFS(Registre!J:J,Registre!F:F,A12,Registre!B:B,"BT-")+SUMIFS(Registre!J:J,Registre!F:F,A12,Registre!B:B,"BI-") | G12: =IF(A12<>"",D12+E12-F12,"") | H12: =IF(Articles!J12<>"",Articles!J12,"") | I12: =IF(Articles!K12<>"",Articles!K12,"") | J12: =IF(AND(A12<>"",G12<>"",I12<>""),IF(G12<=I12,"OUI","NON"),"")
A13: =IF(Articles!A13<>"",Articles!A13,"") | B13: =IF(Articles!B13<>"",Articles!B13,"") | C13: =IF(Articles!C13<>"",Articles!C13,"") | D13: =IF(Articles!E13<>"",Articles!E13,"") | E13: =SUMIFS(Registre!J:J,Registre!F:F,A13,Registre!B:B,"BE")+SUMIFS(Registre!J:J,Registre!F:F,A13,Registre!B:B,"BT+")+SUMIFS(Registre!J:J,Registre!F:F,A13,Registre!B:B,"BI+") | F13: =SUMIFS(Registre!J:J,Registre!F:F,A13,Registre!B:B,"BS")+SUMIFS(Registre!J:J,Registre!F:F,A13,Registre!B:B,"BT-")+SUMIFS(Registre!J:J,Registre!F:F,A13,Registre!B:B,"BI-") | G13: =IF(A13<>"",D13+E13-F13,"") | H13: =IF(Articles!J13<>"",Articles!J13,"") | I13: =IF(Articles!K13<>"",Articles!K13,"") | J13: =IF(AND(A13<>"",G13<>"",I13<>""),IF(G13<=I13,"OUI","NON"),"")
... A301: =IF(Articles!A301<>"",Articles!A301,"") | B301: =IF(Articles!B301<>"",Articles!B301,"") | C301: =IF(Articles!C301<>"",Articles!C301,"") | D301: =IF(Articles!E301<>"",Articles!E301,"") | E301: =SUMIFS(Registre!J:J,Registre!F:F,A301,Registre!B:B,"BE")+SUMIFS(Registre!J:J,Registre!F:F,A301,Registre!B:B,"BT+")+SUMIFS(Registre!J:J,Registre!F:F,A301,Registre!B:B,"BI+") | F301: =SUMIFS(Registre!J:J,Registre!F:F,A301,Registre!B:B,"BS")+SUMIFS(Registre!J:J,Registre!F:F,A301,Registre!B:B,"BT-")+SUMIFS(Registre!J:J,Registre!F:F,A301,Registre!B:B,"BI-") | G301: =IF(A301<>"",D301+E301-F301,"") | H301: =IF(Articles!J301<>"",Articles!J301,"") | I301: =IF(Articles!K301<>"",Articles!K301,"") | J301: =IF(AND(A301<>"",G301<>"",I301<>""),IF(G301<=I301,"OUI","NON"),"")

Sheet BE_Impression
A1: Bon d’entrée de stock — Formulaire imprimable
K2: QR TEXT → LCG|TYPE=BE|DOC={A_COMPLETER}|V=PREMIUM
A3: Société | B3: Magasin | C3: N° du bon | D3: Date & heure | E3: Doc lié (PO/BL) | F3: Motif | G3: Statut qualité | H3: Rédacteur
A5: Fournisseur | B5: BL Fourn. | C5: Transport/Mat. | D5: Contact/Tél. | E5: Origine (site) | F5: Dest. (mag./empl.)
A8: Code article | B8: Désignation | C8: Lot/Série | D8: DLC/DPF | E8: Magasin/Empl. | F8: Qté | G8: Unité | H8: Prix PMP | I8: Valeur | J8: Observations
B9: =IFERROR(VLOOKUP(A9,Articles!$A:$M,2,FALSE),"") | H9: =IFERROR(VLOOKUP(A9,Articles!$A:$M,4,FALSE),"") | I9: =IF(AND(F9<>"",H9<>""),F9*H9,"")
B10: =IFERROR(VLOOKUP(A10,Articles!$A:$M,2,FALSE),"") | H10: =IFERROR(VLOOKUP(A10,Articles!$A:$M,4,FALSE),"") | I10: =IF(AND(F10<>"",H10<>""),F10*H10,"")
B11: =IFERROR(VLOOKUP(A11,Articles!$A:$M,2,FALSE),"") | H11: =IFERROR(VLOOKUP(A11,Articles!$A:$M,4,FALSE),"") | I11: =IF(AND(F11<>"",H11<>""),F11*H11,"")
B12: =IFERROR(VLOOKUP(A12,Articles!$A:$M,2,FALSE),"") | H12: =IFERROR(VLOOKUP(A12,Articles!$A:$M,4,FALSE),"") | I12: =IF(AND(F12<>"",H12<>""),F12*H12,"")
B13: =IFERROR(VLOOKUP(A13,Articles!$A:$M,2,FALSE),"") | H13: =IFERROR(VLOOKUP(A13,Articles!$A:$M,4,FALSE),"") | I13: =IF(AND(F13<>"",H13<>""),F13*H13,"")
B14: =IFERROR(VLOOKUP(A14,Articles!$A:$M,2,FALSE),"") | H14: =IFERROR(VLOOKUP(A14,Articles!$A:$M,4,FALSE),"") | I14: =IF(AND(F14<>"",H14<>""),F14*H14,"")
B15: =IFERROR(VLOOKUP(A15,Articles!$A:$M,2,FALSE),"") | H15: =IFERROR(VLOOKUP(A15,Articles!$A:$M,4,FALSE),"") | I15: =IF(AND(F15<>"",H15<>""),F15*H15,"")
B16: =IFERROR(VLOOKUP(A16,Articles!$A:$M,2,FALSE),"") | H16: =IFERROR(VLOOKUP(A16,Articles!$A:$M,4,FALSE),"") | I16: =IF(AND(F16<>"",H16<>""),F16*H16,"")
B17: =IFERROR(VLOOKUP(A17,Articles!$A:$M,2,FALSE),"") | H17: =IFERROR(VLOOKUP(A17,Articles!$A:$M,4,FALSE),"") | I17: =IF(AND(F17<>"",H17<>""),F17*H17,"")
B18: =IFERROR(VLOOKUP(A18,Articles!$A:$M,2,FALSE),"") | H18: =IFERROR(VLOOKUP(A18,Articles!$A:$M,4,FALSE),"") | I18: =IF(AND(F18<>"",H18<>""),F18*H18,"")
B19: =IFERROR(VLOOKUP(A19,Articles!$A:$M,2,FALSE),"") | H19: =IFERROR(VLOOKUP(A19,Articles!$A:$M,4,FALSE),"") | I19: =IF(AND(F19<>"",H19<>""),F19*H19,"")
B20: =IFERROR(VLOOKUP(A20,Articles!$A:$M,2,FALSE),"") | H20: =IFERROR(VLOOKUP(A20,Articles!$A:$M,4,FALSE),"") | I20: =IF(AND(F20<>"",H20<>""),F20*H20,"")
... B23: =IFERROR(VLOOKUP(A23,Articles!$A:$M,2,FALSE),"") | H23: =IFERROR(VLOOKUP(A23,Articles!$A:$M,4,FALSE),"") | I23: =IF(AND(F23<>"",H23<>""),F23*H23,"")
H25: Total valeur : | I25: =SUM(I9:I24)
A28: Émetteur | D28: Qualité | G28: Magasin | J28: Fournisseur/Transport

Sheet BS_Impression
A1: Bon de sortie de stock — Formulaire imprimable
K2: QR TEXT → LCG|TYPE=BS|DOC={A_COMPLETER}|V=PREMIUM
A3: Société | B3: Magasin | C3: N° du bon | D3: Date & heure | E3: Doc lié (Commande/OT) | F3: Motif | G3: Statut qualité | H3: Rédacteur
A5: Destinataire/Client | B5: Réf. commande/BL | C5: Transport/Mat. | D5: Contact/Tél. | E5: Origine (mag./empl.) | F5: Dest. (client/atelier)
A8: Code article | B8: Désignation | C8: Lot/Série | D8: DLC/DPF | E8: Magasin/Empl. | F8: Qté | G8: Unité | H8: Prix PMP | I8: Valeur | J8: Observations
B9: =IFERROR(VLOOKUP(A9,Articles!$A:$M,2,FALSE),"") | H9: =IFERROR(VLOOKUP(A9,Articles!$A:$M,4,FALSE),"") | I9: =IF(AND(F9<>"",H9<>""),F9*H9,"")
B10: =IFERROR(VLOOKUP(A10,Articles!$A:$M,2,FALSE),"") | H10: =IFERROR(VLOOKUP(A10,Articles!$A:$M,4,FALSE),"") | I10: =IF(AND(F10<>"",H10<>""),F10*H10,"")
B11: =IFERROR(VLOOKUP(A11,Articles!$A:$M,2,FALSE),"") | H11: =IFERROR(VLOOKUP(A11,Articles!$A:$M,4,FALSE),"") | I11: =IF(AND(F11<>"",H11<>""),F11*H11,"")
B12: =IFERROR(VLOOKUP(A12,Articles!$A:$M,2,FALSE),"") | H12: =IFERROR(VLOOKUP(A12,Articles!$A:$M,4,FALSE),"") | I12: =IF(AND(F12<>"",H12<>""),F12*H12,"")
B13: =IFERROR(VLOOKUP(A13,Articles!$A:$M,2,FALSE),"") | H13: =IFERROR(VLOOKUP(A13,Articles!$A:$M,4,FALSE),"") | I13: =IF(AND(F13<>"",H13<>""),F13*H13,"")
B14: =IFERROR(VLOOKUP(A14,Articles!$A:$M,2,FALSE),"") | H14: =IFERROR(VLOOKUP(A14,Articles!$A:$M,4,FALSE),"") | I14: =IF(AND(F14<>"",H14<>""),F14*H14,"")
B15: =IFERROR(VLOOKUP(A15,Articles!$A:$M,2,FALSE),"") | H15: =IFERROR(VLOOKUP(A15,Articles!$A:$M,4,FALSE),"") | I15: =IF(AND(F15<>"",H15<>""),F15*H15,"")
B16: =IFERROR(VLOOKUP(A16,Articles!$A:$M,2,FALSE),"") | H16: =IFERROR(VLOOKUP(A16,Articles!$A:$M,4,FALSE),"") | I16: =IF(AND(F16<>"",H16<>""),F16*H16,"")
B17: =IFERROR(VLOOKUP(A17,Articles!$A:$M,2,FALSE),"") | H17: =IFERROR(VLOOKUP(A17,Articles!$A:$M,4,FALSE),"") | I17: =IF(AND(F17<>"",H17<>""),F17*H17,"")
B18: =IFERROR(VLOOKUP(A18,Articles!$A:$M,2,FALSE),"") | H18: =IFERROR(VLOOKUP(A18,Articles!$A:$M,4,FALSE),"") | I18: =IF(AND(F18<>"",H18<>""),F18*H18,"")
B19: =IFERROR(VLOOKUP(A19,Articles!$A:$M,2,FALSE),"") | H19: =IFERROR(VLOOKUP(A19,Articles!$A:$M,4,FALSE),"") | I19: =IF(AND(F19<>"",H19<>""),F19*H19,"")
B20: =IFERROR(VLOOKUP(A20,Articles!$A:$M,2,FALSE),"") | H20: =IFERROR(VLOOKUP(A20,Articles!$A:$M,4,FALSE),"") | I20: =IF(AND(F20<>"",H20<>""),F20*H20,"")
... B23: =IFERROR(VLOOKUP(A23,Articles!$A:$M,2,FALSE),"") | H23: =IFERROR(VLOOKUP(A23,Articles!$A:$M,4,FALSE),"") | I23: =IF(AND(F23<>"",H23<>""),F23*H23,"")
H25: Total valeur : | I25: =SUM(I9:I24)
A28: Émetteur | D28: Qualité | G28: Magasin | J28: Client/Transport

Sheet À propos
A1: Bon de stock — PREMIUM (impression + calculs)
A3: • Renseignez vos articles dans 'Articles' (PMP, stock initial, conso, LT).
A4: • Utilisez 'BE_Impression' ou 'BS_Impression' pour imprimer les bons (A4).
A5: • Collez les lignes validées dans 'Registre' pour mise à jour des stocks.
A6: • Consultez 'Stock_Courant' (alertes rouges si stock <= ROP).
A8: QR TEXT en K2 des formulaires (remplacez {A_COMPLETER} dans le texte ou insérez une image QR si besoin).
