Workbook

Sheet Circuits
A1: Note de calcul electrique — Modele Excel
A3: Projet | B3: =Parametres!B3 | D3: Puissance totale (kW) | E3: =SUM(D10:D59)
A4: Date | B4: =Parametres!B4 | D4: Courant max (A) | E4: =MAX(H10:H59)
A5: Realise par | B5: =Parametres!B5 | D5: Circuits a verifier | E5: =COUNTIF(P10:P59,"A verifier")
A8: Table des circuits
A9: ID | B9: Description | C9: Phase | D9: Puissance (kW) | E9: cos phi | F9: eta | G9: Tension (V) | H9: Courant Ib (A) | I9: Longueur (m) | J9: Materiau | K9: Section (mm²) | L9: R (Ω/km) | M9: Delta U (V) | N9: Delta U (%) | O9: Seuil (%) | P9: Conforme ? | Q9: Disjoncteur In (A) | R9: Icc (kA) (opt.) | S9: Observations | T9: Section recommandee (mm²)
A10: C01 | C10: Tri | E10: =Parametres!B9 | F10: =Parametres!B10 | G10: =IF(C10="Mono",Parametres!B7,Parametres!B8) | H10: =IF(D10="","",IF(C10="Tri",(D10*1000)/(SQRT(3)*G10*E10*F10),(D10*1000)/(G10*E10*F10))) | J10: Cu | L10: =IF(K10="","",VLOOKUP(J10,Tables!$E$5:$F$6,2,FALSE)*1000/K10) | M10: =IF(OR(H10="",L10="",I10=""),"",IF(C10="Mono",2*H10*L10*(I10/1000),SQRT(3)*H10*L10*(I10/1000))) | N10: =IF(M10="","",M10/G10*100) | O10: =Parametres!B11 | P10: =IF(N10="","",IF(N10<=O10,"OK","A verifier")) | Q10: =IF(H10="","",MINIFS(Tables!$A$5:$A$26,Tables!$A$5:$A$26,">="&H10)) | T10: =IF(H10="","",IF(J10="Al",VLOOKUP(H10,Tables!$J$5:$K$25,2,TRUE),VLOOKUP(H10,Tables!$H$5:$I$25,2,TRUE)))
A11: C02 | C11: Tri | E11: =Parametres!B9 | F11: =Parametres!B10 | G11: =IF(C11="Mono",Parametres!B7,Parametres!B8) | H11: =IF(D11="","",IF(C11="Tri",(D11*1000)/(SQRT(3)*G11*E11*F11),(D11*1000)/(G11*E11*F11))) | J11: Cu | L11: =IF(K11="","",VLOOKUP(J11,Tables!$E$5:$F$6,2,FALSE)*1000/K11) | M11: =IF(OR(H11="",L11="",I11=""),"",IF(C11="Mono",2*H11*L11*(I11/1000),SQRT(3)*H11*L11*(I11/1000))) | N11: =IF(M11="","",M11/G11*100) | O11: =Parametres!B11 | P11: =IF(N11="","",IF(N11<=O11,"OK","A verifier")) | Q11: =IF(H11="","",MINIFS(Tables!$A$5:$A$26,Tables!$A$5:$A$26,">="&H11)) | T11: =IF(H11="","",IF(J11="Al",VLOOKUP(H11,Tables!$J$5:$K$25,2,TRUE),VLOOKUP(H11,Tables!$H$5:$I$25,2,TRUE)))
A12: C03 | C12: Tri | E12: =Parametres!B9 | F12: =Parametres!B10 | G12: =IF(C12="Mono",Parametres!B7,Parametres!B8) | H12: =IF(D12="","",IF(C12="Tri",(D12*1000)/(SQRT(3)*G12*E12*F12),(D12*1000)/(G12*E12*F12))) | J12: Cu | L12: =IF(K12="","",VLOOKUP(J12,Tables!$E$5:$F$6,2,FALSE)*1000/K12) | M12: =IF(OR(H12="",L12="",I12=""),"",IF(C12="Mono",2*H12*L12*(I12/1000),SQRT(3)*H12*L12*(I12/1000))) | N12: =IF(M12="","",M12/G12*100) | O12: =Parametres!B11 | P12: =IF(N12="","",IF(N12<=O12,"OK","A verifier")) | Q12: =IF(H12="","",MINIFS(Tables!$A$5:$A$26,Tables!$A$5:$A$26,">="&H12)) | T12: =IF(H12="","",IF(J12="Al",VLOOKUP(H12,Tables!$J$5:$K$25,2,TRUE),VLOOKUP(H12,Tables!$H$5:$I$25,2,TRUE)))
A13: C04 | C13: Tri | E13: =Parametres!B9 | F13: =Parametres!B10 | G13: =IF(C13="Mono",Parametres!B7,Parametres!B8) | H13: =IF(D13="","",IF(C13="Tri",(D13*1000)/(SQRT(3)*G13*E13*F13),(D13*1000)/(G13*E13*F13))) | J13: Cu | L13: =IF(K13="","",VLOOKUP(J13,Tables!$E$5:$F$6,2,FALSE)*1000/K13) | M13: =IF(OR(H13="",L13="",I13=""),"",IF(C13="Mono",2*H13*L13*(I13/1000),SQRT(3)*H13*L13*(I13/1000))) | N13: =IF(M13="","",M13/G13*100) | O13: =Parametres!B11 | P13: =IF(N13="","",IF(N13<=O13,"OK","A verifier")) | Q13: =IF(H13="","",MINIFS(Tables!$A$5:$A$26,Tables!$A$5:$A$26,">="&H13)) | T13: =IF(H13="","",IF(J13="Al",VLOOKUP(H13,Tables!$J$5:$K$25,2,TRUE),VLOOKUP(H13,Tables!$H$5:$I$25,2,TRUE)))
A14: C05 | C14: Tri | E14: =Parametres!B9 | F14: =Parametres!B10 | G14: =IF(C14="Mono",Parametres!B7,Parametres!B8) | H14: =IF(D14="","",IF(C14="Tri",(D14*1000)/(SQRT(3)*G14*E14*F14),(D14*1000)/(G14*E14*F14))) | J14: Cu | L14: =IF(K14="","",VLOOKUP(J14,Tables!$E$5:$F$6,2,FALSE)*1000/K14) | M14: =IF(OR(H14="",L14="",I14=""),"",IF(C14="Mono",2*H14*L14*(I14/1000),SQRT(3)*H14*L14*(I14/1000))) | N14: =IF(M14="","",M14/G14*100) | O14: =Parametres!B11 | P14: =IF(N14="","",IF(N14<=O14,"OK","A verifier")) | Q14: =IF(H14="","",MINIFS(Tables!$A$5:$A$26,Tables!$A$5:$A$26,">="&H14)) | T14: =IF(H14="","",IF(J14="Al",VLOOKUP(H14,Tables!$J$5:$K$25,2,TRUE),VLOOKUP(H14,Tables!$H$5:$I$25,2,TRUE)))
A15: C06 | C15: Tri | E15: =Parametres!B9 | F15: =Parametres!B10 | G15: =IF(C15="Mono",Parametres!B7,Parametres!B8) | H15: =IF(D15="","",IF(C15="Tri",(D15*1000)/(SQRT(3)*G15*E15*F15),(D15*1000)/(G15*E15*F15))) | J15: Cu | L15: =IF(K15="","",VLOOKUP(J15,Tables!$E$5:$F$6,2,FALSE)*1000/K15) | M15: =IF(OR(H15="",L15="",I15=""),"",IF(C15="Mono",2*H15*L15*(I15/1000),SQRT(3)*H15*L15*(I15/1000))) | N15: =IF(M15="","",M15/G15*100) | O15: =Parametres!B11 | P15: =IF(N15="","",IF(N15<=O15,"OK","A verifier")) | Q15: =IF(H15="","",MINIFS(Tables!$A$5:$A$26,Tables!$A$5:$A$26,">="&H15)) | T15: =IF(H15="","",IF(J15="Al",VLOOKUP(H15,Tables!$J$5:$K$25,2,TRUE),VLOOKUP(H15,Tables!$H$5:$I$25,2,TRUE)))
A16: C07 | C16: Tri | E16: =Parametres!B9 | F16: =Parametres!B10 | G16: =IF(C16="Mono",Parametres!B7,Parametres!B8) | H16: =IF(D16="","",IF(C16="Tri",(D16*1000)/(SQRT(3)*G16*E16*F16),(D16*1000)/(G16*E16*F16))) | J16: Cu | L16: =IF(K16="","",VLOOKUP(J16,Tables!$E$5:$F$6,2,FALSE)*1000/K16) | M16: =IF(OR(H16="",L16="",I16=""),"",IF(C16="Mono",2*H16*L16*(I16/1000),SQRT(3)*H16*L16*(I16/1000))) | N16: =IF(M16="","",M16/G16*100) | O16: =Parametres!B11 | P16: =IF(N16="","",IF(N16<=O16,"OK","A verifier")) | Q16: =IF(H16="","",MINIFS(Tables!$A$5:$A$26,Tables!$A$5:$A$26,">="&H16)) | T16: =IF(H16="","",IF(J16="Al",VLOOKUP(H16,Tables!$J$5:$K$25,2,TRUE),VLOOKUP(H16,Tables!$H$5:$I$25,2,TRUE)))
A17: C08 | C17: Tri | E17: =Parametres!B9 | F17: =Parametres!B10 | G17: =IF(C17="Mono",Parametres!B7,Parametres!B8) | H17: =IF(D17="","",IF(C17="Tri",(D17*1000)/(SQRT(3)*G17*E17*F17),(D17*1000)/(G17*E17*F17))) | J17: Cu | L17: =IF(K17="","",VLOOKUP(J17,Tables!$E$5:$F$6,2,FALSE)*1000/K17) | M17: =IF(OR(H17="",L17="",I17=""),"",IF(C17="Mono",2*H17*L17*(I17/1000),SQRT(3)*H17*L17*(I17/1000))) | N17: =IF(M17="","",M17/G17*100) | O17: =Parametres!B11 | P17: =IF(N17="","",IF(N17<=O17,"OK","A verifier")) | Q17: =IF(H17="","",MINIFS(Tables!$A$5:$A$26,Tables!$A$5:$A$26,">="&H17)) | T17: =IF(H17="","",IF(J17="Al",VLOOKUP(H17,Tables!$J$5:$K$25,2,TRUE),VLOOKUP(H17,Tables!$H$5:$I$25,2,TRUE)))
A18: C09 | C18: Tri | E18: =Parametres!B9 | F18: =Parametres!B10 | G18: =IF(C18="Mono",Parametres!B7,Parametres!B8) | H18: =IF(D18="","",IF(C18="Tri",(D18*1000)/(SQRT(3)*G18*E18*F18),(D18*1000)/(G18*E18*F18))) | J18: Cu | L18: =IF(K18="","",VLOOKUP(J18,Tables!$E$5:$F$6,2,FALSE)*1000/K18) | M18: =IF(OR(H18="",L18="",I18=""),"",IF(C18="Mono",2*H18*L18*(I18/1000),SQRT(3)*H18*L18*(I18/1000))) | N18: =IF(M18="","",M18/G18*100) | O18: =Parametres!B11 | P18: =IF(N18="","",IF(N18<=O18,"OK","A verifier")) | Q18: =IF(H18="","",MINIFS(Tables!$A$5:$A$26,Tables!$A$5:$A$26,">="&H18)) | T18: =IF(H18="","",IF(J18="Al",VLOOKUP(H18,Tables!$J$5:$K$25,2,TRUE),VLOOKUP(H18,Tables!$H$5:$I$25,2,TRUE)))
A19: C10 | C19: Tri | E19: =Parametres!B9 | F19: =Parametres!B10 | G19: =IF(C19="Mono",Parametres!B7,Parametres!B8) | H19: =IF(D19="","",IF(C19="Tri",(D19*1000)/(SQRT(3)*G19*E19*F19),(D19*1000)/(G19*E19*F19))) | J19: Cu | L19: =IF(K19="","",VLOOKUP(J19,Tables!$E$5:$F$6,2,FALSE)*1000/K19) | M19: =IF(OR(H19="",L19="",I19=""),"",IF(C19="Mono",2*H19*L19*(I19/1000),SQRT(3)*H19*L19*(I19/1000))) | N19: =IF(M19="","",M19/G19*100) | O19: =Parametres!B11 | P19: =IF(N19="","",IF(N19<=O19,"OK","A verifier")) | Q19: =IF(H19="","",MINIFS(Tables!$A$5:$A$26,Tables!$A$5:$A$26,">="&H19)) | T19: =IF(H19="","",IF(J19="Al",VLOOKUP(H19,Tables!$J$5:$K$25,2,TRUE),VLOOKUP(H19,Tables!$H$5:$I$25,2,TRUE)))
A20: C11 | C20: Tri | E20: =Parametres!B9 | F20: =Parametres!B10 | G20: =IF(C20="Mono",Parametres!B7,Parametres!B8) | H20: =IF(D20="","",IF(C20="Tri",(D20*1000)/(SQRT(3)*G20*E20*F20),(D20*1000)/(G20*E20*F20))) | J20: Cu | L20: =IF(K20="","",VLOOKUP(J20,Tables!$E$5:$F$6,2,FALSE)*1000/K20) | M20: =IF(OR(H20="",L20="",I20=""),"",IF(C20="Mono",2*H20*L20*(I20/1000),SQRT(3)*H20*L20*(I20/1000))) | N20: =IF(M20="","",M20/G20*100) | O20: =Parametres!B11 | P20: =IF(N20="","",IF(N20<=O20,"OK","A verifier")) | Q20: =IF(H20="","",MINIFS(Tables!$A$5:$A$26,Tables!$A$5:$A$26,">="&H20)) | T20: =IF(H20="","",IF(J20="Al",VLOOKUP(H20,Tables!$J$5:$K$25,2,TRUE),VLOOKUP(H20,Tables!$H$5:$I$25,2,TRUE)))
A21: C12 | C21: Tri | E21: =Parametres!B9 | F21: =Parametres!B10 | G21: =IF(C21="Mono",Parametres!B7,Parametres!B8) | H21: =IF(D21="","",IF(C21="Tri",(D21*1000)/(SQRT(3)*G21*E21*F21),(D21*1000)/(G21*E21*F21))) | J21: Cu | L21: =IF(K21="","",VLOOKUP(J21,Tables!$E$5:$F$6,2,FALSE)*1000/K21) | M21: =IF(OR(H21="",L21="",I21=""),"",IF(C21="Mono",2*H21*L21*(I21/1000),SQRT(3)*H21*L21*(I21/1000))) | N21: =IF(M21="","",M21/G21*100) | O21: =Parametres!B11 | P21: =IF(N21="","",IF(N21<=O21,"OK","A verifier")) | Q21: =IF(H21="","",MINIFS(Tables!$A$5:$A$26,Tables!$A$5:$A$26,">="&H21)) | T21: =IF(H21="","",IF(J21="Al",VLOOKUP(H21,Tables!$J$5:$K$25,2,TRUE),VLOOKUP(H21,Tables!$H$5:$I$25,2,TRUE)))
A22: C13 | C22: Tri | E22: =Parametres!B9 | F22: =Parametres!B10 | G22: =IF(C22="Mono",Parametres!B7,Parametres!B8) | H22: =IF(D22="","",IF(C22="Tri",(D22*1000)/(SQRT(3)*G22*E22*F22),(D22*1000)/(G22*E22*F22))) | J22: Cu | L22: =IF(K22="","",VLOOKUP(J22,Tables!$E$5:$F$6,2,FALSE)*1000/K22) | M22: =IF(OR(H22="",L22="",I22=""),"",IF(C22="Mono",2*H22*L22*(I22/1000),SQRT(3)*H22*L22*(I22/1000))) | N22: =IF(M22="","",M22/G22*100) | O22: =Parametres!B11 | P22: =IF(N22="","",IF(N22<=O22,"OK","A verifier")) | Q22: =IF(H22="","",MINIFS(Tables!$A$5:$A$26,Tables!$A$5:$A$26,">="&H22)) | T22: =IF(H22="","",IF(J22="Al",VLOOKUP(H22,Tables!$J$5:$K$25,2,TRUE),VLOOKUP(H22,Tables!$H$5:$I$25,2,TRUE)))
A23: C14 | C23: Tri | E23: =Parametres!B9 | F23: =Parametres!B10 | G23: =IF(C23="Mono",Parametres!B7,Parametres!B8) | H23: =IF(D23="","",IF(C23="Tri",(D23*1000)/(SQRT(3)*G23*E23*F23),(D23*1000)/(G23*E23*F23))) | J23: Cu | L23: =IF(K23="","",VLOOKUP(J23,Tables!$E$5:$F$6,2,FALSE)*1000/K23) | M23: =IF(OR(H23="",L23="",I23=""),"",IF(C23="Mono",2*H23*L23*(I23/1000),SQRT(3)*H23*L23*(I23/1000))) | N23: =IF(M23="","",M23/G23*100) | O23: =Parametres!B11 | P23: =IF(N23="","",IF(N23<=O23,"OK","A verifier")) | Q23: =IF(H23="","",MINIFS(Tables!$A$5:$A$26,Tables!$A$5:$A$26,">="&H23)) | T23: =IF(H23="","",IF(J23="Al",VLOOKUP(H23,Tables!$J$5:$K$25,2,TRUE),VLOOKUP(H23,Tables!$H$5:$I$25,2,TRUE)))
A24: C15 | C24: Tri | E24: =Parametres!B9 | F24: =Parametres!B10 | G24: =IF(C24="Mono",Parametres!B7,Parametres!B8) | H24: =IF(D24="","",IF(C24="Tri",(D24*1000)/(SQRT(3)*G24*E24*F24),(D24*1000)/(G24*E24*F24))) | J24: Cu | L24: =IF(K24="","",VLOOKUP(J24,Tables!$E$5:$F$6,2,FALSE)*1000/K24) | M24: =IF(OR(H24="",L24="",I24=""),"",IF(C24="Mono",2*H24*L24*(I24/1000),SQRT(3)*H24*L24*(I24/1000))) | N24: =IF(M24="","",M24/G24*100) | O24: =Parametres!B11 | P24: =IF(N24="","",IF(N24<=O24,"OK","A verifier")) | Q24: =IF(H24="","",MINIFS(Tables!$A$5:$A$26,Tables!$A$5:$A$26,">="&H24)) | T24: =IF(H24="","",IF(J24="Al",VLOOKUP(H24,Tables!$J$5:$K$25,2,TRUE),VLOOKUP(H24,Tables!$H$5:$I$25,2,TRUE)))
A25: C16 | C25: Tri | E25: =Parametres!B9 | F25: =Parametres!B10 | G25: =IF(C25="Mono",Parametres!B7,Parametres!B8) | H25: =IF(D25="","",IF(C25="Tri",(D25*1000)/(SQRT(3)*G25*E25*F25),(D25*1000)/(G25*E25*F25))) | J25: Cu | L25: =IF(K25="","",VLOOKUP(J25,Tables!$E$5:$F$6,2,FALSE)*1000/K25) | M25: =IF(OR(H25="",L25="",I25=""),"",IF(C25="Mono",2*H25*L25*(I25/1000),SQRT(3)*H25*L25*(I25/1000))) | N25: =IF(M25="","",M25/G25*100) | O25: =Parametres!B11 | P25: =IF(N25="","",IF(N25<=O25,"OK","A verifier")) | Q25: =IF(H25="","",MINIFS(Tables!$A$5:$A$26,Tables!$A$5:$A$26,">="&H25)) | T25: =IF(H25="","",IF(J25="Al",VLOOKUP(H25,Tables!$J$5:$K$25,2,TRUE),VLOOKUP(H25,Tables!$H$5:$I$25,2,TRUE)))
A26: C17 | C26: Tri | E26: =Parametres!B9 | F26: =Parametres!B10 | G26: =IF(C26="Mono",Parametres!B7,Parametres!B8) | H26: =IF(D26="","",IF(C26="Tri",(D26*1000)/(SQRT(3)*G26*E26*F26),(D26*1000)/(G26*E26*F26))) | J26: Cu | L26: =IF(K26="","",VLOOKUP(J26,Tables!$E$5:$F$6,2,FALSE)*1000/K26) | M26: =IF(OR(H26="",L26="",I26=""),"",IF(C26="Mono",2*H26*L26*(I26/1000),SQRT(3)*H26*L26*(I26/1000))) | N26: =IF(M26="","",M26/G26*100) | O26: =Parametres!B11 | P26: =IF(N26="","",IF(N26<=O26,"OK","A verifier")) | Q26: =IF(H26="","",MINIFS(Tables!$A$5:$A$26,Tables!$A$5:$A$26,">="&H26)) | T26: =IF(H26="","",IF(J26="Al",VLOOKUP(H26,Tables!$J$5:$K$25,2,TRUE),VLOOKUP(H26,Tables!$H$5:$I$25,2,TRUE)))
A27: C18 | C27: Tri | E27: =Parametres!B9 | F27: =Parametres!B10 | G27: =IF(C27="Mono",Parametres!B7,Parametres!B8) | H27: =IF(D27="","",IF(C27="Tri",(D27*1000)/(SQRT(3)*G27*E27*F27),(D27*1000)/(G27*E27*F27))) | J27: Cu | L27: =IF(K27="","",VLOOKUP(J27,Tables!$E$5:$F$6,2,FALSE)*1000/K27) | M27: =IF(OR(H27="",L27="",I27=""),"",IF(C27="Mono",2*H27*L27*(I27/1000),SQRT(3)*H27*L27*(I27/1000))) | N27: =IF(M27="","",M27/G27*100) | O27: =Parametres!B11 | P27: =IF(N27="","",IF(N27<=O27,"OK","A verifier")) | Q27: =IF(H27="","",MINIFS(Tables!$A$5:$A$26,Tables!$A$5:$A$26,">="&H27)) | T27: =IF(H27="","",IF(J27="Al",VLOOKUP(H27,Tables!$J$5:$K$25,2,TRUE),VLOOKUP(H27,Tables!$H$5:$I$25,2,TRUE)))
A28: C19 | C28: Tri | E28: =Parametres!B9 | F28: =Parametres!B10 | G28: =IF(C28="Mono",Parametres!B7,Parametres!B8) | H28: =IF(D28="","",IF(C28="Tri",(D28*1000)/(SQRT(3)*G28*E28*F28),(D28*1000)/(G28*E28*F28))) | J28: Cu | L28: =IF(K28="","",VLOOKUP(J28,Tables!$E$5:$F$6,2,FALSE)*1000/K28) | M28: =IF(OR(H28="",L28="",I28=""),"",IF(C28="Mono",2*H28*L28*(I28/1000),SQRT(3)*H28*L28*(I28/1000))) | N28: =IF(M28="","",M28/G28*100) | O28: =Parametres!B11 | P28: =IF(N28="","",IF(N28<=O28,"OK","A verifier")) | Q28: =IF(H28="","",MINIFS(Tables!$A$5:$A$26,Tables!$A$5:$A$26,">="&H28)) | T28: =IF(H28="","",IF(J28="Al",VLOOKUP(H28,Tables!$J$5:$K$25,2,TRUE),VLOOKUP(H28,Tables!$H$5:$I$25,2,TRUE)))
A29: C20 | C29: Tri | E29: =Parametres!B9 | F29: =Parametres!B10 | G29: =IF(C29="Mono",Parametres!B7,Parametres!B8) | H29: =IF(D29="","",IF(C29="Tri",(D29*1000)/(SQRT(3)*G29*E29*F29),(D29*1000)/(G29*E29*F29))) | J29: Cu | L29: =IF(K29="","",VLOOKUP(J29,Tables!$E$5:$F$6,2,FALSE)*1000/K29) | M29: =IF(OR(H29="",L29="",I29=""),"",IF(C29="Mono",2*H29*L29*(I29/1000),SQRT(3)*H29*L29*(I29/1000))) | N29: =IF(M29="","",M29/G29*100) | O29: =Parametres!B11 | P29: =IF(N29="","",IF(N29<=O29,"OK","A verifier")) | Q29: =IF(H29="","",MINIFS(Tables!$A$5:$A$26,Tables!$A$5:$A$26,">="&H29)) | T29: =IF(H29="","",IF(J29="Al",VLOOKUP(H29,Tables!$J$5:$K$25,2,TRUE),VLOOKUP(H29,Tables!$H$5:$I$25,2,TRUE)))
A30: C21 | C30: Tri | E30: =Parametres!B9 | F30: =Parametres!B10 | G30: =IF(C30="Mono",Parametres!B7,Parametres!B8) | H30: =IF(D30="","",IF(C30="Tri",(D30*1000)/(SQRT(3)*G30*E30*F30),(D30*1000)/(G30*E30*F30))) | J30: Cu | L30: =IF(K30="","",VLOOKUP(J30,Tables!$E$5:$F$6,2,FALSE)*1000/K30) | M30: =IF(OR(H30="",L30="",I30=""),"",IF(C30="Mono",2*H30*L30*(I30/1000),SQRT(3)*H30*L30*(I30/1000))) | N30: =IF(M30="","",M30/G30*100) | O30: =Parametres!B11 | P30: =IF(N30="","",IF(N30<=O30,"OK","A verifier")) | Q30: =IF(H30="","",MINIFS(Tables!$A$5:$A$26,Tables!$A$5:$A$26,">="&H30)) | T30: =IF(H30="","",IF(J30="Al",VLOOKUP(H30,Tables!$J$5:$K$25,2,TRUE),VLOOKUP(H30,Tables!$H$5:$I$25,2,TRUE)))
A31: C22 | C31: Tri | E31: =Parametres!B9 | F31: =Parametres!B10 | G31: =IF(C31="Mono",Parametres!B7,Parametres!B8) | H31: =IF(D31="","",IF(C31="Tri",(D31*1000)/(SQRT(3)*G31*E31*F31),(D31*1000)/(G31*E31*F31))) | J31: Cu | L31: =IF(K31="","",VLOOKUP(J31,Tables!$E$5:$F$6,2,FALSE)*1000/K31) | M31: =IF(OR(H31="",L31="",I31=""),"",IF(C31="Mono",2*H31*L31*(I31/1000),SQRT(3)*H31*L31*(I31/1000))) | N31: =IF(M31="","",M31/G31*100) | O31: =Parametres!B11 | P31: =IF(N31="","",IF(N31<=O31,"OK","A verifier")) | Q31: =IF(H31="","",MINIFS(Tables!$A$5:$A$26,Tables!$A$5:$A$26,">="&H31)) | T31: =IF(H31="","",IF(J31="Al",VLOOKUP(H31,Tables!$J$5:$K$25,2,TRUE),VLOOKUP(H31,Tables!$H$5:$I$25,2,TRUE)))
A32: C23 | C32: Tri | E32: =Parametres!B9 | F32: =Parametres!B10 | G32: =IF(C32="Mono",Parametres!B7,Parametres!B8) | H32: =IF(D32="","",IF(C32="Tri",(D32*1000)/(SQRT(3)*G32*E32*F32),(D32*1000)/(G32*E32*F32))) | J32: Cu | L32: =IF(K32="","",VLOOKUP(J32,Tables!$E$5:$F$6,2,FALSE)*1000/K32) | M32: =IF(OR(H32="",L32="",I32=""),"",IF(C32="Mono",2*H32*L32*(I32/1000),SQRT(3)*H32*L32*(I32/1000))) | N32: =IF(M32="","",M32/G32*100) | O32: =Parametres!B11 | P32: =IF(N32="","",IF(N32<=O32,"OK","A verifier")) | Q32: =IF(H32="","",MINIFS(Tables!$A$5:$A$26,Tables!$A$5:$A$26,">="&H32)) | T32: =IF(H32="","",IF(J32="Al",VLOOKUP(H32,Tables!$J$5:$K$25,2,TRUE),VLOOKUP(H32,Tables!$H$5:$I$25,2,TRUE)))
A33: C24 | C33: Tri | E33: =Parametres!B9 | F33: =Parametres!B10 | G33: =IF(C33="Mono",Parametres!B7,Parametres!B8) | H33: =IF(D33="","",IF(C33="Tri",(D33*1000)/(SQRT(3)*G33*E33*F33),(D33*1000)/(G33*E33*F33))) | J33: Cu | L33: =IF(K33="","",VLOOKUP(J33,Tables!$E$5:$F$6,2,FALSE)*1000/K33) | M33: =IF(OR(H33="",L33="",I33=""),"",IF(C33="Mono",2*H33*L33*(I33/1000),SQRT(3)*H33*L33*(I33/1000))) | N33: =IF(M33="","",M33/G33*100) | O33: =Parametres!B11 | P33: =IF(N33="","",IF(N33<=O33,"OK","A verifier")) | Q33: =IF(H33="","",MINIFS(Tables!$A$5:$A$26,Tables!$A$5:$A$26,">="&H33)) | T33: =IF(H33="","",IF(J33="Al",VLOOKUP(H33,Tables!$J$5:$K$25,2,TRUE),VLOOKUP(H33,Tables!$H$5:$I$25,2,TRUE)))
A34: C25 | C34: Tri | E34: =Parametres!B9 | F34: =Parametres!B10 | G34: =IF(C34="Mono",Parametres!B7,Parametres!B8) | H34: =IF(D34="","",IF(C34="Tri",(D34*1000)/(SQRT(3)*G34*E34*F34),(D34*1000)/(G34*E34*F34))) | J34: Cu | L34: =IF(K34="","",VLOOKUP(J34,Tables!$E$5:$F$6,2,FALSE)*1000/K34) | M34: =IF(OR(H34="",L34="",I34=""),"",IF(C34="Mono",2*H34*L34*(I34/1000),SQRT(3)*H34*L34*(I34/1000))) | N34: =IF(M34="","",M34/G34*100) | O34: =Parametres!B11 | P34: =IF(N34="","",IF(N34<=O34,"OK","A verifier")) | Q34: =IF(H34="","",MINIFS(Tables!$A$5:$A$26,Tables!$A$5:$A$26,">="&H34)) | T34: =IF(H34="","",IF(J34="Al",VLOOKUP(H34,Tables!$J$5:$K$25,2,TRUE),VLOOKUP(H34,Tables!$H$5:$I$25,2,TRUE)))
A35: C26 | C35: Tri | E35: =Parametres!B9 | F35: =Parametres!B10 | G35: =IF(C35="Mono",Parametres!B7,Parametres!B8) | H35: =IF(D35="","",IF(C35="Tri",(D35*1000)/(SQRT(3)*G35*E35*F35),(D35*1000)/(G35*E35*F35))) | J35: Cu | L35: =IF(K35="","",VLOOKUP(J35,Tables!$E$5:$F$6,2,FALSE)*1000/K35) | M35: =IF(OR(H35="",L35="",I35=""),"",IF(C35="Mono",2*H35*L35*(I35/1000),SQRT(3)*H35*L35*(I35/1000))) | N35: =IF(M35="","",M35/G35*100) | O35: =Parametres!B11 | P35: =IF(N35="","",IF(N35<=O35,"OK","A verifier")) | Q35: =IF(H35="","",MINIFS(Tables!$A$5:$A$26,Tables!$A$5:$A$26,">="&H35)) | T35: =IF(H35="","",IF(J35="Al",VLOOKUP(H35,Tables!$J$5:$K$25,2,TRUE),VLOOKUP(H35,Tables!$H$5:$I$25,2,TRUE)))
A36: C27 | C36: Tri | E36: =Parametres!B9 | F36: =Parametres!B10 | G36: =IF(C36="Mono",Parametres!B7,Parametres!B8) | H36: =IF(D36="","",IF(C36="Tri",(D36*1000)/(SQRT(3)*G36*E36*F36),(D36*1000)/(G36*E36*F36))) | J36: Cu | L36: =IF(K36="","",VLOOKUP(J36,Tables!$E$5:$F$6,2,FALSE)*1000/K36) | M36: =IF(OR(H36="",L36="",I36=""),"",IF(C36="Mono",2*H36*L36*(I36/1000),SQRT(3)*H36*L36*(I36/1000))) | N36: =IF(M36="","",M36/G36*100) | O36: =Parametres!B11 | P36: =IF(N36="","",IF(N36<=O36,"OK","A verifier")) | Q36: =IF(H36="","",MINIFS(Tables!$A$5:$A$26,Tables!$A$5:$A$26,">="&H36)) | T36: =IF(H36="","",IF(J36="Al",VLOOKUP(H36,Tables!$J$5:$K$25,2,TRUE),VLOOKUP(H36,Tables!$H$5:$I$25,2,TRUE)))
A37: C28 | C37: Tri | E37: =Parametres!B9 | F37: =Parametres!B10 | G37: =IF(C37="Mono",Parametres!B7,Parametres!B8) | H37: =IF(D37="","",IF(C37="Tri",(D37*1000)/(SQRT(3)*G37*E37*F37),(D37*1000)/(G37*E37*F37))) | J37: Cu | L37: =IF(K37="","",VLOOKUP(J37,Tables!$E$5:$F$6,2,FALSE)*1000/K37) | M37: =IF(OR(H37="",L37="",I37=""),"",IF(C37="Mono",2*H37*L37*(I37/1000),SQRT(3)*H37*L37*(I37/1000))) | N37: =IF(M37="","",M37/G37*100) | O37: =Parametres!B11 | P37: =IF(N37="","",IF(N37<=O37,"OK","A verifier")) | Q37: =IF(H37="","",MINIFS(Tables!$A$5:$A$26,Tables!$A$5:$A$26,">="&H37)) | T37: =IF(H37="","",IF(J37="Al",VLOOKUP(H37,Tables!$J$5:$K$25,2,TRUE),VLOOKUP(H37,Tables!$H$5:$I$25,2,TRUE)))
A38: C29 | C38: Tri | E38: =Parametres!B9 | F38: =Parametres!B10 | G38: =IF(C38="Mono",Parametres!B7,Parametres!B8) | H38: =IF(D38="","",IF(C38="Tri",(D38*1000)/(SQRT(3)*G38*E38*F38),(D38*1000)/(G38*E38*F38))) | J38: Cu | L38: =IF(K38="","",VLOOKUP(J38,Tables!$E$5:$F$6,2,FALSE)*1000/K38) | M38: =IF(OR(H38="",L38="",I38=""),"",IF(C38="Mono",2*H38*L38*(I38/1000),SQRT(3)*H38*L38*(I38/1000))) | N38: =IF(M38="","",M38/G38*100) | O38: =Parametres!B11 | P38: =IF(N38="","",IF(N38<=O38,"OK","A verifier")) | Q38: =IF(H38="","",MINIFS(Tables!$A$5:$A$26,Tables!$A$5:$A$26,">="&H38)) | T38: =IF(H38="","",IF(J38="Al",VLOOKUP(H38,Tables!$J$5:$K$25,2,TRUE),VLOOKUP(H38,Tables!$H$5:$I$25,2,TRUE)))
A39: C30 | C39: Tri | E39: =Parametres!B9 | F39: =Parametres!B10 | G39: =IF(C39="Mono",Parametres!B7,Parametres!B8) | H39: =IF(D39="","",IF(C39="Tri",(D39*1000)/(SQRT(3)*G39*E39*F39),(D39*1000)/(G39*E39*F39))) | J39: Cu | L39: =IF(K39="","",VLOOKUP(J39,Tables!$E$5:$F$6,2,FALSE)*1000/K39) | M39: =IF(OR(H39="",L39="",I39=""),"",IF(C39="Mono",2*H39*L39*(I39/1000),SQRT(3)*H39*L39*(I39/1000))) | N39: =IF(M39="","",M39/G39*100) | O39: =Parametres!B11 | P39: =IF(N39="","",IF(N39<=O39,"OK","A verifier")) | Q39: =IF(H39="","",MINIFS(Tables!$A$5:$A$26,Tables!$A$5:$A$26,">="&H39)) | T39: =IF(H39="","",IF(J39="Al",VLOOKUP(H39,Tables!$J$5:$K$25,2,TRUE),VLOOKUP(H39,Tables!$H$5:$I$25,2,TRUE)))
A40: C31 | C40: Tri | E40: =Parametres!B9 | F40: =Parametres!B10 | G40: =IF(C40="Mono",Parametres!B7,Parametres!B8) | H40: =IF(D40="","",IF(C40="Tri",(D40*1000)/(SQRT(3)*G40*E40*F40),(D40*1000)/(G40*E40*F40))) | J40: Cu | L40: =IF(K40="","",VLOOKUP(J40,Tables!$E$5:$F$6,2,FALSE)*1000/K40) | M40: =IF(OR(H40="",L40="",I40=""),"",IF(C40="Mono",2*H40*L40*(I40/1000),SQRT(3)*H40*L40*(I40/1000))) | N40: =IF(M40="","",M40/G40*100) | O40: =Parametres!B11 | P40: =IF(N40="","",IF(N40<=O40,"OK","A verifier")) | Q40: =IF(H40="","",MINIFS(Tables!$A$5:$A$26,Tables!$A$5:$A$26,">="&H40)) | T40: =IF(H40="","",IF(J40="Al",VLOOKUP(H40,Tables!$J$5:$K$25,2,TRUE),VLOOKUP(H40,Tables!$H$5:$I$25,2,TRUE)))
A41: C32 | C41: Tri | E41: =Parametres!B9 | F41: =Parametres!B10 | G41: =IF(C41="Mono",Parametres!B7,Parametres!B8) | H41: =IF(D41="","",IF(C41="Tri",(D41*1000)/(SQRT(3)*G41*E41*F41),(D41*1000)/(G41*E41*F41))) | J41: Cu | L41: =IF(K41="","",VLOOKUP(J41,Tables!$E$5:$F$6,2,FALSE)*1000/K41) | M41: =IF(OR(H41="",L41="",I41=""),"",IF(C41="Mono",2*H41*L41*(I41/1000),SQRT(3)*H41*L41*(I41/1000))) | N41: =IF(M41="","",M41/G41*100) | O41: =Parametres!B11 | P41: =IF(N41="","",IF(N41<=O41,"OK","A verifier")) | Q41: =IF(H41="","",MINIFS(Tables!$A$5:$A$26,Tables!$A$5:$A$26,">="&H41)) | T41: =IF(H41="","",IF(J41="Al",VLOOKUP(H41,Tables!$J$5:$K$25,2,TRUE),VLOOKUP(H41,Tables!$H$5:$I$25,2,TRUE)))
A42: C33 | C42: Tri | E42: =Parametres!B9 | F42: =Parametres!B10 | G42: =IF(C42="Mono",Parametres!B7,Parametres!B8) | H42: =IF(D42="","",IF(C42="Tri",(D42*1000)/(SQRT(3)*G42*E42*F42),(D42*1000)/(G42*E42*F42))) | J42: Cu | L42: =IF(K42="","",VLOOKUP(J42,Tables!$E$5:$F$6,2,FALSE)*1000/K42) | M42: =IF(OR(H42="",L42="",I42=""),"",IF(C42="Mono",2*H42*L42*(I42/1000),SQRT(3)*H42*L42*(I42/1000))) | N42: =IF(M42="","",M42/G42*100) | O42: =Parametres!B11 | P42: =IF(N42="","",IF(N42<=O42,"OK","A verifier")) | Q42: =IF(H42="","",MINIFS(Tables!$A$5:$A$26,Tables!$A$5:$A$26,">="&H42)) | T42: =IF(H42="","",IF(J42="Al",VLOOKUP(H42,Tables!$J$5:$K$25,2,TRUE),VLOOKUP(H42,Tables!$H$5:$I$25,2,TRUE)))
A43: C34 | C43: Tri | E43: =Parametres!B9 | F43: =Parametres!B10 | G43: =IF(C43="Mono",Parametres!B7,Parametres!B8) | H43: =IF(D43="","",IF(C43="Tri",(D43*1000)/(SQRT(3)*G43*E43*F43),(D43*1000)/(G43*E43*F43))) | J43: Cu | L43: =IF(K43="","",VLOOKUP(J43,Tables!$E$5:$F$6,2,FALSE)*1000/K43) | M43: =IF(OR(H43="",L43="",I43=""),"",IF(C43="Mono",2*H43*L43*(I43/1000),SQRT(3)*H43*L43*(I43/1000))) | N43: =IF(M43="","",M43/G43*100) | O43: =Parametres!B11 | P43: =IF(N43="","",IF(N43<=O43,"OK","A verifier")) | Q43: =IF(H43="","",MINIFS(Tables!$A$5:$A$26,Tables!$A$5:$A$26,">="&H43)) | T43: =IF(H43="","",IF(J43="Al",VLOOKUP(H43,Tables!$J$5:$K$25,2,TRUE),VLOOKUP(H43,Tables!$H$5:$I$25,2,TRUE)))
A44: C35 | C44: Tri | E44: =Parametres!B9 | F44: =Parametres!B10 | G44: =IF(C44="Mono",Parametres!B7,Parametres!B8) | H44: =IF(D44="","",IF(C44="Tri",(D44*1000)/(SQRT(3)*G44*E44*F44),(D44*1000)/(G44*E44*F44))) | J44: Cu | L44: =IF(K44="","",VLOOKUP(J44,Tables!$E$5:$F$6,2,FALSE)*1000/K44) | M44: =IF(OR(H44="",L44="",I44=""),"",IF(C44="Mono",2*H44*L44*(I44/1000),SQRT(3)*H44*L44*(I44/1000))) | N44: =IF(M44="","",M44/G44*100) | O44: =Parametres!B11 | P44: =IF(N44="","",IF(N44<=O44,"OK","A verifier")) | Q44: =IF(H44="","",MINIFS(Tables!$A$5:$A$26,Tables!$A$5:$A$26,">="&H44)) | T44: =IF(H44="","",IF(J44="Al",VLOOKUP(H44,Tables!$J$5:$K$25,2,TRUE),VLOOKUP(H44,Tables!$H$5:$I$25,2,TRUE)))
A45: C36 | C45: Tri | E45: =Parametres!B9 | F45: =Parametres!B10 | G45: =IF(C45="Mono",Parametres!B7,Parametres!B8) | H45: =IF(D45="","",IF(C45="Tri",(D45*1000)/(SQRT(3)*G45*E45*F45),(D45*1000)/(G45*E45*F45))) | J45: Cu | L45: =IF(K45="","",VLOOKUP(J45,Tables!$E$5:$F$6,2,FALSE)*1000/K45) | M45: =IF(OR(H45="",L45="",I45=""),"",IF(C45="Mono",2*H45*L45*(I45/1000),SQRT(3)*H45*L45*(I45/1000))) | N45: =IF(M45="","",M45/G45*100) | O45: =Parametres!B11 | P45: =IF(N45="","",IF(N45<=O45,"OK","A verifier")) | Q45: =IF(H45="","",MINIFS(Tables!$A$5:$A$26,Tables!$A$5:$A$26,">="&H45)) | T45: =IF(H45="","",IF(J45="Al",VLOOKUP(H45,Tables!$J$5:$K$25,2,TRUE),VLOOKUP(H45,Tables!$H$5:$I$25,2,TRUE)))
A46: C37 | C46: Tri | E46: =Parametres!B9 | F46: =Parametres!B10 | G46: =IF(C46="Mono",Parametres!B7,Parametres!B8) | H46: =IF(D46="","",IF(C46="Tri",(D46*1000)/(SQRT(3)*G46*E46*F46),(D46*1000)/(G46*E46*F46))) | J46: Cu | L46: =IF(K46="","",VLOOKUP(J46,Tables!$E$5:$F$6,2,FALSE)*1000/K46) | M46: =IF(OR(H46="",L46="",I46=""),"",IF(C46="Mono",2*H46*L46*(I46/1000),SQRT(3)*H46*L46*(I46/1000))) | N46: =IF(M46="","",M46/G46*100) | O46: =Parametres!B11 | P46: =IF(N46="","",IF(N46<=O46,"OK","A verifier")) | Q46: =IF(H46="","",MINIFS(Tables!$A$5:$A$26,Tables!$A$5:$A$26,">="&H46)) | T46: =IF(H46="","",IF(J46="Al",VLOOKUP(H46,Tables!$J$5:$K$25,2,TRUE),VLOOKUP(H46,Tables!$H$5:$I$25,2,TRUE)))
A47: C38 | C47: Tri | E47: =Parametres!B9 | F47: =Parametres!B10 | G47: =IF(C47="Mono",Parametres!B7,Parametres!B8) | H47: =IF(D47="","",IF(C47="Tri",(D47*1000)/(SQRT(3)*G47*E47*F47),(D47*1000)/(G47*E47*F47))) | J47: Cu | L47: =IF(K47="","",VLOOKUP(J47,Tables!$E$5:$F$6,2,FALSE)*1000/K47) | M47: =IF(OR(H47="",L47="",I47=""),"",IF(C47="Mono",2*H47*L47*(I47/1000),SQRT(3)*H47*L47*(I47/1000))) | N47: =IF(M47="","",M47/G47*100) | O47: =Parametres!B11 | P47: =IF(N47="","",IF(N47<=O47,"OK","A verifier")) | Q47: =IF(H47="","",MINIFS(Tables!$A$5:$A$26,Tables!$A$5:$A$26,">="&H47)) | T47: =IF(H47="","",IF(J47="Al",VLOOKUP(H47,Tables!$J$5:$K$25,2,TRUE),VLOOKUP(H47,Tables!$H$5:$I$25,2,TRUE)))
A48: C39 | C48: Tri | E48: =Parametres!B9 | F48: =Parametres!B10 | G48: =IF(C48="Mono",Parametres!B7,Parametres!B8) | H48: =IF(D48="","",IF(C48="Tri",(D48*1000)/(SQRT(3)*G48*E48*F48),(D48*1000)/(G48*E48*F48))) | J48: Cu | L48: =IF(K48="","",VLOOKUP(J48,Tables!$E$5:$F$6,2,FALSE)*1000/K48) | M48: =IF(OR(H48="",L48="",I48=""),"",IF(C48="Mono",2*H48*L48*(I48/1000),SQRT(3)*H48*L48*(I48/1000))) | N48: =IF(M48="","",M48/G48*100) | O48: =Parametres!B11 | P48: =IF(N48="","",IF(N48<=O48,"OK","A verifier")) | Q48: =IF(H48="","",MINIFS(Tables!$A$5:$A$26,Tables!$A$5:$A$26,">="&H48)) | T48: =IF(H48="","",IF(J48="Al",VLOOKUP(H48,Tables!$J$5:$K$25,2,TRUE),VLOOKUP(H48,Tables!$H$5:$I$25,2,TRUE)))
A49: C40 | C49: Tri | E49: =Parametres!B9 | F49: =Parametres!B10 | G49: =IF(C49="Mono",Parametres!B7,Parametres!B8) | H49: =IF(D49="","",IF(C49="Tri",(D49*1000)/(SQRT(3)*G49*E49*F49),(D49*1000)/(G49*E49*F49))) | J49: Cu | L49: =IF(K49="","",VLOOKUP(J49,Tables!$E$5:$F$6,2,FALSE)*1000/K49) | M49: =IF(OR(H49="",L49="",I49=""),"",IF(C49="Mono",2*H49*L49*(I49/1000),SQRT(3)*H49*L49*(I49/1000))) | N49: =IF(M49="","",M49/G49*100) | O49: =Parametres!B11 | P49: =IF(N49="","",IF(N49<=O49,"OK","A verifier")) | Q49: =IF(H49="","",MINIFS(Tables!$A$5:$A$26,Tables!$A$5:$A$26,">="&H49)) | T49: =IF(H49="","",IF(J49="Al",VLOOKUP(H49,Tables!$J$5:$K$25,2,TRUE),VLOOKUP(H49,Tables!$H$5:$I$25,2,TRUE)))
A50: C41 | C50: Tri | E50: =Parametres!B9 | F50: =Parametres!B10 | G50: =IF(C50="Mono",Parametres!B7,Parametres!B8) | H50: =IF(D50="","",IF(C50="Tri",(D50*1000)/(SQRT(3)*G50*E50*F50),(D50*1000)/(G50*E50*F50))) | J50: Cu | L50: =IF(K50="","",VLOOKUP(J50,Tables!$E$5:$F$6,2,FALSE)*1000/K50) | M50: =IF(OR(H50="",L50="",I50=""),"",IF(C50="Mono",2*H50*L50*(I50/1000),SQRT(3)*H50*L50*(I50/1000))) | N50: =IF(M50="","",M50/G50*100) | O50: =Parametres!B11 | P50: =IF(N50="","",IF(N50<=O50,"OK","A verifier")) | Q50: =IF(H50="","",MINIFS(Tables!$A$5:$A$26,Tables!$A$5:$A$26,">="&H50)) | T50: =IF(H50="","",IF(J50="Al",VLOOKUP(H50,Tables!$J$5:$K$25,2,TRUE),VLOOKUP(H50,Tables!$H$5:$I$25,2,TRUE)))
A51: C42 | C51: Tri | E51: =Parametres!B9 | F51: =Parametres!B10 | G51: =IF(C51="Mono",Parametres!B7,Parametres!B8) | H51: =IF(D51="","",IF(C51="Tri",(D51*1000)/(SQRT(3)*G51*E51*F51),(D51*1000)/(G51*E51*F51))) | J51: Cu | L51: =IF(K51="","",VLOOKUP(J51,Tables!$E$5:$F$6,2,FALSE)*1000/K51) | M51: =IF(OR(H51="",L51="",I51=""),"",IF(C51="Mono",2*H51*L51*(I51/1000),SQRT(3)*H51*L51*(I51/1000))) | N51: =IF(M51="","",M51/G51*100) | O51: =Parametres!B11 | P51: =IF(N51="","",IF(N51<=O51,"OK","A verifier")) | Q51: =IF(H51="","",MINIFS(Tables!$A$5:$A$26,Tables!$A$5:$A$26,">="&H51)) | T51: =IF(H51="","",IF(J51="Al",VLOOKUP(H51,Tables!$J$5:$K$25,2,TRUE),VLOOKUP(H51,Tables!$H$5:$I$25,2,TRUE)))
A52: C43 | C52: Tri | E52: =Parametres!B9 | F52: =Parametres!B10 | G52: =IF(C52="Mono",Parametres!B7,Parametres!B8) | H52: =IF(D52="","",IF(C52="Tri",(D52*1000)/(SQRT(3)*G52*E52*F52),(D52*1000)/(G52*E52*F52))) | J52: Cu | L52: =IF(K52="","",VLOOKUP(J52,Tables!$E$5:$F$6,2,FALSE)*1000/K52) | M52: =IF(OR(H52="",L52="",I52=""),"",IF(C52="Mono",2*H52*L52*(I52/1000),SQRT(3)*H52*L52*(I52/1000))) | N52: =IF(M52="","",M52/G52*100) | O52: =Parametres!B11 | P52: =IF(N52="","",IF(N52<=O52,"OK","A verifier")) | Q52: =IF(H52="","",MINIFS(Tables!$A$5:$A$26,Tables!$A$5:$A$26,">="&H52)) | T52: =IF(H52="","",IF(J52="Al",VLOOKUP(H52,Tables!$J$5:$K$25,2,TRUE),VLOOKUP(H52,Tables!$H$5:$I$25,2,TRUE)))
A53: C44 | C53: Tri | E53: =Parametres!B9 | F53: =Parametres!B10 | G53: =IF(C53="Mono",Parametres!B7,Parametres!B8) | H53: =IF(D53="","",IF(C53="Tri",(D53*1000)/(SQRT(3)*G53*E53*F53),(D53*1000)/(G53*E53*F53))) | J53: Cu | L53: =IF(K53="","",VLOOKUP(J53,Tables!$E$5:$F$6,2,FALSE)*1000/K53) | M53: =IF(OR(H53="",L53="",I53=""),"",IF(C53="Mono",2*H53*L53*(I53/1000),SQRT(3)*H53*L53*(I53/1000))) | N53: =IF(M53="","",M53/G53*100) | O53: =Parametres!B11 | P53: =IF(N53="","",IF(N53<=O53,"OK","A verifier")) | Q53: =IF(H53="","",MINIFS(Tables!$A$5:$A$26,Tables!$A$5:$A$26,">="&H53)) | T53: =IF(H53="","",IF(J53="Al",VLOOKUP(H53,Tables!$J$5:$K$25,2,TRUE),VLOOKUP(H53,Tables!$H$5:$I$25,2,TRUE)))
A54: C45 | C54: Tri | E54: =Parametres!B9 | F54: =Parametres!B10 | G54: =IF(C54="Mono",Parametres!B7,Parametres!B8) | H54: =IF(D54="","",IF(C54="Tri",(D54*1000)/(SQRT(3)*G54*E54*F54),(D54*1000)/(G54*E54*F54))) | J54: Cu | L54: =IF(K54="","",VLOOKUP(J54,Tables!$E$5:$F$6,2,FALSE)*1000/K54) | M54: =IF(OR(H54="",L54="",I54=""),"",IF(C54="Mono",2*H54*L54*(I54/1000),SQRT(3)*H54*L54*(I54/1000))) | N54: =IF(M54="","",M54/G54*100) | O54: =Parametres!B11 | P54: =IF(N54="","",IF(N54<=O54,"OK","A verifier")) | Q54: =IF(H54="","",MINIFS(Tables!$A$5:$A$26,Tables!$A$5:$A$26,">="&H54)) | T54: =IF(H54="","",IF(J54="Al",VLOOKUP(H54,Tables!$J$5:$K$25,2,TRUE),VLOOKUP(H54,Tables!$H$5:$I$25,2,TRUE)))
A55: C46 | C55: Tri | E55: =Parametres!B9 | F55: =Parametres!B10 | G55: =IF(C55="Mono",Parametres!B7,Parametres!B8) | H55: =IF(D55="","",IF(C55="Tri",(D55*1000)/(SQRT(3)*G55*E55*F55),(D55*1000)/(G55*E55*F55))) | J55: Cu | L55: =IF(K55="","",VLOOKUP(J55,Tables!$E$5:$F$6,2,FALSE)*1000/K55) | M55: =IF(OR(H55="",L55="",I55=""),"",IF(C55="Mono",2*H55*L55*(I55/1000),SQRT(3)*H55*L55*(I55/1000))) | N55: =IF(M55="","",M55/G55*100) | O55: =Parametres!B11 | P55: =IF(N55="","",IF(N55<=O55,"OK","A verifier")) | Q55: =IF(H55="","",MINIFS(Tables!$A$5:$A$26,Tables!$A$5:$A$26,">="&H55)) | T55: =IF(H55="","",IF(J55="Al",VLOOKUP(H55,Tables!$J$5:$K$25,2,TRUE),VLOOKUP(H55,Tables!$H$5:$I$25,2,TRUE)))
A56: C47 | C56: Tri | E56: =Parametres!B9 | F56: =Parametres!B10 | G56: =IF(C56="Mono",Parametres!B7,Parametres!B8) | H56: =IF(D56="","",IF(C56="Tri",(D56*1000)/(SQRT(3)*G56*E56*F56),(D56*1000)/(G56*E56*F56))) | J56: Cu | L56: =IF(K56="","",VLOOKUP(J56,Tables!$E$5:$F$6,2,FALSE)*1000/K56) | M56: =IF(OR(H56="",L56="",I56=""),"",IF(C56="Mono",2*H56*L56*(I56/1000),SQRT(3)*H56*L56*(I56/1000))) | N56: =IF(M56="","",M56/G56*100) | O56: =Parametres!B11 | P56: =IF(N56="","",IF(N56<=O56,"OK","A verifier")) | Q56: =IF(H56="","",MINIFS(Tables!$A$5:$A$26,Tables!$A$5:$A$26,">="&H56)) | T56: =IF(H56="","",IF(J56="Al",VLOOKUP(H56,Tables!$J$5:$K$25,2,TRUE),VLOOKUP(H56,Tables!$H$5:$I$25,2,TRUE)))
A57: C48 | C57: Tri | E57: =Parametres!B9 | F57: =Parametres!B10 | G57: =IF(C57="Mono",Parametres!B7,Parametres!B8) | H57: =IF(D57="","",IF(C57="Tri",(D57*1000)/(SQRT(3)*G57*E57*F57),(D57*1000)/(G57*E57*F57))) | J57: Cu | L57: =IF(K57="","",VLOOKUP(J57,Tables!$E$5:$F$6,2,FALSE)*1000/K57) | M57: =IF(OR(H57="",L57="",I57=""),"",IF(C57="Mono",2*H57*L57*(I57/1000),SQRT(3)*H57*L57*(I57/1000))) | N57: =IF(M57="","",M57/G57*100) | O57: =Parametres!B11 | P57: =IF(N57="","",IF(N57<=O57,"OK","A verifier")) | Q57: =IF(H57="","",MINIFS(Tables!$A$5:$A$26,Tables!$A$5:$A$26,">="&H57)) | T57: =IF(H57="","",IF(J57="Al",VLOOKUP(H57,Tables!$J$5:$K$25,2,TRUE),VLOOKUP(H57,Tables!$H$5:$I$25,2,TRUE)))
A58: C49 | C58: Tri | E58: =Parametres!B9 | F58: =Parametres!B10 | G58: =IF(C58="Mono",Parametres!B7,Parametres!B8) | H58: =IF(D58="","",IF(C58="Tri",(D58*1000)/(SQRT(3)*G58*E58*F58),(D58*1000)/(G58*E58*F58))) | J58: Cu | L58: =IF(K58="","",VLOOKUP(J58,Tables!$E$5:$F$6,2,FALSE)*1000/K58) | M58: =IF(OR(H58="",L58="",I58=""),"",IF(C58="Mono",2*H58*L58*(I58/1000),SQRT(3)*H58*L58*(I58/1000))) | N58: =IF(M58="","",M58/G58*100) | O58: =Parametres!B11 | P58: =IF(N58="","",IF(N58<=O58,"OK","A verifier")) | Q58: =IF(H58="","",MINIFS(Tables!$A$5:$A$26,Tables!$A$5:$A$26,">="&H58)) | T58: =IF(H58="","",IF(J58="Al",VLOOKUP(H58,Tables!$J$5:$K$25,2,TRUE),VLOOKUP(H58,Tables!$H$5:$I$25,2,TRUE)))
A59: C50 | C59: Tri | E59: =Parametres!B9 | F59: =Parametres!B10 | G59: =IF(C59="Mono",Parametres!B7,Parametres!B8) | H59: =IF(D59="","",IF(C59="Tri",(D59*1000)/(SQRT(3)*G59*E59*F59),(D59*1000)/(G59*E59*F59))) | J59: Cu | L59: =IF(K59="","",VLOOKUP(J59,Tables!$E$5:$F$6,2,FALSE)*1000/K59) | M59: =IF(OR(H59="",L59="",I59=""),"",IF(C59="Mono",2*H59*L59*(I59/1000),SQRT(3)*H59*L59*(I59/1000))) | N59: =IF(M59="","",M59/G59*100) | O59: =Parametres!B11 | P59: =IF(N59="","",IF(N59<=O59,"OK","A verifier")) | Q59: =IF(H59="","",MINIFS(Tables!$A$5:$A$26,Tables!$A$5:$A$26,">="&H59)) | T59: =IF(H59="","",IF(J59="Al",VLOOKUP(H59,Tables!$J$5:$K$25,2,TRUE),VLOOKUP(H59,Tables!$H$5:$I$25,2,TRUE)))
C61: TOTAL | D61: =SUM(D10:D59) | H61: =MAX(H10:H59)

Sheet Parametres
A1: Parametres du projet
A3: Nom du projet | B3: Mon projet electrique
A4: Date | B4: 2026-03-04
A5: Realise par | B5: —
A6: Version | B6: 1.0
A7: Tension monophase (V) | B7: 230
A8: Tension triphase (V) | B8: 400
A9: Facteur de puissance par defaut (cos phi) | B9: 0.9
A10: Rendement par defaut (eta) | B10: 0.95
A11: Chute de tension max (%) | B11: 5
A13: Astuce: les cellules en bleu sont a saisir. Les autres feuilles se mettront a jour automatiquement.

Sheet Tables
A1: Tables & Listes
H2: Sections conseillees (indicatif)
A3: Calibres disjoncteurs standards (A) | C3: Sections usuelles (mm²) | E3: Constantes | H3: Trame indicative a adapter selon mode de pose, temperature, regroupement, normes du projet.
A4: In (A) | C4: S (mm²) | E4: Materiau | F4: rho (Ω·mm²/m) | H4: Cu - seuil Ib (A) | I4: Section (mm²) | J4: Al - seuil Ib (A) | K4: Section (mm²)
A5: 2 | C5: 1.5 | E5: Cu | F5: 0.0175 | H5: 0 | I5: 1.5 | J5: 0 | K5: 2.5
A6: 4 | C6: 2.5 | E6: Al | F6: 0.0283 | H6: 15 | I6: 2.5 | J6: 12 | K6: 4
A7: 6 | C7: 4 | H7: 21 | I7: 4 | J7: 20 | K7: 6
A8: 10 | C8: 6 | H8: 28 | I8: 6 | J8: 26 | K8: 10
A9: 13 | C9: 10 | H9: 36 | I9: 10 | J9: 40 | K9: 16
A10: 16 | C10: 16 | H10: 50 | I10: 16 | J10: 55 | K10: 25
A11: 20 | C11: 25 | H11: 68 | I11: 25 | J11: 75 | K11: 35
A12: 25 | C12: 35 | H12: 89 | I12: 35 | J12: 95 | K12: 50
A13: 32 | C13: 50 | H13: 110 | I13: 50 | J13: 120 | K13: 70
A14: 40 | C14: 70 | H14: 140 | I14: 70 | J14: 150 | K14: 95
A15: 50 | C15: 95 | H15: 170 | I15: 95 | J15: 180 | K15: 120
A16: 63 | C16: 120 | H16: 210 | I16: 120 | J16: 210 | K16: 150
A17: 80 | C17: 150 | H17: 240 | I17: 150 | J17: 250 | K17: 185
A18: 100 | C18: 185 | H18: 280 | I18: 185 | J18: 290 | K18: 240
A19: 125 | C19: 240 | H19: 320 | I19: 240
A20: 160
A21: 200
A22: 250
A23: 315
A24: 400
A25: 500
A26: 630
A30: Note: rho est une valeur typique à 20°C (approx.). Ajustez selon vos normes/projet.

Sheet Mode_emploi
A1: Mode d'emploi (rapide)
A3: 1) Renseignez les parametres | B3: Onglet Parametres : modifiez les cellules bleues (tensions, cos phi, eta, chute max).
A5: 2) Remplissez la table des circuits | B5: Onglet Circuits : saisissez Description, Puissance (kW), Longueur (m), Materiau, Section (mm²).
A7: 3) Verifiez les resultats | B7: Les colonnes Courant, Chute de tension et Disjoncteur sont calculees. Les cellules deviennent rouges si la chute depasse le seuil.
A9: 4) Ajustez si necessaire | B9: Changez la section, la longueur ou les hypotheses globales (cos phi, eta) puis controlez la colonne Conforme ?.
A11: Limites du modele | B11: Chute de tension simplifiee (resistance seule). Adaptez selon vos normes (reactance, temperature, regroupement, etc.).
