Workbook

Sheet Dashboard OnePage
A1: TABLEAU DE BORD GLOBAL DE PRODUCTION
A4: One page • visualisation semi-circulaire • couleurs • modifier l'onglet Donnees pour actualiser
A5: Date début | B5: =MIN(Donnees!A6:A35) | C5: Date fin | D5: =MAX(Donnees!A6:A35) | E5: Stock actuel | F5: =Donnees!L35 | G5: Lecture | H5: Synthèse pilotage usine / ligne
A6: Production totale | D6: Taux d'atteinte | G6: TRS / OEE | J6: Taux de service
A7: =SUM(Donnees!C6:C35) | D7: =IFERROR(SUM(Donnees!C6:C35)/SUM(Donnees!B6:B35),0) | G7: =A13*E13*I13 | J7: =IFERROR(SUM(Donnees!K6:K35)/SUM(Donnees!J6:J35),0)
A10: unités produites | D10: vs objectif | G10: Dispo × Perf × Qualité | J10: commandes livrées / reçues
A12: Disponibilité | E12: Performance | I12: Qualité
A13: =IFERROR((SUM(Donnees!F6:F35)-SUM(Donnees!G6:G35)-SUM(Donnees!H6:H35))/(SUM(Donnees!F6:F35)-SUM(Donnees!G6:G35)),0) | E13: =IFERROR(SUM(Donnees!C6:C35)/SUM(Donnees!I6:I35),0) | I13: =IFERROR(SUM(Donnees!D6:D35)/SUM(Donnees!C6:C35),0)
A25: Production journalière vs objectif | I25: Minutes d'arrêt par cause
A40: Inspiration : https://lecoursgratuit.com/optimisez-votre-efficacite-avec-un-tableau-de-bord-de-production-globale/

Sheet Donnees
A1: Saisissez ou remplacez les données ci-dessous : le dashboard se met à jour automatiquement.
A2: Stock initial | B2: 3500
A3: Inspiration du modèle | B3: https://lecoursgratuit.com/optimisez-votre-efficacite-avec-un-tableau-de-bord-de-production-globale/
A5: Date | B5: Objectif (u) | C5: Production réelle (u) | D5: Pièces conformes (u) | E5: Rebuts (u) | F5: Temps planifié (min) | G5: Arrêts planifiés (min) | H5: Arrêts non planifiés (min) | I5: Capacité théorique (u) | J5: Commandes reçues (u) | K5: Commandes livrées (u) | L5: Stock final (u) | M5: Cause dominante | N5: Minutes cause
A6: 46061 | B6: 1053 | C6: 1004 | D6: 979 | E6: =MAX(C6-D6,0) | F6: 480 | G6: 31 | H6: 30 | I6: 1142 | J6: 1080 | K6: 976 | L6: =$B$2+C6-K6 | M6: Panne | N6: 14
A7: 46062 | B7: 1018 | C7: 1024 | D7: 1002 | E7: =MAX(C7-D7,0) | F7: 480 | G7: 36 | H7: 32 | I7: 1101 | J7: 1075 | K7: 1010 | L7: =L6+C7-K7 | M7: Panne | N7: 22
A8: 46063 | B8: 955 | C8: 960 | D8: 952 | E8: =MAX(C8-D8,0) | F8: 480 | G8: 24 | H8: 57 | I8: 1046 | J8: 1105 | K8: 948 | L8: =L7+C8-K8 | M8: Réglage | N8: 29
A9: 46064 | B9: 937 | C9: 881 | D9: 854 | E9: =MAX(C9-D9,0) | F9: 480 | G9: 35 | H9: 52 | I9: 909 | J9: 936 | K9: 855 | L9: =L8+C9-K9 | M9: Qualité | N9: 45
A10: 46065 | B10: 924 | C10: 884 | D10: 869 | E10: =MAX(C10-D10,0) | F10: 480 | G10: 44 | H10: 34 | I10: 1022 | J10: 1022 | K10: 842 | L10: =L9+C10-K10 | M10: Maintenance | N10: 19
A11: 46066 | B11: 1062 | C11: 985 | D11: 959 | E11: =MAX(C11-D11,0) | F11: 480 | G11: 31 | H11: 15 | I11: 1108 | J11: 1101 | K11: 932 | L11: =L10+C11-K11 | M11: Maintenance | N11: 10
A12: 46067 | B12: 953 | C12: 889 | D12: 867 | E12: =MAX(C12-D12,0) | F12: 480 | G12: 31 | H12: 32 | I12: 1012 | J12: 924 | K12: 875 | L12: =L11+C12-K12 | M12: Qualité | N12: 19
A13: 46068 | B13: 932 | C13: 930 | D13: 908 | E13: =MAX(C13-D13,0) | F13: 480 | G13: 34 | H13: 29 | I13: 1020 | J13: 913 | K13: 906 | L13: =L12+C13-K13 | M13: Panne | N13: 23
A14: 46069 | B14: 1044 | C14: 942 | D14: 926 | E14: =MAX(C14-D14,0) | F14: 480 | G14: 41 | H14: 20 | I14: 1042 | J14: 1087 | K14: 930 | L14: =L13+C14-K14 | M14: Qualité | N14: 11
A15: 46070 | B15: 984 | C15: 1009 | D15: 995 | E15: =MAX(C15-D15,0) | F15: 480 | G15: 26 | H15: 15 | I15: 1060 | J15: 1037 | K15: 957 | L15: =L14+C15-K15 | M15: Qualité | N15: 7
A16: 46071 | B16: 1027 | C16: 937 | D16: 926 | E16: =MAX(C16-D16,0) | F16: 480 | G16: 28 | H16: 54 | I16: 967 | J16: 1022 | K16: 876 | L16: =L15+C16-K16 | M16: Manque matière | N16: 48
A17: 46072 | B17: 977 | C17: 947 | D17: 923 | E17: =MAX(C17-D17,0) | F17: 480 | G17: 25 | H17: 30 | I17: 1095 | J17: 1024 | K17: 914 | L17: =L16+C17-K17 | M17: Panne | N17: 19
A18: 46073 | B18: 1080 | C18: 1034 | D18: 1028 | E18: =MAX(C18-D18,0) | F18: 480 | G18: 44 | H18: 25 | I18: 1169 | J18: 981 | K18: 1012 | L18: =L17+C18-K18 | M18: Manque matière | N18: 22
... A35: 46090 | B35: 1028 | C35: 1007 | D35: 993 | E35: =MAX(C35-D35,0) | F35: 480 | G35: 34 | H35: 22 | I35: 1069 | J35: 954 | K35: 948 | L35: =L34+C35-K35 | M35: Qualité | N35: 17

Sheet Calculs
A1: Valeur | B1: Reste | C1: Masqué
A2: =Dashboard!A13*100 | B2: =100-A2 | C2: 100
A3: =Dashboard!E13*100 | B3: =100-A3 | C3: 100
A4: =Dashboard!I13*100 | B4: =100-A4 | C4: 100
A9: Cause | B9: Minutes
A10: Panne | B10: =SUMIF(Donnees!$M$6:$M$35,A10,Donnees!$N$6:$N$35)
A11: Réglage | B11: =SUMIF(Donnees!$M$6:$M$35,A11,Donnees!$N$6:$N$35)
A12: Manque matière | B12: =SUMIF(Donnees!$M$6:$M$35,A12,Donnees!$N$6:$N$35)
A13: Qualité | B13: =SUMIF(Donnees!$M$6:$M$35,A13,Donnees!$N$6:$N$35)
A14: Maintenance | B14: =SUMIF(Donnees!$M$6:$M$35,A14,Donnees!$N$6:$N$35)

Sheet BI_Data
A1: Table de données BI reliée à l’onglet Donnees
A2: Période | B2: Début | C2: Fin | D2: Objectif | E2: Production | F2: Conformes | G2: Rebuts | H2: Arrêts non planifiés | I2: Commandes | J2: Livraisons | K2: Stock fin | L2: Taux qualité | M2: Taux service | N2: OEE estimé | O2: Écart prod. | P2: Production cumulée
A3: Semaine 1 | B3: =Donnees!A6 | C3: =Donnees!A12 | D3: =SUMIFS(Donnees!$B$6:$B$35,Donnees!$A$6:$A$35,">="&B3,Donnees!$A$6:$A$35,"<="&C3) | E3: =SUMIFS(Donnees!$C$6:$C$35,Donnees!$A$6:$A$35,">="&B3,Donnees!$A$6:$A$35,"<="&C3) | F3: =SUMIFS(Donnees!$D$6:$D$35,Donnees!$A$6:$A$35,">="&B3,Donnees!$A$6:$A$35,"<="&C3) | G3: =SUMIFS(Donnees!$E$6:$E$35,Donnees!$A$6:$A$35,">="&B3,Donnees!$A$6:$A$35,"<="&C3) | H3: =SUMIFS(Donnees!$H$6:$H$35,Donnees!$A$6:$A$35,">="&B3,Donnees!$A$6:$A$35,"<="&C3) | I3: =SUMIFS(Donnees!$J$6:$J$35,Donnees!$A$6:$A$35,">="&B3,Donnees!$A$6:$A$35,"<="&C3) | J3: =SUMIFS(Donnees!$K$6:$K$35,Donnees!$A$6:$A$35,">="&B3,Donnees!$A$6:$A$35,"<="&C3) | K3: =INDEX(Donnees!$L$6:$L$35,MATCH(C3,Donnees!$A$6:$A$35,0)) | L3: =IFERROR(F3/E3,0) | M3: =IFERROR(J3/I3,0) | N3: =IFERROR(((SUMIFS(Donnees!$F$6:$F$35,Donnees!$A$6:$A$35,">="&B3,Donnees!$A$6:$A$35,"<="&C3)-SUMIFS(Donnees!$G$6:$G$35,Donnees!$A$6:$A$35,">="&B3,Donnees!$A$6:$A$35,"<="&C3)-H3)/(SUMIFS(Donnees!$F$6:$F$35,Donnees!$A$6:$A$35,">="&B3,Donnees!$A$6:$A$35,"<="&C3)-SUMIFS(Donnees!$G$6:$G$35,Donnees!$A$6:$A$35,">="&B3,Donnees!$A$6:$A$35,"<="&C3)))*(E3/SUMIFS(Donnees!$I$6:$I$35,Donnees!$A$6:$A$35,">="&B3,Donnees!$A$6:$A$35,"<="&C3)))*(F3/E3),0) | O3: =E3-D3 | P3: =E3
A4: Semaine 2 | B4: =Donnees!A13 | C4: =Donnees!A19 | D4: =SUMIFS(Donnees!$B$6:$B$35,Donnees!$A$6:$A$35,">="&B4,Donnees!$A$6:$A$35,"<="&C4) | E4: =SUMIFS(Donnees!$C$6:$C$35,Donnees!$A$6:$A$35,">="&B4,Donnees!$A$6:$A$35,"<="&C4) | F4: =SUMIFS(Donnees!$D$6:$D$35,Donnees!$A$6:$A$35,">="&B4,Donnees!$A$6:$A$35,"<="&C4) | G4: =SUMIFS(Donnees!$E$6:$E$35,Donnees!$A$6:$A$35,">="&B4,Donnees!$A$6:$A$35,"<="&C4) | H4: =SUMIFS(Donnees!$H$6:$H$35,Donnees!$A$6:$A$35,">="&B4,Donnees!$A$6:$A$35,"<="&C4) | I4: =SUMIFS(Donnees!$J$6:$J$35,Donnees!$A$6:$A$35,">="&B4,Donnees!$A$6:$A$35,"<="&C4) | J4: =SUMIFS(Donnees!$K$6:$K$35,Donnees!$A$6:$A$35,">="&B4,Donnees!$A$6:$A$35,"<="&C4) | K4: =INDEX(Donnees!$L$6:$L$35,MATCH(C4,Donnees!$A$6:$A$35,0)) | L4: =IFERROR(F4/E4,0) | M4: =IFERROR(J4/I4,0) | N4: =IFERROR(((SUMIFS(Donnees!$F$6:$F$35,Donnees!$A$6:$A$35,">="&B4,Donnees!$A$6:$A$35,"<="&C4)-SUMIFS(Donnees!$G$6:$G$35,Donnees!$A$6:$A$35,">="&B4,Donnees!$A$6:$A$35,"<="&C4)-H4)/(SUMIFS(Donnees!$F$6:$F$35,Donnees!$A$6:$A$35,">="&B4,Donnees!$A$6:$A$35,"<="&C4)-SUMIFS(Donnees!$G$6:$G$35,Donnees!$A$6:$A$35,">="&B4,Donnees!$A$6:$A$35,"<="&C4)))*(E4/SUMIFS(Donnees!$I$6:$I$35,Donnees!$A$6:$A$35,">="&B4,Donnees!$A$6:$A$35,"<="&C4)))*(F4/E4),0) | O4: =E4-D4 | P4: =P3+E4
A5: Semaine 3 | B5: =Donnees!A20 | C5: =Donnees!A26 | D5: =SUMIFS(Donnees!$B$6:$B$35,Donnees!$A$6:$A$35,">="&B5,Donnees!$A$6:$A$35,"<="&C5) | E5: =SUMIFS(Donnees!$C$6:$C$35,Donnees!$A$6:$A$35,">="&B5,Donnees!$A$6:$A$35,"<="&C5) | F5: =SUMIFS(Donnees!$D$6:$D$35,Donnees!$A$6:$A$35,">="&B5,Donnees!$A$6:$A$35,"<="&C5) | G5: =SUMIFS(Donnees!$E$6:$E$35,Donnees!$A$6:$A$35,">="&B5,Donnees!$A$6:$A$35,"<="&C5) | H5: =SUMIFS(Donnees!$H$6:$H$35,Donnees!$A$6:$A$35,">="&B5,Donnees!$A$6:$A$35,"<="&C5) | I5: =SUMIFS(Donnees!$J$6:$J$35,Donnees!$A$6:$A$35,">="&B5,Donnees!$A$6:$A$35,"<="&C5) | J5: =SUMIFS(Donnees!$K$6:$K$35,Donnees!$A$6:$A$35,">="&B5,Donnees!$A$6:$A$35,"<="&C5) | K5: =INDEX(Donnees!$L$6:$L$35,MATCH(C5,Donnees!$A$6:$A$35,0)) | L5: =IFERROR(F5/E5,0) | M5: =IFERROR(J5/I5,0) | N5: =IFERROR(((SUMIFS(Donnees!$F$6:$F$35,Donnees!$A$6:$A$35,">="&B5,Donnees!$A$6:$A$35,"<="&C5)-SUMIFS(Donnees!$G$6:$G$35,Donnees!$A$6:$A$35,">="&B5,Donnees!$A$6:$A$35,"<="&C5)-H5)/(SUMIFS(Donnees!$F$6:$F$35,Donnees!$A$6:$A$35,">="&B5,Donnees!$A$6:$A$35,"<="&C5)-SUMIFS(Donnees!$G$6:$G$35,Donnees!$A$6:$A$35,">="&B5,Donnees!$A$6:$A$35,"<="&C5)))*(E5/SUMIFS(Donnees!$I$6:$I$35,Donnees!$A$6:$A$35,">="&B5,Donnees!$A$6:$A$35,"<="&C5)))*(F5/E5),0) | O5: =E5-D5 | P5: =P4+E5
A6: Semaine 4 | B6: =Donnees!A27 | C6: =Donnees!A33 | D6: =SUMIFS(Donnees!$B$6:$B$35,Donnees!$A$6:$A$35,">="&B6,Donnees!$A$6:$A$35,"<="&C6) | E6: =SUMIFS(Donnees!$C$6:$C$35,Donnees!$A$6:$A$35,">="&B6,Donnees!$A$6:$A$35,"<="&C6) | F6: =SUMIFS(Donnees!$D$6:$D$35,Donnees!$A$6:$A$35,">="&B6,Donnees!$A$6:$A$35,"<="&C6) | G6: =SUMIFS(Donnees!$E$6:$E$35,Donnees!$A$6:$A$35,">="&B6,Donnees!$A$6:$A$35,"<="&C6) | H6: =SUMIFS(Donnees!$H$6:$H$35,Donnees!$A$6:$A$35,">="&B6,Donnees!$A$6:$A$35,"<="&C6) | I6: =SUMIFS(Donnees!$J$6:$J$35,Donnees!$A$6:$A$35,">="&B6,Donnees!$A$6:$A$35,"<="&C6) | J6: =SUMIFS(Donnees!$K$6:$K$35,Donnees!$A$6:$A$35,">="&B6,Donnees!$A$6:$A$35,"<="&C6) | K6: =INDEX(Donnees!$L$6:$L$35,MATCH(C6,Donnees!$A$6:$A$35,0)) | L6: =IFERROR(F6/E6,0) | M6: =IFERROR(J6/I6,0) | N6: =IFERROR(((SUMIFS(Donnees!$F$6:$F$35,Donnees!$A$6:$A$35,">="&B6,Donnees!$A$6:$A$35,"<="&C6)-SUMIFS(Donnees!$G$6:$G$35,Donnees!$A$6:$A$35,">="&B6,Donnees!$A$6:$A$35,"<="&C6)-H6)/(SUMIFS(Donnees!$F$6:$F$35,Donnees!$A$6:$A$35,">="&B6,Donnees!$A$6:$A$35,"<="&C6)-SUMIFS(Donnees!$G$6:$G$35,Donnees!$A$6:$A$35,">="&B6,Donnees!$A$6:$A$35,"<="&C6)))*(E6/SUMIFS(Donnees!$I$6:$I$35,Donnees!$A$6:$A$35,">="&B6,Donnees!$A$6:$A$35,"<="&C6)))*(F6/E6),0) | O6: =E6-D6 | P6: =P5+E6
A7: Semaine 5 | B7: =Donnees!A34 | C7: =Donnees!A35 | D7: =SUMIFS(Donnees!$B$6:$B$35,Donnees!$A$6:$A$35,">="&B7,Donnees!$A$6:$A$35,"<="&C7) | E7: =SUMIFS(Donnees!$C$6:$C$35,Donnees!$A$6:$A$35,">="&B7,Donnees!$A$6:$A$35,"<="&C7) | F7: =SUMIFS(Donnees!$D$6:$D$35,Donnees!$A$6:$A$35,">="&B7,Donnees!$A$6:$A$35,"<="&C7) | G7: =SUMIFS(Donnees!$E$6:$E$35,Donnees!$A$6:$A$35,">="&B7,Donnees!$A$6:$A$35,"<="&C7) | H7: =SUMIFS(Donnees!$H$6:$H$35,Donnees!$A$6:$A$35,">="&B7,Donnees!$A$6:$A$35,"<="&C7) | I7: =SUMIFS(Donnees!$J$6:$J$35,Donnees!$A$6:$A$35,">="&B7,Donnees!$A$6:$A$35,"<="&C7) | J7: =SUMIFS(Donnees!$K$6:$K$35,Donnees!$A$6:$A$35,">="&B7,Donnees!$A$6:$A$35,"<="&C7) | K7: =INDEX(Donnees!$L$6:$L$35,MATCH(C7,Donnees!$A$6:$A$35,0)) | L7: =IFERROR(F7/E7,0) | M7: =IFERROR(J7/I7,0) | N7: =IFERROR(((SUMIFS(Donnees!$F$6:$F$35,Donnees!$A$6:$A$35,">="&B7,Donnees!$A$6:$A$35,"<="&C7)-SUMIFS(Donnees!$G$6:$G$35,Donnees!$A$6:$A$35,">="&B7,Donnees!$A$6:$A$35,"<="&C7)-H7)/(SUMIFS(Donnees!$F$6:$F$35,Donnees!$A$6:$A$35,">="&B7,Donnees!$A$6:$A$35,"<="&C7)-SUMIFS(Donnees!$G$6:$G$35,Donnees!$A$6:$A$35,">="&B7,Donnees!$A$6:$A$35,"<="&C7)))*(E7/SUMIFS(Donnees!$I$6:$I$35,Donnees!$A$6:$A$35,">="&B7,Donnees!$A$6:$A$35,"<="&C7)))*(F7/E7),0) | O7: =E7-D7 | P7: =P6+E7
A10: Répartition des causes d'arrêt | D10: KPI consolidés
A11: Cause | B11: Minutes | D11: Production totale | E11: =SUM(E3:E7)
A12: Panne | B12: =SUMIF(Donnees!$M$6:$M$35,A12,Donnees!$N$6:$N$35) | D12: Objectif total | E12: =SUM(D3:D7)
A13: Réglage | B13: =SUMIF(Donnees!$M$6:$M$35,A13,Donnees!$N$6:$N$35) | D13: Qualité moyenne | E13: =AVERAGE(L3:L7)
A14: Qualité | B14: =SUMIF(Donnees!$M$6:$M$35,A14,Donnees!$N$6:$N$35) | D14: Service moyen | E14: =AVERAGE(M3:M7)
A15: Maintenance | B15: =SUMIF(Donnees!$M$6:$M$35,A15,Donnees!$N$6:$N$35) | D15: OEE moyen | E15: =AVERAGE(N3:N7)

Sheet Dashboard BI
A1: Tableau de bord BI de production – version fusionnée
A2: Cette vue regroupe le tableau de bord one page et une couche BI visuelle alimentée par l’onglet Donnees.
A3: Production totale | D3: Objectif total | G3: Qualité moyenne | J3: Service moyen | M3: OEE moyen
A4: =BI_Data!E11 | D4: =BI_Data!E12 | G4: =BI_Data!E13 | J4: =BI_Data!E14 | M4: =BI_Data!E15
