Workbook

Sheet Liste Anniversaires
A1: Nom | B1: Date de Naissance | C1: Jour | D1: Mois | E1: Catégorie | F1: Rappel
A2: Alice Dupont | B2: 1985-03-14 | C2: =DAY(B2) | D2: =MONTH(B2) | E2: Famille | F2: Oui
A3: Jean Martin | B3: 1990-07-22 | C3: =DAY(B3) | D3: =MONTH(B3) | E3: Ami | F3: Non

Sheet Calendrier
B2: Janvier | C2: Février | D2: Mars | E2: Avril | F2: Mai | G2: Juin | H2: Juillet | I2: Août | J2: Septembre | K2: Octobre | L2: Novembre | M2: Décembre
A3: 1 | B3: =IFERROR(TEXTJOIN(CHAR(10), TRUE, FILTER('Liste Anniversaires'!A2:A100, ('Liste Anniversaires'!C2:C100=1) * ('Liste Anniversaires'!D2:D100=1))), "") | C3: =IFERROR(TEXTJOIN(CHAR(10), TRUE, FILTER('Liste Anniversaires'!A2:A100, ('Liste Anniversaires'!C2:C100=1) * ('Liste Anniversaires'!D2:D100=2))), "") | D3: =IFERROR(TEXTJOIN(CHAR(10), TRUE, FILTER('Liste Anniversaires'!A2:A100, ('Liste Anniversaires'!C2:C100=1) * ('Liste Anniversaires'!D2:D100=3))), "") | E3: =IFERROR(TEXTJOIN(CHAR(10), TRUE, FILTER('Liste Anniversaires'!A2:A100, ('Liste Anniversaires'!C2:C100=1) * ('Liste Anniversaires'!D2:D100=4))), "") | F3: =IFERROR(TEXTJOIN(CHAR(10), TRUE, FILTER('Liste Anniversaires'!A2:A100, ('Liste Anniversaires'!C2:C100=1) * ('Liste Anniversaires'!D2:D100=5))), "") | G3: =IFERROR(TEXTJOIN(CHAR(10), TRUE, FILTER('Liste Anniversaires'!A2:A100, ('Liste Anniversaires'!C2:C100=1) * ('Liste Anniversaires'!D2:D100=6))), "") | H3: =IFERROR(TEXTJOIN(CHAR(10), TRUE, FILTER('Liste Anniversaires'!A2:A100, ('Liste Anniversaires'!C2:C100=1) * ('Liste Anniversaires'!D2:D100=7))), "") | I3: =IFERROR(TEXTJOIN(CHAR(10), TRUE, FILTER('Liste Anniversaires'!A2:A100, ('Liste Anniversaires'!C2:C100=1) * ('Liste Anniversaires'!D2:D100=8))), "") | J3: =IFERROR(TEXTJOIN(CHAR(10), TRUE, FILTER('Liste Anniversaires'!A2:A100, ('Liste Anniversaires'!C2:C100=1) * ('Liste Anniversaires'!D2:D100=9))), "") | K3: =IFERROR(TEXTJOIN(CHAR(10), TRUE, FILTER('Liste Anniversaires'!A2:A100, ('Liste Anniversaires'!C2:C100=1) * ('Liste Anniversaires'!D2:D100=10))), "") | L3: =IFERROR(TEXTJOIN(CHAR(10), TRUE, FILTER('Liste Anniversaires'!A2:A100, ('Liste Anniversaires'!C2:C100=1) * ('Liste Anniversaires'!D2:D100=11))), "") | M3: =IFERROR(TEXTJOIN(CHAR(10), TRUE, FILTER('Liste Anniversaires'!A2:A100, ('Liste Anniversaires'!C2:C100=1) * ('Liste Anniversaires'!D2:D100=12))), "")
A4: 2 | B4: =IFERROR(TEXTJOIN(CHAR(10), TRUE, FILTER('Liste Anniversaires'!A2:A100, ('Liste Anniversaires'!C2:C100=2) * ('Liste Anniversaires'!D2:D100=1))), "") | C4: =IFERROR(TEXTJOIN(CHAR(10), TRUE, FILTER('Liste Anniversaires'!A2:A100, ('Liste Anniversaires'!C2:C100=2) * ('Liste Anniversaires'!D2:D100=2))), "") | D4: =IFERROR(TEXTJOIN(CHAR(10), TRUE, FILTER('Liste Anniversaires'!A2:A100, ('Liste Anniversaires'!C2:C100=2) * ('Liste Anniversaires'!D2:D100=3))), "") | E4: =IFERROR(TEXTJOIN(CHAR(10), TRUE, FILTER('Liste Anniversaires'!A2:A100, ('Liste Anniversaires'!C2:C100=2) * ('Liste Anniversaires'!D2:D100=4))), "") | F4: =IFERROR(TEXTJOIN(CHAR(10), TRUE, FILTER('Liste Anniversaires'!A2:A100, ('Liste Anniversaires'!C2:C100=2) * ('Liste Anniversaires'!D2:D100=5))), "") | G4: =IFERROR(TEXTJOIN(CHAR(10), TRUE, FILTER('Liste Anniversaires'!A2:A100, ('Liste Anniversaires'!C2:C100=2) * ('Liste Anniversaires'!D2:D100=6))), "") | H4: =IFERROR(TEXTJOIN(CHAR(10), TRUE, FILTER('Liste Anniversaires'!A2:A100, ('Liste Anniversaires'!C2:C100=2) * ('Liste Anniversaires'!D2:D100=7))), "") | I4: =IFERROR(TEXTJOIN(CHAR(10), TRUE, FILTER('Liste Anniversaires'!A2:A100, ('Liste Anniversaires'!C2:C100=2) * ('Liste Anniversaires'!D2:D100=8))), "") | J4: =IFERROR(TEXTJOIN(CHAR(10), TRUE, FILTER('Liste Anniversaires'!A2:A100, ('Liste Anniversaires'!C2:C100=2) * ('Liste Anniversaires'!D2:D100=9))), "") | K4: =IFERROR(TEXTJOIN(CHAR(10), TRUE, FILTER('Liste Anniversaires'!A2:A100, ('Liste Anniversaires'!C2:C100=2) * ('Liste Anniversaires'!D2:D100=10))), "") | L4: =IFERROR(TEXTJOIN(CHAR(10), TRUE, FILTER('Liste Anniversaires'!A2:A100, ('Liste Anniversaires'!C2:C100=2) * ('Liste Anniversaires'!D2:D100=11))), "") | M4: =IFERROR(TEXTJOIN(CHAR(10), TRUE, FILTER('Liste Anniversaires'!A2:A100, ('Liste Anniversaires'!C2:C100=2) * ('Liste Anniversaires'!D2:D100=12))), "")
A5: 3 | B5: =IFERROR(TEXTJOIN(CHAR(10), TRUE, FILTER('Liste Anniversaires'!A2:A100, ('Liste Anniversaires'!C2:C100=3) * ('Liste Anniversaires'!D2:D100=1))), "") | C5: =IFERROR(TEXTJOIN(CHAR(10), TRUE, FILTER('Liste Anniversaires'!A2:A100, ('Liste Anniversaires'!C2:C100=3) * ('Liste Anniversaires'!D2:D100=2))), "") | D5: =IFERROR(TEXTJOIN(CHAR(10), TRUE, FILTER('Liste Anniversaires'!A2:A100, ('Liste Anniversaires'!C2:C100=3) * ('Liste Anniversaires'!D2:D100=3))), "") | E5: =IFERROR(TEXTJOIN(CHAR(10), TRUE, FILTER('Liste Anniversaires'!A2:A100, ('Liste Anniversaires'!C2:C100=3) * ('Liste Anniversaires'!D2:D100=4))), "") | F5: =IFERROR(TEXTJOIN(CHAR(10), TRUE, FILTER('Liste Anniversaires'!A2:A100, ('Liste Anniversaires'!C2:C100=3) * ('Liste Anniversaires'!D2:D100=5))), "") | G5: =IFERROR(TEXTJOIN(CHAR(10), TRUE, FILTER('Liste Anniversaires'!A2:A100, ('Liste Anniversaires'!C2:C100=3) * ('Liste Anniversaires'!D2:D100=6))), "") | H5: =IFERROR(TEXTJOIN(CHAR(10), TRUE, FILTER('Liste Anniversaires'!A2:A100, ('Liste Anniversaires'!C2:C100=3) * ('Liste Anniversaires'!D2:D100=7))), "") | I5: =IFERROR(TEXTJOIN(CHAR(10), TRUE, FILTER('Liste Anniversaires'!A2:A100, ('Liste Anniversaires'!C2:C100=3) * ('Liste Anniversaires'!D2:D100=8))), "") | J5: =IFERROR(TEXTJOIN(CHAR(10), TRUE, FILTER('Liste Anniversaires'!A2:A100, ('Liste Anniversaires'!C2:C100=3) * ('Liste Anniversaires'!D2:D100=9))), "") | K5: =IFERROR(TEXTJOIN(CHAR(10), TRUE, FILTER('Liste Anniversaires'!A2:A100, ('Liste Anniversaires'!C2:C100=3) * ('Liste Anniversaires'!D2:D100=10))), "") | L5: =IFERROR(TEXTJOIN(CHAR(10), TRUE, FILTER('Liste Anniversaires'!A2:A100, ('Liste Anniversaires'!C2:C100=3) * ('Liste Anniversaires'!D2:D100=11))), "") | M5: =IFERROR(TEXTJOIN(CHAR(10), TRUE, FILTER('Liste Anniversaires'!A2:A100, ('Liste Anniversaires'!C2:C100=3) * ('Liste Anniversaires'!D2:D100=12))), "")
A6: 4 | B6: =IFERROR(TEXTJOIN(CHAR(10), TRUE, FILTER('Liste Anniversaires'!A2:A100, ('Liste Anniversaires'!C2:C100=4) * ('Liste Anniversaires'!D2:D100=1))), "") | C6: =IFERROR(TEXTJOIN(CHAR(10), TRUE, FILTER('Liste Anniversaires'!A2:A100, ('Liste Anniversaires'!C2:C100=4) * ('Liste Anniversaires'!D2:D100=2))), "") | D6: =IFERROR(TEXTJOIN(CHAR(10), TRUE, FILTER('Liste Anniversaires'!A2:A100, ('Liste Anniversaires'!C2:C100=4) * ('Liste Anniversaires'!D2:D100=3))), "") | E6: =IFERROR(TEXTJOIN(CHAR(10), TRUE, FILTER('Liste Anniversaires'!A2:A100, ('Liste Anniversaires'!C2:C100=4) * ('Liste Anniversaires'!D2:D100=4))), "") | F6: =IFERROR(TEXTJOIN(CHAR(10), TRUE, FILTER('Liste Anniversaires'!A2:A100, ('Liste Anniversaires'!C2:C100=4) * ('Liste Anniversaires'!D2:D100=5))), "") | G6: =IFERROR(TEXTJOIN(CHAR(10), TRUE, FILTER('Liste Anniversaires'!A2:A100, ('Liste Anniversaires'!C2:C100=4) * ('Liste Anniversaires'!D2:D100=6))), "") | H6: =IFERROR(TEXTJOIN(CHAR(10), TRUE, FILTER('Liste Anniversaires'!A2:A100, ('Liste Anniversaires'!C2:C100=4) * ('Liste Anniversaires'!D2:D100=7))), "") | I6: =IFERROR(TEXTJOIN(CHAR(10), TRUE, FILTER('Liste Anniversaires'!A2:A100, ('Liste Anniversaires'!C2:C100=4) * ('Liste Anniversaires'!D2:D100=8))), "") | J6: =IFERROR(TEXTJOIN(CHAR(10), TRUE, FILTER('Liste Anniversaires'!A2:A100, ('Liste Anniversaires'!C2:C100=4) * ('Liste Anniversaires'!D2:D100=9))), "") | K6: =IFERROR(TEXTJOIN(CHAR(10), TRUE, FILTER('Liste Anniversaires'!A2:A100, ('Liste Anniversaires'!C2:C100=4) * ('Liste Anniversaires'!D2:D100=10))), "") | L6: =IFERROR(TEXTJOIN(CHAR(10), TRUE, FILTER('Liste Anniversaires'!A2:A100, ('Liste Anniversaires'!C2:C100=4) * ('Liste Anniversaires'!D2:D100=11))), "") | M6: =IFERROR(TEXTJOIN(CHAR(10), TRUE, FILTER('Liste Anniversaires'!A2:A100, ('Liste Anniversaires'!C2:C100=4) * ('Liste Anniversaires'!D2:D100=12))), "")
A7: 5 | B7: =IFERROR(TEXTJOIN(CHAR(10), TRUE, FILTER('Liste Anniversaires'!A2:A100, ('Liste Anniversaires'!C2:C100=5) * ('Liste Anniversaires'!D2:D100=1))), "") | C7: =IFERROR(TEXTJOIN(CHAR(10), TRUE, FILTER('Liste Anniversaires'!A2:A100, ('Liste Anniversaires'!C2:C100=5) * ('Liste Anniversaires'!D2:D100=2))), "") | D7: =IFERROR(TEXTJOIN(CHAR(10), TRUE, FILTER('Liste Anniversaires'!A2:A100, ('Liste Anniversaires'!C2:C100=5) * ('Liste Anniversaires'!D2:D100=3))), "") | E7: =IFERROR(TEXTJOIN(CHAR(10), TRUE, FILTER('Liste Anniversaires'!A2:A100, ('Liste Anniversaires'!C2:C100=5) * ('Liste Anniversaires'!D2:D100=4))), "") | F7: =IFERROR(TEXTJOIN(CHAR(10), TRUE, FILTER('Liste Anniversaires'!A2:A100, ('Liste Anniversaires'!C2:C100=5) * ('Liste Anniversaires'!D2:D100=5))), "") | G7: =IFERROR(TEXTJOIN(CHAR(10), TRUE, FILTER('Liste Anniversaires'!A2:A100, ('Liste Anniversaires'!C2:C100=5) * ('Liste Anniversaires'!D2:D100=6))), "") | H7: =IFERROR(TEXTJOIN(CHAR(10), TRUE, FILTER('Liste Anniversaires'!A2:A100, ('Liste Anniversaires'!C2:C100=5) * ('Liste Anniversaires'!D2:D100=7))), "") | I7: =IFERROR(TEXTJOIN(CHAR(10), TRUE, FILTER('Liste Anniversaires'!A2:A100, ('Liste Anniversaires'!C2:C100=5) * ('Liste Anniversaires'!D2:D100=8))), "") | J7: =IFERROR(TEXTJOIN(CHAR(10), TRUE, FILTER('Liste Anniversaires'!A2:A100, ('Liste Anniversaires'!C2:C100=5) * ('Liste Anniversaires'!D2:D100=9))), "") | K7: =IFERROR(TEXTJOIN(CHAR(10), TRUE, FILTER('Liste Anniversaires'!A2:A100, ('Liste Anniversaires'!C2:C100=5) * ('Liste Anniversaires'!D2:D100=10))), "") | L7: =IFERROR(TEXTJOIN(CHAR(10), TRUE, FILTER('Liste Anniversaires'!A2:A100, ('Liste Anniversaires'!C2:C100=5) * ('Liste Anniversaires'!D2:D100=11))), "") | M7: =IFERROR(TEXTJOIN(CHAR(10), TRUE, FILTER('Liste Anniversaires'!A2:A100, ('Liste Anniversaires'!C2:C100=5) * ('Liste Anniversaires'!D2:D100=12))), "")
A8: 6 | B8: =IFERROR(TEXTJOIN(CHAR(10), TRUE, FILTER('Liste Anniversaires'!A2:A100, ('Liste Anniversaires'!C2:C100=6) * ('Liste Anniversaires'!D2:D100=1))), "") | C8: =IFERROR(TEXTJOIN(CHAR(10), TRUE, FILTER('Liste Anniversaires'!A2:A100, ('Liste Anniversaires'!C2:C100=6) * ('Liste Anniversaires'!D2:D100=2))), "") | D8: =IFERROR(TEXTJOIN(CHAR(10), TRUE, FILTER('Liste Anniversaires'!A2:A100, ('Liste Anniversaires'!C2:C100=6) * ('Liste Anniversaires'!D2:D100=3))), "") | E8: =IFERROR(TEXTJOIN(CHAR(10), TRUE, FILTER('Liste Anniversaires'!A2:A100, ('Liste Anniversaires'!C2:C100=6) * ('Liste Anniversaires'!D2:D100=4))), "") | F8: =IFERROR(TEXTJOIN(CHAR(10), TRUE, FILTER('Liste Anniversaires'!A2:A100, ('Liste Anniversaires'!C2:C100=6) * ('Liste Anniversaires'!D2:D100=5))), "") | G8: =IFERROR(TEXTJOIN(CHAR(10), TRUE, FILTER('Liste Anniversaires'!A2:A100, ('Liste Anniversaires'!C2:C100=6) * ('Liste Anniversaires'!D2:D100=6))), "") | H8: =IFERROR(TEXTJOIN(CHAR(10), TRUE, FILTER('Liste Anniversaires'!A2:A100, ('Liste Anniversaires'!C2:C100=6) * ('Liste Anniversaires'!D2:D100=7))), "") | I8: =IFERROR(TEXTJOIN(CHAR(10), TRUE, FILTER('Liste Anniversaires'!A2:A100, ('Liste Anniversaires'!C2:C100=6) * ('Liste Anniversaires'!D2:D100=8))), "") | J8: =IFERROR(TEXTJOIN(CHAR(10), TRUE, FILTER('Liste Anniversaires'!A2:A100, ('Liste Anniversaires'!C2:C100=6) * ('Liste Anniversaires'!D2:D100=9))), "") | K8: =IFERROR(TEXTJOIN(CHAR(10), TRUE, FILTER('Liste Anniversaires'!A2:A100, ('Liste Anniversaires'!C2:C100=6) * ('Liste Anniversaires'!D2:D100=10))), "") | L8: =IFERROR(TEXTJOIN(CHAR(10), TRUE, FILTER('Liste Anniversaires'!A2:A100, ('Liste Anniversaires'!C2:C100=6) * ('Liste Anniversaires'!D2:D100=11))), "") | M8: =IFERROR(TEXTJOIN(CHAR(10), TRUE, FILTER('Liste Anniversaires'!A2:A100, ('Liste Anniversaires'!C2:C100=6) * ('Liste Anniversaires'!D2:D100=12))), "")
A9: 7 | B9: =IFERROR(TEXTJOIN(CHAR(10), TRUE, FILTER('Liste Anniversaires'!A2:A100, ('Liste Anniversaires'!C2:C100=7) * ('Liste Anniversaires'!D2:D100=1))), "") | C9: =IFERROR(TEXTJOIN(CHAR(10), TRUE, FILTER('Liste Anniversaires'!A2:A100, ('Liste Anniversaires'!C2:C100=7) * ('Liste Anniversaires'!D2:D100=2))), "") | D9: =IFERROR(TEXTJOIN(CHAR(10), TRUE, FILTER('Liste Anniversaires'!A2:A100, ('Liste Anniversaires'!C2:C100=7) * ('Liste Anniversaires'!D2:D100=3))), "") | E9: =IFERROR(TEXTJOIN(CHAR(10), TRUE, FILTER('Liste Anniversaires'!A2:A100, ('Liste Anniversaires'!C2:C100=7) * ('Liste Anniversaires'!D2:D100=4))), "") | F9: =IFERROR(TEXTJOIN(CHAR(10), TRUE, FILTER('Liste Anniversaires'!A2:A100, ('Liste Anniversaires'!C2:C100=7) * ('Liste Anniversaires'!D2:D100=5))), "") | G9: =IFERROR(TEXTJOIN(CHAR(10), TRUE, FILTER('Liste Anniversaires'!A2:A100, ('Liste Anniversaires'!C2:C100=7) * ('Liste Anniversaires'!D2:D100=6))), "") | H9: =IFERROR(TEXTJOIN(CHAR(10), TRUE, FILTER('Liste Anniversaires'!A2:A100, ('Liste Anniversaires'!C2:C100=7) * ('Liste Anniversaires'!D2:D100=7))), "") | I9: =IFERROR(TEXTJOIN(CHAR(10), TRUE, FILTER('Liste Anniversaires'!A2:A100, ('Liste Anniversaires'!C2:C100=7) * ('Liste Anniversaires'!D2:D100=8))), "") | J9: =IFERROR(TEXTJOIN(CHAR(10), TRUE, FILTER('Liste Anniversaires'!A2:A100, ('Liste Anniversaires'!C2:C100=7) * ('Liste Anniversaires'!D2:D100=9))), "") | K9: =IFERROR(TEXTJOIN(CHAR(10), TRUE, FILTER('Liste Anniversaires'!A2:A100, ('Liste Anniversaires'!C2:C100=7) * ('Liste Anniversaires'!D2:D100=10))), "") | L9: =IFERROR(TEXTJOIN(CHAR(10), TRUE, FILTER('Liste Anniversaires'!A2:A100, ('Liste Anniversaires'!C2:C100=7) * ('Liste Anniversaires'!D2:D100=11))), "") | M9: =IFERROR(TEXTJOIN(CHAR(10), TRUE, FILTER('Liste Anniversaires'!A2:A100, ('Liste Anniversaires'!C2:C100=7) * ('Liste Anniversaires'!D2:D100=12))), "")
A10: 8 | B10: =IFERROR(TEXTJOIN(CHAR(10), TRUE, FILTER('Liste Anniversaires'!A2:A100, ('Liste Anniversaires'!C2:C100=8) * ('Liste Anniversaires'!D2:D100=1))), "") | C10: =IFERROR(TEXTJOIN(CHAR(10), TRUE, FILTER('Liste Anniversaires'!A2:A100, ('Liste Anniversaires'!C2:C100=8) * ('Liste Anniversaires'!D2:D100=2))), "") | D10: =IFERROR(TEXTJOIN(CHAR(10), TRUE, FILTER('Liste Anniversaires'!A2:A100, ('Liste Anniversaires'!C2:C100=8) * ('Liste Anniversaires'!D2:D100=3))), "") | E10: =IFERROR(TEXTJOIN(CHAR(10), TRUE, FILTER('Liste Anniversaires'!A2:A100, ('Liste Anniversaires'!C2:C100=8) * ('Liste Anniversaires'!D2:D100=4))), "") | F10: =IFERROR(TEXTJOIN(CHAR(10), TRUE, FILTER('Liste Anniversaires'!A2:A100, ('Liste Anniversaires'!C2:C100=8) * ('Liste Anniversaires'!D2:D100=5))), "") | G10: =IFERROR(TEXTJOIN(CHAR(10), TRUE, FILTER('Liste Anniversaires'!A2:A100, ('Liste Anniversaires'!C2:C100=8) * ('Liste Anniversaires'!D2:D100=6))), "") | H10: =IFERROR(TEXTJOIN(CHAR(10), TRUE, FILTER('Liste Anniversaires'!A2:A100, ('Liste Anniversaires'!C2:C100=8) * ('Liste Anniversaires'!D2:D100=7))), "") | I10: =IFERROR(TEXTJOIN(CHAR(10), TRUE, FILTER('Liste Anniversaires'!A2:A100, ('Liste Anniversaires'!C2:C100=8) * ('Liste Anniversaires'!D2:D100=8))), "") | J10: =IFERROR(TEXTJOIN(CHAR(10), TRUE, FILTER('Liste Anniversaires'!A2:A100, ('Liste Anniversaires'!C2:C100=8) * ('Liste Anniversaires'!D2:D100=9))), "") | K10: =IFERROR(TEXTJOIN(CHAR(10), TRUE, FILTER('Liste Anniversaires'!A2:A100, ('Liste Anniversaires'!C2:C100=8) * ('Liste Anniversaires'!D2:D100=10))), "") | L10: =IFERROR(TEXTJOIN(CHAR(10), TRUE, FILTER('Liste Anniversaires'!A2:A100, ('Liste Anniversaires'!C2:C100=8) * ('Liste Anniversaires'!D2:D100=11))), "") | M10: =IFERROR(TEXTJOIN(CHAR(10), TRUE, FILTER('Liste Anniversaires'!A2:A100, ('Liste Anniversaires'!C2:C100=8) * ('Liste Anniversaires'!D2:D100=12))), "")
A11: 9 | B11: =IFERROR(TEXTJOIN(CHAR(10), TRUE, FILTER('Liste Anniversaires'!A2:A100, ('Liste Anniversaires'!C2:C100=9) * ('Liste Anniversaires'!D2:D100=1))), "") | C11: =IFERROR(TEXTJOIN(CHAR(10), TRUE, FILTER('Liste Anniversaires'!A2:A100, ('Liste Anniversaires'!C2:C100=9) * ('Liste Anniversaires'!D2:D100=2))), "") | D11: =IFERROR(TEXTJOIN(CHAR(10), TRUE, FILTER('Liste Anniversaires'!A2:A100, ('Liste Anniversaires'!C2:C100=9) * ('Liste Anniversaires'!D2:D100=3))), "") | E11: =IFERROR(TEXTJOIN(CHAR(10), TRUE, FILTER('Liste Anniversaires'!A2:A100, ('Liste Anniversaires'!C2:C100=9) * ('Liste Anniversaires'!D2:D100=4))), "") | F11: =IFERROR(TEXTJOIN(CHAR(10), TRUE, FILTER('Liste Anniversaires'!A2:A100, ('Liste Anniversaires'!C2:C100=9) * ('Liste Anniversaires'!D2:D100=5))), "") | G11: =IFERROR(TEXTJOIN(CHAR(10), TRUE, FILTER('Liste Anniversaires'!A2:A100, ('Liste Anniversaires'!C2:C100=9) * ('Liste Anniversaires'!D2:D100=6))), "") | H11: =IFERROR(TEXTJOIN(CHAR(10), TRUE, FILTER('Liste Anniversaires'!A2:A100, ('Liste Anniversaires'!C2:C100=9) * ('Liste Anniversaires'!D2:D100=7))), "") | I11: =IFERROR(TEXTJOIN(CHAR(10), TRUE, FILTER('Liste Anniversaires'!A2:A100, ('Liste Anniversaires'!C2:C100=9) * ('Liste Anniversaires'!D2:D100=8))), "") | J11: =IFERROR(TEXTJOIN(CHAR(10), TRUE, FILTER('Liste Anniversaires'!A2:A100, ('Liste Anniversaires'!C2:C100=9) * ('Liste Anniversaires'!D2:D100=9))), "") | K11: =IFERROR(TEXTJOIN(CHAR(10), TRUE, FILTER('Liste Anniversaires'!A2:A100, ('Liste Anniversaires'!C2:C100=9) * ('Liste Anniversaires'!D2:D100=10))), "") | L11: =IFERROR(TEXTJOIN(CHAR(10), TRUE, FILTER('Liste Anniversaires'!A2:A100, ('Liste Anniversaires'!C2:C100=9) * ('Liste Anniversaires'!D2:D100=11))), "") | M11: =IFERROR(TEXTJOIN(CHAR(10), TRUE, FILTER('Liste Anniversaires'!A2:A100, ('Liste Anniversaires'!C2:C100=9) * ('Liste Anniversaires'!D2:D100=12))), "")
A12: 10 | B12: =IFERROR(TEXTJOIN(CHAR(10), TRUE, FILTER('Liste Anniversaires'!A2:A100, ('Liste Anniversaires'!C2:C100=10) * ('Liste Anniversaires'!D2:D100=1))), "") | C12: =IFERROR(TEXTJOIN(CHAR(10), TRUE, FILTER('Liste Anniversaires'!A2:A100, ('Liste Anniversaires'!C2:C100=10) * ('Liste Anniversaires'!D2:D100=2))), "") | D12: =IFERROR(TEXTJOIN(CHAR(10), TRUE, FILTER('Liste Anniversaires'!A2:A100, ('Liste Anniversaires'!C2:C100=10) * ('Liste Anniversaires'!D2:D100=3))), "") | E12: =IFERROR(TEXTJOIN(CHAR(10), TRUE, FILTER('Liste Anniversaires'!A2:A100, ('Liste Anniversaires'!C2:C100=10) * ('Liste Anniversaires'!D2:D100=4))), "") | F12: =IFERROR(TEXTJOIN(CHAR(10), TRUE, FILTER('Liste Anniversaires'!A2:A100, ('Liste Anniversaires'!C2:C100=10) * ('Liste Anniversaires'!D2:D100=5))), "") | G12: =IFERROR(TEXTJOIN(CHAR(10), TRUE, FILTER('Liste Anniversaires'!A2:A100, ('Liste Anniversaires'!C2:C100=10) * ('Liste Anniversaires'!D2:D100=6))), "") | H12: =IFERROR(TEXTJOIN(CHAR(10), TRUE, FILTER('Liste Anniversaires'!A2:A100, ('Liste Anniversaires'!C2:C100=10) * ('Liste Anniversaires'!D2:D100=7))), "") | I12: =IFERROR(TEXTJOIN(CHAR(10), TRUE, FILTER('Liste Anniversaires'!A2:A100, ('Liste Anniversaires'!C2:C100=10) * ('Liste Anniversaires'!D2:D100=8))), "") | J12: =IFERROR(TEXTJOIN(CHAR(10), TRUE, FILTER('Liste Anniversaires'!A2:A100, ('Liste Anniversaires'!C2:C100=10) * ('Liste Anniversaires'!D2:D100=9))), "") | K12: =IFERROR(TEXTJOIN(CHAR(10), TRUE, FILTER('Liste Anniversaires'!A2:A100, ('Liste Anniversaires'!C2:C100=10) * ('Liste Anniversaires'!D2:D100=10))), "") | L12: =IFERROR(TEXTJOIN(CHAR(10), TRUE, FILTER('Liste Anniversaires'!A2:A100, ('Liste Anniversaires'!C2:C100=10) * ('Liste Anniversaires'!D2:D100=11))), "") | M12: =IFERROR(TEXTJOIN(CHAR(10), TRUE, FILTER('Liste Anniversaires'!A2:A100, ('Liste Anniversaires'!C2:C100=10) * ('Liste Anniversaires'!D2:D100=12))), "")
A13: 11 | B13: =IFERROR(TEXTJOIN(CHAR(10), TRUE, FILTER('Liste Anniversaires'!A2:A100, ('Liste Anniversaires'!C2:C100=11) * ('Liste Anniversaires'!D2:D100=1))), "") | C13: =IFERROR(TEXTJOIN(CHAR(10), TRUE, FILTER('Liste Anniversaires'!A2:A100, ('Liste Anniversaires'!C2:C100=11) * ('Liste Anniversaires'!D2:D100=2))), "") | D13: =IFERROR(TEXTJOIN(CHAR(10), TRUE, FILTER('Liste Anniversaires'!A2:A100, ('Liste Anniversaires'!C2:C100=11) * ('Liste Anniversaires'!D2:D100=3))), "") | E13: =IFERROR(TEXTJOIN(CHAR(10), TRUE, FILTER('Liste Anniversaires'!A2:A100, ('Liste Anniversaires'!C2:C100=11) * ('Liste Anniversaires'!D2:D100=4))), "") | F13: =IFERROR(TEXTJOIN(CHAR(10), TRUE, FILTER('Liste Anniversaires'!A2:A100, ('Liste Anniversaires'!C2:C100=11) * ('Liste Anniversaires'!D2:D100=5))), "") | G13: =IFERROR(TEXTJOIN(CHAR(10), TRUE, FILTER('Liste Anniversaires'!A2:A100, ('Liste Anniversaires'!C2:C100=11) * ('Liste Anniversaires'!D2:D100=6))), "") | H13: =IFERROR(TEXTJOIN(CHAR(10), TRUE, FILTER('Liste Anniversaires'!A2:A100, ('Liste Anniversaires'!C2:C100=11) * ('Liste Anniversaires'!D2:D100=7))), "") | I13: =IFERROR(TEXTJOIN(CHAR(10), TRUE, FILTER('Liste Anniversaires'!A2:A100, ('Liste Anniversaires'!C2:C100=11) * ('Liste Anniversaires'!D2:D100=8))), "") | J13: =IFERROR(TEXTJOIN(CHAR(10), TRUE, FILTER('Liste Anniversaires'!A2:A100, ('Liste Anniversaires'!C2:C100=11) * ('Liste Anniversaires'!D2:D100=9))), "") | K13: =IFERROR(TEXTJOIN(CHAR(10), TRUE, FILTER('Liste Anniversaires'!A2:A100, ('Liste Anniversaires'!C2:C100=11) * ('Liste Anniversaires'!D2:D100=10))), "") | L13: =IFERROR(TEXTJOIN(CHAR(10), TRUE, FILTER('Liste Anniversaires'!A2:A100, ('Liste Anniversaires'!C2:C100=11) * ('Liste Anniversaires'!D2:D100=11))), "") | M13: =IFERROR(TEXTJOIN(CHAR(10), TRUE, FILTER('Liste Anniversaires'!A2:A100, ('Liste Anniversaires'!C2:C100=11) * ('Liste Anniversaires'!D2:D100=12))), "")
A14: 12 | B14: =IFERROR(TEXTJOIN(CHAR(10), TRUE, FILTER('Liste Anniversaires'!A2:A100, ('Liste Anniversaires'!C2:C100=12) * ('Liste Anniversaires'!D2:D100=1))), "") | C14: =IFERROR(TEXTJOIN(CHAR(10), TRUE, FILTER('Liste Anniversaires'!A2:A100, ('Liste Anniversaires'!C2:C100=12) * ('Liste Anniversaires'!D2:D100=2))), "") | D14: =IFERROR(TEXTJOIN(CHAR(10), TRUE, FILTER('Liste Anniversaires'!A2:A100, ('Liste Anniversaires'!C2:C100=12) * ('Liste Anniversaires'!D2:D100=3))), "") | E14: =IFERROR(TEXTJOIN(CHAR(10), TRUE, FILTER('Liste Anniversaires'!A2:A100, ('Liste Anniversaires'!C2:C100=12) * ('Liste Anniversaires'!D2:D100=4))), "") | F14: =IFERROR(TEXTJOIN(CHAR(10), TRUE, FILTER('Liste Anniversaires'!A2:A100, ('Liste Anniversaires'!C2:C100=12) * ('Liste Anniversaires'!D2:D100=5))), "") | G14: =IFERROR(TEXTJOIN(CHAR(10), TRUE, FILTER('Liste Anniversaires'!A2:A100, ('Liste Anniversaires'!C2:C100=12) * ('Liste Anniversaires'!D2:D100=6))), "") | H14: =IFERROR(TEXTJOIN(CHAR(10), TRUE, FILTER('Liste Anniversaires'!A2:A100, ('Liste Anniversaires'!C2:C100=12) * ('Liste Anniversaires'!D2:D100=7))), "") | I14: =IFERROR(TEXTJOIN(CHAR(10), TRUE, FILTER('Liste Anniversaires'!A2:A100, ('Liste Anniversaires'!C2:C100=12) * ('Liste Anniversaires'!D2:D100=8))), "") | J14: =IFERROR(TEXTJOIN(CHAR(10), TRUE, FILTER('Liste Anniversaires'!A2:A100, ('Liste Anniversaires'!C2:C100=12) * ('Liste Anniversaires'!D2:D100=9))), "") | K14: =IFERROR(TEXTJOIN(CHAR(10), TRUE, FILTER('Liste Anniversaires'!A2:A100, ('Liste Anniversaires'!C2:C100=12) * ('Liste Anniversaires'!D2:D100=10))), "") | L14: =IFERROR(TEXTJOIN(CHAR(10), TRUE, FILTER('Liste Anniversaires'!A2:A100, ('Liste Anniversaires'!C2:C100=12) * ('Liste Anniversaires'!D2:D100=11))), "") | M14: =IFERROR(TEXTJOIN(CHAR(10), TRUE, FILTER('Liste Anniversaires'!A2:A100, ('Liste Anniversaires'!C2:C100=12) * ('Liste Anniversaires'!D2:D100=12))), "")
A15: 13 | B15: =IFERROR(TEXTJOIN(CHAR(10), TRUE, FILTER('Liste Anniversaires'!A2:A100, ('Liste Anniversaires'!C2:C100=13) * ('Liste Anniversaires'!D2:D100=1))), "") | C15: =IFERROR(TEXTJOIN(CHAR(10), TRUE, FILTER('Liste Anniversaires'!A2:A100, ('Liste Anniversaires'!C2:C100=13) * ('Liste Anniversaires'!D2:D100=2))), "") | D15: =IFERROR(TEXTJOIN(CHAR(10), TRUE, FILTER('Liste Anniversaires'!A2:A100, ('Liste Anniversaires'!C2:C100=13) * ('Liste Anniversaires'!D2:D100=3))), "") | E15: =IFERROR(TEXTJOIN(CHAR(10), TRUE, FILTER('Liste Anniversaires'!A2:A100, ('Liste Anniversaires'!C2:C100=13) * ('Liste Anniversaires'!D2:D100=4))), "") | F15: =IFERROR(TEXTJOIN(CHAR(10), TRUE, FILTER('Liste Anniversaires'!A2:A100, ('Liste Anniversaires'!C2:C100=13) * ('Liste Anniversaires'!D2:D100=5))), "") | G15: =IFERROR(TEXTJOIN(CHAR(10), TRUE, FILTER('Liste Anniversaires'!A2:A100, ('Liste Anniversaires'!C2:C100=13) * ('Liste Anniversaires'!D2:D100=6))), "") | H15: =IFERROR(TEXTJOIN(CHAR(10), TRUE, FILTER('Liste Anniversaires'!A2:A100, ('Liste Anniversaires'!C2:C100=13) * ('Liste Anniversaires'!D2:D100=7))), "") | I15: =IFERROR(TEXTJOIN(CHAR(10), TRUE, FILTER('Liste Anniversaires'!A2:A100, ('Liste Anniversaires'!C2:C100=13) * ('Liste Anniversaires'!D2:D100=8))), "") | J15: =IFERROR(TEXTJOIN(CHAR(10), TRUE, FILTER('Liste Anniversaires'!A2:A100, ('Liste Anniversaires'!C2:C100=13) * ('Liste Anniversaires'!D2:D100=9))), "") | K15: =IFERROR(TEXTJOIN(CHAR(10), TRUE, FILTER('Liste Anniversaires'!A2:A100, ('Liste Anniversaires'!C2:C100=13) * ('Liste Anniversaires'!D2:D100=10))), "") | L15: =IFERROR(TEXTJOIN(CHAR(10), TRUE, FILTER('Liste Anniversaires'!A2:A100, ('Liste Anniversaires'!C2:C100=13) * ('Liste Anniversaires'!D2:D100=11))), "") | M15: =IFERROR(TEXTJOIN(CHAR(10), TRUE, FILTER('Liste Anniversaires'!A2:A100, ('Liste Anniversaires'!C2:C100=13) * ('Liste Anniversaires'!D2:D100=12))), "")
A16: 14 | B16: =IFERROR(TEXTJOIN(CHAR(10), TRUE, FILTER('Liste Anniversaires'!A2:A100, ('Liste Anniversaires'!C2:C100=14) * ('Liste Anniversaires'!D2:D100=1))), "") | C16: =IFERROR(TEXTJOIN(CHAR(10), TRUE, FILTER('Liste Anniversaires'!A2:A100, ('Liste Anniversaires'!C2:C100=14) * ('Liste Anniversaires'!D2:D100=2))), "") | D16: =IFERROR(TEXTJOIN(CHAR(10), TRUE, FILTER('Liste Anniversaires'!A2:A100, ('Liste Anniversaires'!C2:C100=14) * ('Liste Anniversaires'!D2:D100=3))), "") | E16: =IFERROR(TEXTJOIN(CHAR(10), TRUE, FILTER('Liste Anniversaires'!A2:A100, ('Liste Anniversaires'!C2:C100=14) * ('Liste Anniversaires'!D2:D100=4))), "") | F16: =IFERROR(TEXTJOIN(CHAR(10), TRUE, FILTER('Liste Anniversaires'!A2:A100, ('Liste Anniversaires'!C2:C100=14) * ('Liste Anniversaires'!D2:D100=5))), "") | G16: =IFERROR(TEXTJOIN(CHAR(10), TRUE, FILTER('Liste Anniversaires'!A2:A100, ('Liste Anniversaires'!C2:C100=14) * ('Liste Anniversaires'!D2:D100=6))), "") | H16: =IFERROR(TEXTJOIN(CHAR(10), TRUE, FILTER('Liste Anniversaires'!A2:A100, ('Liste Anniversaires'!C2:C100=14) * ('Liste Anniversaires'!D2:D100=7))), "") | I16: =IFERROR(TEXTJOIN(CHAR(10), TRUE, FILTER('Liste Anniversaires'!A2:A100, ('Liste Anniversaires'!C2:C100=14) * ('Liste Anniversaires'!D2:D100=8))), "") | J16: =IFERROR(TEXTJOIN(CHAR(10), TRUE, FILTER('Liste Anniversaires'!A2:A100, ('Liste Anniversaires'!C2:C100=14) * ('Liste Anniversaires'!D2:D100=9))), "") | K16: =IFERROR(TEXTJOIN(CHAR(10), TRUE, FILTER('Liste Anniversaires'!A2:A100, ('Liste Anniversaires'!C2:C100=14) * ('Liste Anniversaires'!D2:D100=10))), "") | L16: =IFERROR(TEXTJOIN(CHAR(10), TRUE, FILTER('Liste Anniversaires'!A2:A100, ('Liste Anniversaires'!C2:C100=14) * ('Liste Anniversaires'!D2:D100=11))), "") | M16: =IFERROR(TEXTJOIN(CHAR(10), TRUE, FILTER('Liste Anniversaires'!A2:A100, ('Liste Anniversaires'!C2:C100=14) * ('Liste Anniversaires'!D2:D100=12))), "")
A17: 15 | B17: =IFERROR(TEXTJOIN(CHAR(10), TRUE, FILTER('Liste Anniversaires'!A2:A100, ('Liste Anniversaires'!C2:C100=15) * ('Liste Anniversaires'!D2:D100=1))), "") | C17: =IFERROR(TEXTJOIN(CHAR(10), TRUE, FILTER('Liste Anniversaires'!A2:A100, ('Liste Anniversaires'!C2:C100=15) * ('Liste Anniversaires'!D2:D100=2))), "") | D17: =IFERROR(TEXTJOIN(CHAR(10), TRUE, FILTER('Liste Anniversaires'!A2:A100, ('Liste Anniversaires'!C2:C100=15) * ('Liste Anniversaires'!D2:D100=3))), "") | E17: =IFERROR(TEXTJOIN(CHAR(10), TRUE, FILTER('Liste Anniversaires'!A2:A100, ('Liste Anniversaires'!C2:C100=15) * ('Liste Anniversaires'!D2:D100=4))), "") | F17: =IFERROR(TEXTJOIN(CHAR(10), TRUE, FILTER('Liste Anniversaires'!A2:A100, ('Liste Anniversaires'!C2:C100=15) * ('Liste Anniversaires'!D2:D100=5))), "") | G17: =IFERROR(TEXTJOIN(CHAR(10), TRUE, FILTER('Liste Anniversaires'!A2:A100, ('Liste Anniversaires'!C2:C100=15) * ('Liste Anniversaires'!D2:D100=6))), "") | H17: =IFERROR(TEXTJOIN(CHAR(10), TRUE, FILTER('Liste Anniversaires'!A2:A100, ('Liste Anniversaires'!C2:C100=15) * ('Liste Anniversaires'!D2:D100=7))), "") | I17: =IFERROR(TEXTJOIN(CHAR(10), TRUE, FILTER('Liste Anniversaires'!A2:A100, ('Liste Anniversaires'!C2:C100=15) * ('Liste Anniversaires'!D2:D100=8))), "") | J17: =IFERROR(TEXTJOIN(CHAR(10), TRUE, FILTER('Liste Anniversaires'!A2:A100, ('Liste Anniversaires'!C2:C100=15) * ('Liste Anniversaires'!D2:D100=9))), "") | K17: =IFERROR(TEXTJOIN(CHAR(10), TRUE, FILTER('Liste Anniversaires'!A2:A100, ('Liste Anniversaires'!C2:C100=15) * ('Liste Anniversaires'!D2:D100=10))), "") | L17: =IFERROR(TEXTJOIN(CHAR(10), TRUE, FILTER('Liste Anniversaires'!A2:A100, ('Liste Anniversaires'!C2:C100=15) * ('Liste Anniversaires'!D2:D100=11))), "") | M17: =IFERROR(TEXTJOIN(CHAR(10), TRUE, FILTER('Liste Anniversaires'!A2:A100, ('Liste Anniversaires'!C2:C100=15) * ('Liste Anniversaires'!D2:D100=12))), "")
A18: 16 | B18: =IFERROR(TEXTJOIN(CHAR(10), TRUE, FILTER('Liste Anniversaires'!A2:A100, ('Liste Anniversaires'!C2:C100=16) * ('Liste Anniversaires'!D2:D100=1))), "") | C18: =IFERROR(TEXTJOIN(CHAR(10), TRUE, FILTER('Liste Anniversaires'!A2:A100, ('Liste Anniversaires'!C2:C100=16) * ('Liste Anniversaires'!D2:D100=2))), "") | D18: =IFERROR(TEXTJOIN(CHAR(10), TRUE, FILTER('Liste Anniversaires'!A2:A100, ('Liste Anniversaires'!C2:C100=16) * ('Liste Anniversaires'!D2:D100=3))), "") | E18: =IFERROR(TEXTJOIN(CHAR(10), TRUE, FILTER('Liste Anniversaires'!A2:A100, ('Liste Anniversaires'!C2:C100=16) * ('Liste Anniversaires'!D2:D100=4))), "") | F18: =IFERROR(TEXTJOIN(CHAR(10), TRUE, FILTER('Liste Anniversaires'!A2:A100, ('Liste Anniversaires'!C2:C100=16) * ('Liste Anniversaires'!D2:D100=5))), "") | G18: =IFERROR(TEXTJOIN(CHAR(10), TRUE, FILTER('Liste Anniversaires'!A2:A100, ('Liste Anniversaires'!C2:C100=16) * ('Liste Anniversaires'!D2:D100=6))), "") | H18: =IFERROR(TEXTJOIN(CHAR(10), TRUE, FILTER('Liste Anniversaires'!A2:A100, ('Liste Anniversaires'!C2:C100=16) * ('Liste Anniversaires'!D2:D100=7))), "") | I18: =IFERROR(TEXTJOIN(CHAR(10), TRUE, FILTER('Liste Anniversaires'!A2:A100, ('Liste Anniversaires'!C2:C100=16) * ('Liste Anniversaires'!D2:D100=8))), "") | J18: =IFERROR(TEXTJOIN(CHAR(10), TRUE, FILTER('Liste Anniversaires'!A2:A100, ('Liste Anniversaires'!C2:C100=16) * ('Liste Anniversaires'!D2:D100=9))), "") | K18: =IFERROR(TEXTJOIN(CHAR(10), TRUE, FILTER('Liste Anniversaires'!A2:A100, ('Liste Anniversaires'!C2:C100=16) * ('Liste Anniversaires'!D2:D100=10))), "") | L18: =IFERROR(TEXTJOIN(CHAR(10), TRUE, FILTER('Liste Anniversaires'!A2:A100, ('Liste Anniversaires'!C2:C100=16) * ('Liste Anniversaires'!D2:D100=11))), "") | M18: =IFERROR(TEXTJOIN(CHAR(10), TRUE, FILTER('Liste Anniversaires'!A2:A100, ('Liste Anniversaires'!C2:C100=16) * ('Liste Anniversaires'!D2:D100=12))), "")
A19: 17 | B19: =IFERROR(TEXTJOIN(CHAR(10), TRUE, FILTER('Liste Anniversaires'!A2:A100, ('Liste Anniversaires'!C2:C100=17) * ('Liste Anniversaires'!D2:D100=1))), "") | C19: =IFERROR(TEXTJOIN(CHAR(10), TRUE, FILTER('Liste Anniversaires'!A2:A100, ('Liste Anniversaires'!C2:C100=17) * ('Liste Anniversaires'!D2:D100=2))), "") | D19: =IFERROR(TEXTJOIN(CHAR(10), TRUE, FILTER('Liste Anniversaires'!A2:A100, ('Liste Anniversaires'!C2:C100=17) * ('Liste Anniversaires'!D2:D100=3))), "") | E19: =IFERROR(TEXTJOIN(CHAR(10), TRUE, FILTER('Liste Anniversaires'!A2:A100, ('Liste Anniversaires'!C2:C100=17) * ('Liste Anniversaires'!D2:D100=4))), "") | F19: =IFERROR(TEXTJOIN(CHAR(10), TRUE, FILTER('Liste Anniversaires'!A2:A100, ('Liste Anniversaires'!C2:C100=17) * ('Liste Anniversaires'!D2:D100=5))), "") | G19: =IFERROR(TEXTJOIN(CHAR(10), TRUE, FILTER('Liste Anniversaires'!A2:A100, ('Liste Anniversaires'!C2:C100=17) * ('Liste Anniversaires'!D2:D100=6))), "") | H19: =IFERROR(TEXTJOIN(CHAR(10), TRUE, FILTER('Liste Anniversaires'!A2:A100, ('Liste Anniversaires'!C2:C100=17) * ('Liste Anniversaires'!D2:D100=7))), "") | I19: =IFERROR(TEXTJOIN(CHAR(10), TRUE, FILTER('Liste Anniversaires'!A2:A100, ('Liste Anniversaires'!C2:C100=17) * ('Liste Anniversaires'!D2:D100=8))), "") | J19: =IFERROR(TEXTJOIN(CHAR(10), TRUE, FILTER('Liste Anniversaires'!A2:A100, ('Liste Anniversaires'!C2:C100=17) * ('Liste Anniversaires'!D2:D100=9))), "") | K19: =IFERROR(TEXTJOIN(CHAR(10), TRUE, FILTER('Liste Anniversaires'!A2:A100, ('Liste Anniversaires'!C2:C100=17) * ('Liste Anniversaires'!D2:D100=10))), "") | L19: =IFERROR(TEXTJOIN(CHAR(10), TRUE, FILTER('Liste Anniversaires'!A2:A100, ('Liste Anniversaires'!C2:C100=17) * ('Liste Anniversaires'!D2:D100=11))), "") | M19: =IFERROR(TEXTJOIN(CHAR(10), TRUE, FILTER('Liste Anniversaires'!A2:A100, ('Liste Anniversaires'!C2:C100=17) * ('Liste Anniversaires'!D2:D100=12))), "")
A20: 18 | B20: =IFERROR(TEXTJOIN(CHAR(10), TRUE, FILTER('Liste Anniversaires'!A2:A100, ('Liste Anniversaires'!C2:C100=18) * ('Liste Anniversaires'!D2:D100=1))), "") | C20: =IFERROR(TEXTJOIN(CHAR(10), TRUE, FILTER('Liste Anniversaires'!A2:A100, ('Liste Anniversaires'!C2:C100=18) * ('Liste Anniversaires'!D2:D100=2))), "") | D20: =IFERROR(TEXTJOIN(CHAR(10), TRUE, FILTER('Liste Anniversaires'!A2:A100, ('Liste Anniversaires'!C2:C100=18) * ('Liste Anniversaires'!D2:D100=3))), "") | E20: =IFERROR(TEXTJOIN(CHAR(10), TRUE, FILTER('Liste Anniversaires'!A2:A100, ('Liste Anniversaires'!C2:C100=18) * ('Liste Anniversaires'!D2:D100=4))), "") | F20: =IFERROR(TEXTJOIN(CHAR(10), TRUE, FILTER('Liste Anniversaires'!A2:A100, ('Liste Anniversaires'!C2:C100=18) * ('Liste Anniversaires'!D2:D100=5))), "") | G20: =IFERROR(TEXTJOIN(CHAR(10), TRUE, FILTER('Liste Anniversaires'!A2:A100, ('Liste Anniversaires'!C2:C100=18) * ('Liste Anniversaires'!D2:D100=6))), "") | H20: =IFERROR(TEXTJOIN(CHAR(10), TRUE, FILTER('Liste Anniversaires'!A2:A100, ('Liste Anniversaires'!C2:C100=18) * ('Liste Anniversaires'!D2:D100=7))), "") | I20: =IFERROR(TEXTJOIN(CHAR(10), TRUE, FILTER('Liste Anniversaires'!A2:A100, ('Liste Anniversaires'!C2:C100=18) * ('Liste Anniversaires'!D2:D100=8))), "") | J20: =IFERROR(TEXTJOIN(CHAR(10), TRUE, FILTER('Liste Anniversaires'!A2:A100, ('Liste Anniversaires'!C2:C100=18) * ('Liste Anniversaires'!D2:D100=9))), "") | K20: =IFERROR(TEXTJOIN(CHAR(10), TRUE, FILTER('Liste Anniversaires'!A2:A100, ('Liste Anniversaires'!C2:C100=18) * ('Liste Anniversaires'!D2:D100=10))), "") | L20: =IFERROR(TEXTJOIN(CHAR(10), TRUE, FILTER('Liste Anniversaires'!A2:A100, ('Liste Anniversaires'!C2:C100=18) * ('Liste Anniversaires'!D2:D100=11))), "") | M20: =IFERROR(TEXTJOIN(CHAR(10), TRUE, FILTER('Liste Anniversaires'!A2:A100, ('Liste Anniversaires'!C2:C100=18) * ('Liste Anniversaires'!D2:D100=12))), "")
A21: 19 | B21: =IFERROR(TEXTJOIN(CHAR(10), TRUE, FILTER('Liste Anniversaires'!A2:A100, ('Liste Anniversaires'!C2:C100=19) * ('Liste Anniversaires'!D2:D100=1))), "") | C21: =IFERROR(TEXTJOIN(CHAR(10), TRUE, FILTER('Liste Anniversaires'!A2:A100, ('Liste Anniversaires'!C2:C100=19) * ('Liste Anniversaires'!D2:D100=2))), "") | D21: =IFERROR(TEXTJOIN(CHAR(10), TRUE, FILTER('Liste Anniversaires'!A2:A100, ('Liste Anniversaires'!C2:C100=19) * ('Liste Anniversaires'!D2:D100=3))), "") | E21: =IFERROR(TEXTJOIN(CHAR(10), TRUE, FILTER('Liste Anniversaires'!A2:A100, ('Liste Anniversaires'!C2:C100=19) * ('Liste Anniversaires'!D2:D100=4))), "") | F21: =IFERROR(TEXTJOIN(CHAR(10), TRUE, FILTER('Liste Anniversaires'!A2:A100, ('Liste Anniversaires'!C2:C100=19) * ('Liste Anniversaires'!D2:D100=5))), "") | G21: =IFERROR(TEXTJOIN(CHAR(10), TRUE, FILTER('Liste Anniversaires'!A2:A100, ('Liste Anniversaires'!C2:C100=19) * ('Liste Anniversaires'!D2:D100=6))), "") | H21: =IFERROR(TEXTJOIN(CHAR(10), TRUE, FILTER('Liste Anniversaires'!A2:A100, ('Liste Anniversaires'!C2:C100=19) * ('Liste Anniversaires'!D2:D100=7))), "") | I21: =IFERROR(TEXTJOIN(CHAR(10), TRUE, FILTER('Liste Anniversaires'!A2:A100, ('Liste Anniversaires'!C2:C100=19) * ('Liste Anniversaires'!D2:D100=8))), "") | J21: =IFERROR(TEXTJOIN(CHAR(10), TRUE, FILTER('Liste Anniversaires'!A2:A100, ('Liste Anniversaires'!C2:C100=19) * ('Liste Anniversaires'!D2:D100=9))), "") | K21: =IFERROR(TEXTJOIN(CHAR(10), TRUE, FILTER('Liste Anniversaires'!A2:A100, ('Liste Anniversaires'!C2:C100=19) * ('Liste Anniversaires'!D2:D100=10))), "") | L21: =IFERROR(TEXTJOIN(CHAR(10), TRUE, FILTER('Liste Anniversaires'!A2:A100, ('Liste Anniversaires'!C2:C100=19) * ('Liste Anniversaires'!D2:D100=11))), "") | M21: =IFERROR(TEXTJOIN(CHAR(10), TRUE, FILTER('Liste Anniversaires'!A2:A100, ('Liste Anniversaires'!C2:C100=19) * ('Liste Anniversaires'!D2:D100=12))), "")
A22: 20 | B22: =IFERROR(TEXTJOIN(CHAR(10), TRUE, FILTER('Liste Anniversaires'!A2:A100, ('Liste Anniversaires'!C2:C100=20) * ('Liste Anniversaires'!D2:D100=1))), "") | C22: =IFERROR(TEXTJOIN(CHAR(10), TRUE, FILTER('Liste Anniversaires'!A2:A100, ('Liste Anniversaires'!C2:C100=20) * ('Liste Anniversaires'!D2:D100=2))), "") | D22: =IFERROR(TEXTJOIN(CHAR(10), TRUE, FILTER('Liste Anniversaires'!A2:A100, ('Liste Anniversaires'!C2:C100=20) * ('Liste Anniversaires'!D2:D100=3))), "") | E22: =IFERROR(TEXTJOIN(CHAR(10), TRUE, FILTER('Liste Anniversaires'!A2:A100, ('Liste Anniversaires'!C2:C100=20) * ('Liste Anniversaires'!D2:D100=4))), "") | F22: =IFERROR(TEXTJOIN(CHAR(10), TRUE, FILTER('Liste Anniversaires'!A2:A100, ('Liste Anniversaires'!C2:C100=20) * ('Liste Anniversaires'!D2:D100=5))), "") | G22: =IFERROR(TEXTJOIN(CHAR(10), TRUE, FILTER('Liste Anniversaires'!A2:A100, ('Liste Anniversaires'!C2:C100=20) * ('Liste Anniversaires'!D2:D100=6))), "") | H22: =IFERROR(TEXTJOIN(CHAR(10), TRUE, FILTER('Liste Anniversaires'!A2:A100, ('Liste Anniversaires'!C2:C100=20) * ('Liste Anniversaires'!D2:D100=7))), "") | I22: =IFERROR(TEXTJOIN(CHAR(10), TRUE, FILTER('Liste Anniversaires'!A2:A100, ('Liste Anniversaires'!C2:C100=20) * ('Liste Anniversaires'!D2:D100=8))), "") | J22: =IFERROR(TEXTJOIN(CHAR(10), TRUE, FILTER('Liste Anniversaires'!A2:A100, ('Liste Anniversaires'!C2:C100=20) * ('Liste Anniversaires'!D2:D100=9))), "") | K22: =IFERROR(TEXTJOIN(CHAR(10), TRUE, FILTER('Liste Anniversaires'!A2:A100, ('Liste Anniversaires'!C2:C100=20) * ('Liste Anniversaires'!D2:D100=10))), "") | L22: =IFERROR(TEXTJOIN(CHAR(10), TRUE, FILTER('Liste Anniversaires'!A2:A100, ('Liste Anniversaires'!C2:C100=20) * ('Liste Anniversaires'!D2:D100=11))), "") | M22: =IFERROR(TEXTJOIN(CHAR(10), TRUE, FILTER('Liste Anniversaires'!A2:A100, ('Liste Anniversaires'!C2:C100=20) * ('Liste Anniversaires'!D2:D100=12))), "")
A23: 21 | B23: =IFERROR(TEXTJOIN(CHAR(10), TRUE, FILTER('Liste Anniversaires'!A2:A100, ('Liste Anniversaires'!C2:C100=21) * ('Liste Anniversaires'!D2:D100=1))), "") | C23: =IFERROR(TEXTJOIN(CHAR(10), TRUE, FILTER('Liste Anniversaires'!A2:A100, ('Liste Anniversaires'!C2:C100=21) * ('Liste Anniversaires'!D2:D100=2))), "") | D23: =IFERROR(TEXTJOIN(CHAR(10), TRUE, FILTER('Liste Anniversaires'!A2:A100, ('Liste Anniversaires'!C2:C100=21) * ('Liste Anniversaires'!D2:D100=3))), "") | E23: =IFERROR(TEXTJOIN(CHAR(10), TRUE, FILTER('Liste Anniversaires'!A2:A100, ('Liste Anniversaires'!C2:C100=21) * ('Liste Anniversaires'!D2:D100=4))), "") | F23: =IFERROR(TEXTJOIN(CHAR(10), TRUE, FILTER('Liste Anniversaires'!A2:A100, ('Liste Anniversaires'!C2:C100=21) * ('Liste Anniversaires'!D2:D100=5))), "") | G23: =IFERROR(TEXTJOIN(CHAR(10), TRUE, FILTER('Liste Anniversaires'!A2:A100, ('Liste Anniversaires'!C2:C100=21) * ('Liste Anniversaires'!D2:D100=6))), "") | H23: =IFERROR(TEXTJOIN(CHAR(10), TRUE, FILTER('Liste Anniversaires'!A2:A100, ('Liste Anniversaires'!C2:C100=21) * ('Liste Anniversaires'!D2:D100=7))), "") | I23: =IFERROR(TEXTJOIN(CHAR(10), TRUE, FILTER('Liste Anniversaires'!A2:A100, ('Liste Anniversaires'!C2:C100=21) * ('Liste Anniversaires'!D2:D100=8))), "") | J23: =IFERROR(TEXTJOIN(CHAR(10), TRUE, FILTER('Liste Anniversaires'!A2:A100, ('Liste Anniversaires'!C2:C100=21) * ('Liste Anniversaires'!D2:D100=9))), "") | K23: =IFERROR(TEXTJOIN(CHAR(10), TRUE, FILTER('Liste Anniversaires'!A2:A100, ('Liste Anniversaires'!C2:C100=21) * ('Liste Anniversaires'!D2:D100=10))), "") | L23: =IFERROR(TEXTJOIN(CHAR(10), TRUE, FILTER('Liste Anniversaires'!A2:A100, ('Liste Anniversaires'!C2:C100=21) * ('Liste Anniversaires'!D2:D100=11))), "") | M23: =IFERROR(TEXTJOIN(CHAR(10), TRUE, FILTER('Liste Anniversaires'!A2:A100, ('Liste Anniversaires'!C2:C100=21) * ('Liste Anniversaires'!D2:D100=12))), "")
A24: 22 | B24: =IFERROR(TEXTJOIN(CHAR(10), TRUE, FILTER('Liste Anniversaires'!A2:A100, ('Liste Anniversaires'!C2:C100=22) * ('Liste Anniversaires'!D2:D100=1))), "") | C24: =IFERROR(TEXTJOIN(CHAR(10), TRUE, FILTER('Liste Anniversaires'!A2:A100, ('Liste Anniversaires'!C2:C100=22) * ('Liste Anniversaires'!D2:D100=2))), "") | D24: =IFERROR(TEXTJOIN(CHAR(10), TRUE, FILTER('Liste Anniversaires'!A2:A100, ('Liste Anniversaires'!C2:C100=22) * ('Liste Anniversaires'!D2:D100=3))), "") | E24: =IFERROR(TEXTJOIN(CHAR(10), TRUE, FILTER('Liste Anniversaires'!A2:A100, ('Liste Anniversaires'!C2:C100=22) * ('Liste Anniversaires'!D2:D100=4))), "") | F24: =IFERROR(TEXTJOIN(CHAR(10), TRUE, FILTER('Liste Anniversaires'!A2:A100, ('Liste Anniversaires'!C2:C100=22) * ('Liste Anniversaires'!D2:D100=5))), "") | G24: =IFERROR(TEXTJOIN(CHAR(10), TRUE, FILTER('Liste Anniversaires'!A2:A100, ('Liste Anniversaires'!C2:C100=22) * ('Liste Anniversaires'!D2:D100=6))), "") | H24: =IFERROR(TEXTJOIN(CHAR(10), TRUE, FILTER('Liste Anniversaires'!A2:A100, ('Liste Anniversaires'!C2:C100=22) * ('Liste Anniversaires'!D2:D100=7))), "") | I24: =IFERROR(TEXTJOIN(CHAR(10), TRUE, FILTER('Liste Anniversaires'!A2:A100, ('Liste Anniversaires'!C2:C100=22) * ('Liste Anniversaires'!D2:D100=8))), "") | J24: =IFERROR(TEXTJOIN(CHAR(10), TRUE, FILTER('Liste Anniversaires'!A2:A100, ('Liste Anniversaires'!C2:C100=22) * ('Liste Anniversaires'!D2:D100=9))), "") | K24: =IFERROR(TEXTJOIN(CHAR(10), TRUE, FILTER('Liste Anniversaires'!A2:A100, ('Liste Anniversaires'!C2:C100=22) * ('Liste Anniversaires'!D2:D100=10))), "") | L24: =IFERROR(TEXTJOIN(CHAR(10), TRUE, FILTER('Liste Anniversaires'!A2:A100, ('Liste Anniversaires'!C2:C100=22) * ('Liste Anniversaires'!D2:D100=11))), "") | M24: =IFERROR(TEXTJOIN(CHAR(10), TRUE, FILTER('Liste Anniversaires'!A2:A100, ('Liste Anniversaires'!C2:C100=22) * ('Liste Anniversaires'!D2:D100=12))), "")
A25: 23 | B25: =IFERROR(TEXTJOIN(CHAR(10), TRUE, FILTER('Liste Anniversaires'!A2:A100, ('Liste Anniversaires'!C2:C100=23) * ('Liste Anniversaires'!D2:D100=1))), "") | C25: =IFERROR(TEXTJOIN(CHAR(10), TRUE, FILTER('Liste Anniversaires'!A2:A100, ('Liste Anniversaires'!C2:C100=23) * ('Liste Anniversaires'!D2:D100=2))), "") | D25: =IFERROR(TEXTJOIN(CHAR(10), TRUE, FILTER('Liste Anniversaires'!A2:A100, ('Liste Anniversaires'!C2:C100=23) * ('Liste Anniversaires'!D2:D100=3))), "") | E25: =IFERROR(TEXTJOIN(CHAR(10), TRUE, FILTER('Liste Anniversaires'!A2:A100, ('Liste Anniversaires'!C2:C100=23) * ('Liste Anniversaires'!D2:D100=4))), "") | F25: =IFERROR(TEXTJOIN(CHAR(10), TRUE, FILTER('Liste Anniversaires'!A2:A100, ('Liste Anniversaires'!C2:C100=23) * ('Liste Anniversaires'!D2:D100=5))), "") | G25: =IFERROR(TEXTJOIN(CHAR(10), TRUE, FILTER('Liste Anniversaires'!A2:A100, ('Liste Anniversaires'!C2:C100=23) * ('Liste Anniversaires'!D2:D100=6))), "") | H25: =IFERROR(TEXTJOIN(CHAR(10), TRUE, FILTER('Liste Anniversaires'!A2:A100, ('Liste Anniversaires'!C2:C100=23) * ('Liste Anniversaires'!D2:D100=7))), "") | I25: =IFERROR(TEXTJOIN(CHAR(10), TRUE, FILTER('Liste Anniversaires'!A2:A100, ('Liste Anniversaires'!C2:C100=23) * ('Liste Anniversaires'!D2:D100=8))), "") | J25: =IFERROR(TEXTJOIN(CHAR(10), TRUE, FILTER('Liste Anniversaires'!A2:A100, ('Liste Anniversaires'!C2:C100=23) * ('Liste Anniversaires'!D2:D100=9))), "") | K25: =IFERROR(TEXTJOIN(CHAR(10), TRUE, FILTER('Liste Anniversaires'!A2:A100, ('Liste Anniversaires'!C2:C100=23) * ('Liste Anniversaires'!D2:D100=10))), "") | L25: =IFERROR(TEXTJOIN(CHAR(10), TRUE, FILTER('Liste Anniversaires'!A2:A100, ('Liste Anniversaires'!C2:C100=23) * ('Liste Anniversaires'!D2:D100=11))), "") | M25: =IFERROR(TEXTJOIN(CHAR(10), TRUE, FILTER('Liste Anniversaires'!A2:A100, ('Liste Anniversaires'!C2:C100=23) * ('Liste Anniversaires'!D2:D100=12))), "")
A26: 24 | B26: =IFERROR(TEXTJOIN(CHAR(10), TRUE, FILTER('Liste Anniversaires'!A2:A100, ('Liste Anniversaires'!C2:C100=24) * ('Liste Anniversaires'!D2:D100=1))), "") | C26: =IFERROR(TEXTJOIN(CHAR(10), TRUE, FILTER('Liste Anniversaires'!A2:A100, ('Liste Anniversaires'!C2:C100=24) * ('Liste Anniversaires'!D2:D100=2))), "") | D26: =IFERROR(TEXTJOIN(CHAR(10), TRUE, FILTER('Liste Anniversaires'!A2:A100, ('Liste Anniversaires'!C2:C100=24) * ('Liste Anniversaires'!D2:D100=3))), "") | E26: =IFERROR(TEXTJOIN(CHAR(10), TRUE, FILTER('Liste Anniversaires'!A2:A100, ('Liste Anniversaires'!C2:C100=24) * ('Liste Anniversaires'!D2:D100=4))), "") | F26: =IFERROR(TEXTJOIN(CHAR(10), TRUE, FILTER('Liste Anniversaires'!A2:A100, ('Liste Anniversaires'!C2:C100=24) * ('Liste Anniversaires'!D2:D100=5))), "") | G26: =IFERROR(TEXTJOIN(CHAR(10), TRUE, FILTER('Liste Anniversaires'!A2:A100, ('Liste Anniversaires'!C2:C100=24) * ('Liste Anniversaires'!D2:D100=6))), "") | H26: =IFERROR(TEXTJOIN(CHAR(10), TRUE, FILTER('Liste Anniversaires'!A2:A100, ('Liste Anniversaires'!C2:C100=24) * ('Liste Anniversaires'!D2:D100=7))), "") | I26: =IFERROR(TEXTJOIN(CHAR(10), TRUE, FILTER('Liste Anniversaires'!A2:A100, ('Liste Anniversaires'!C2:C100=24) * ('Liste Anniversaires'!D2:D100=8))), "") | J26: =IFERROR(TEXTJOIN(CHAR(10), TRUE, FILTER('Liste Anniversaires'!A2:A100, ('Liste Anniversaires'!C2:C100=24) * ('Liste Anniversaires'!D2:D100=9))), "") | K26: =IFERROR(TEXTJOIN(CHAR(10), TRUE, FILTER('Liste Anniversaires'!A2:A100, ('Liste Anniversaires'!C2:C100=24) * ('Liste Anniversaires'!D2:D100=10))), "") | L26: =IFERROR(TEXTJOIN(CHAR(10), TRUE, FILTER('Liste Anniversaires'!A2:A100, ('Liste Anniversaires'!C2:C100=24) * ('Liste Anniversaires'!D2:D100=11))), "") | M26: =IFERROR(TEXTJOIN(CHAR(10), TRUE, FILTER('Liste Anniversaires'!A2:A100, ('Liste Anniversaires'!C2:C100=24) * ('Liste Anniversaires'!D2:D100=12))), "")
A27: 25 | B27: =IFERROR(TEXTJOIN(CHAR(10), TRUE, FILTER('Liste Anniversaires'!A2:A100, ('Liste Anniversaires'!C2:C100=25) * ('Liste Anniversaires'!D2:D100=1))), "") | C27: =IFERROR(TEXTJOIN(CHAR(10), TRUE, FILTER('Liste Anniversaires'!A2:A100, ('Liste Anniversaires'!C2:C100=25) * ('Liste Anniversaires'!D2:D100=2))), "") | D27: =IFERROR(TEXTJOIN(CHAR(10), TRUE, FILTER('Liste Anniversaires'!A2:A100, ('Liste Anniversaires'!C2:C100=25) * ('Liste Anniversaires'!D2:D100=3))), "") | E27: =IFERROR(TEXTJOIN(CHAR(10), TRUE, FILTER('Liste Anniversaires'!A2:A100, ('Liste Anniversaires'!C2:C100=25) * ('Liste Anniversaires'!D2:D100=4))), "") | F27: =IFERROR(TEXTJOIN(CHAR(10), TRUE, FILTER('Liste Anniversaires'!A2:A100, ('Liste Anniversaires'!C2:C100=25) * ('Liste Anniversaires'!D2:D100=5))), "") | G27: =IFERROR(TEXTJOIN(CHAR(10), TRUE, FILTER('Liste Anniversaires'!A2:A100, ('Liste Anniversaires'!C2:C100=25) * ('Liste Anniversaires'!D2:D100=6))), "") | H27: =IFERROR(TEXTJOIN(CHAR(10), TRUE, FILTER('Liste Anniversaires'!A2:A100, ('Liste Anniversaires'!C2:C100=25) * ('Liste Anniversaires'!D2:D100=7))), "") | I27: =IFERROR(TEXTJOIN(CHAR(10), TRUE, FILTER('Liste Anniversaires'!A2:A100, ('Liste Anniversaires'!C2:C100=25) * ('Liste Anniversaires'!D2:D100=8))), "") | J27: =IFERROR(TEXTJOIN(CHAR(10), TRUE, FILTER('Liste Anniversaires'!A2:A100, ('Liste Anniversaires'!C2:C100=25) * ('Liste Anniversaires'!D2:D100=9))), "") | K27: =IFERROR(TEXTJOIN(CHAR(10), TRUE, FILTER('Liste Anniversaires'!A2:A100, ('Liste Anniversaires'!C2:C100=25) * ('Liste Anniversaires'!D2:D100=10))), "") | L27: =IFERROR(TEXTJOIN(CHAR(10), TRUE, FILTER('Liste Anniversaires'!A2:A100, ('Liste Anniversaires'!C2:C100=25) * ('Liste Anniversaires'!D2:D100=11))), "") | M27: =IFERROR(TEXTJOIN(CHAR(10), TRUE, FILTER('Liste Anniversaires'!A2:A100, ('Liste Anniversaires'!C2:C100=25) * ('Liste Anniversaires'!D2:D100=12))), "")
A28: 26 | B28: =IFERROR(TEXTJOIN(CHAR(10), TRUE, FILTER('Liste Anniversaires'!A2:A100, ('Liste Anniversaires'!C2:C100=26) * ('Liste Anniversaires'!D2:D100=1))), "") | C28: =IFERROR(TEXTJOIN(CHAR(10), TRUE, FILTER('Liste Anniversaires'!A2:A100, ('Liste Anniversaires'!C2:C100=26) * ('Liste Anniversaires'!D2:D100=2))), "") | D28: =IFERROR(TEXTJOIN(CHAR(10), TRUE, FILTER('Liste Anniversaires'!A2:A100, ('Liste Anniversaires'!C2:C100=26) * ('Liste Anniversaires'!D2:D100=3))), "") | E28: =IFERROR(TEXTJOIN(CHAR(10), TRUE, FILTER('Liste Anniversaires'!A2:A100, ('Liste Anniversaires'!C2:C100=26) * ('Liste Anniversaires'!D2:D100=4))), "") | F28: =IFERROR(TEXTJOIN(CHAR(10), TRUE, FILTER('Liste Anniversaires'!A2:A100, ('Liste Anniversaires'!C2:C100=26) * ('Liste Anniversaires'!D2:D100=5))), "") | G28: =IFERROR(TEXTJOIN(CHAR(10), TRUE, FILTER('Liste Anniversaires'!A2:A100, ('Liste Anniversaires'!C2:C100=26) * ('Liste Anniversaires'!D2:D100=6))), "") | H28: =IFERROR(TEXTJOIN(CHAR(10), TRUE, FILTER('Liste Anniversaires'!A2:A100, ('Liste Anniversaires'!C2:C100=26) * ('Liste Anniversaires'!D2:D100=7))), "") | I28: =IFERROR(TEXTJOIN(CHAR(10), TRUE, FILTER('Liste Anniversaires'!A2:A100, ('Liste Anniversaires'!C2:C100=26) * ('Liste Anniversaires'!D2:D100=8))), "") | J28: =IFERROR(TEXTJOIN(CHAR(10), TRUE, FILTER('Liste Anniversaires'!A2:A100, ('Liste Anniversaires'!C2:C100=26) * ('Liste Anniversaires'!D2:D100=9))), "") | K28: =IFERROR(TEXTJOIN(CHAR(10), TRUE, FILTER('Liste Anniversaires'!A2:A100, ('Liste Anniversaires'!C2:C100=26) * ('Liste Anniversaires'!D2:D100=10))), "") | L28: =IFERROR(TEXTJOIN(CHAR(10), TRUE, FILTER('Liste Anniversaires'!A2:A100, ('Liste Anniversaires'!C2:C100=26) * ('Liste Anniversaires'!D2:D100=11))), "") | M28: =IFERROR(TEXTJOIN(CHAR(10), TRUE, FILTER('Liste Anniversaires'!A2:A100, ('Liste Anniversaires'!C2:C100=26) * ('Liste Anniversaires'!D2:D100=12))), "")
A29: 27 | B29: =IFERROR(TEXTJOIN(CHAR(10), TRUE, FILTER('Liste Anniversaires'!A2:A100, ('Liste Anniversaires'!C2:C100=27) * ('Liste Anniversaires'!D2:D100=1))), "") | C29: =IFERROR(TEXTJOIN(CHAR(10), TRUE, FILTER('Liste Anniversaires'!A2:A100, ('Liste Anniversaires'!C2:C100=27) * ('Liste Anniversaires'!D2:D100=2))), "") | D29: =IFERROR(TEXTJOIN(CHAR(10), TRUE, FILTER('Liste Anniversaires'!A2:A100, ('Liste Anniversaires'!C2:C100=27) * ('Liste Anniversaires'!D2:D100=3))), "") | E29: =IFERROR(TEXTJOIN(CHAR(10), TRUE, FILTER('Liste Anniversaires'!A2:A100, ('Liste Anniversaires'!C2:C100=27) * ('Liste Anniversaires'!D2:D100=4))), "") | F29: =IFERROR(TEXTJOIN(CHAR(10), TRUE, FILTER('Liste Anniversaires'!A2:A100, ('Liste Anniversaires'!C2:C100=27) * ('Liste Anniversaires'!D2:D100=5))), "") | G29: =IFERROR(TEXTJOIN(CHAR(10), TRUE, FILTER('Liste Anniversaires'!A2:A100, ('Liste Anniversaires'!C2:C100=27) * ('Liste Anniversaires'!D2:D100=6))), "") | H29: =IFERROR(TEXTJOIN(CHAR(10), TRUE, FILTER('Liste Anniversaires'!A2:A100, ('Liste Anniversaires'!C2:C100=27) * ('Liste Anniversaires'!D2:D100=7))), "") | I29: =IFERROR(TEXTJOIN(CHAR(10), TRUE, FILTER('Liste Anniversaires'!A2:A100, ('Liste Anniversaires'!C2:C100=27) * ('Liste Anniversaires'!D2:D100=8))), "") | J29: =IFERROR(TEXTJOIN(CHAR(10), TRUE, FILTER('Liste Anniversaires'!A2:A100, ('Liste Anniversaires'!C2:C100=27) * ('Liste Anniversaires'!D2:D100=9))), "") | K29: =IFERROR(TEXTJOIN(CHAR(10), TRUE, FILTER('Liste Anniversaires'!A2:A100, ('Liste Anniversaires'!C2:C100=27) * ('Liste Anniversaires'!D2:D100=10))), "") | L29: =IFERROR(TEXTJOIN(CHAR(10), TRUE, FILTER('Liste Anniversaires'!A2:A100, ('Liste Anniversaires'!C2:C100=27) * ('Liste Anniversaires'!D2:D100=11))), "") | M29: =IFERROR(TEXTJOIN(CHAR(10), TRUE, FILTER('Liste Anniversaires'!A2:A100, ('Liste Anniversaires'!C2:C100=27) * ('Liste Anniversaires'!D2:D100=12))), "")
A30: 28 | B30: =IFERROR(TEXTJOIN(CHAR(10), TRUE, FILTER('Liste Anniversaires'!A2:A100, ('Liste Anniversaires'!C2:C100=28) * ('Liste Anniversaires'!D2:D100=1))), "") | C30: =IFERROR(TEXTJOIN(CHAR(10), TRUE, FILTER('Liste Anniversaires'!A2:A100, ('Liste Anniversaires'!C2:C100=28) * ('Liste Anniversaires'!D2:D100=2))), "") | D30: =IFERROR(TEXTJOIN(CHAR(10), TRUE, FILTER('Liste Anniversaires'!A2:A100, ('Liste Anniversaires'!C2:C100=28) * ('Liste Anniversaires'!D2:D100=3))), "") | E30: =IFERROR(TEXTJOIN(CHAR(10), TRUE, FILTER('Liste Anniversaires'!A2:A100, ('Liste Anniversaires'!C2:C100=28) * ('Liste Anniversaires'!D2:D100=4))), "") | F30: =IFERROR(TEXTJOIN(CHAR(10), TRUE, FILTER('Liste Anniversaires'!A2:A100, ('Liste Anniversaires'!C2:C100=28) * ('Liste Anniversaires'!D2:D100=5))), "") | G30: =IFERROR(TEXTJOIN(CHAR(10), TRUE, FILTER('Liste Anniversaires'!A2:A100, ('Liste Anniversaires'!C2:C100=28) * ('Liste Anniversaires'!D2:D100=6))), "") | H30: =IFERROR(TEXTJOIN(CHAR(10), TRUE, FILTER('Liste Anniversaires'!A2:A100, ('Liste Anniversaires'!C2:C100=28) * ('Liste Anniversaires'!D2:D100=7))), "") | I30: =IFERROR(TEXTJOIN(CHAR(10), TRUE, FILTER('Liste Anniversaires'!A2:A100, ('Liste Anniversaires'!C2:C100=28) * ('Liste Anniversaires'!D2:D100=8))), "") | J30: =IFERROR(TEXTJOIN(CHAR(10), TRUE, FILTER('Liste Anniversaires'!A2:A100, ('Liste Anniversaires'!C2:C100=28) * ('Liste Anniversaires'!D2:D100=9))), "") | K30: =IFERROR(TEXTJOIN(CHAR(10), TRUE, FILTER('Liste Anniversaires'!A2:A100, ('Liste Anniversaires'!C2:C100=28) * ('Liste Anniversaires'!D2:D100=10))), "") | L30: =IFERROR(TEXTJOIN(CHAR(10), TRUE, FILTER('Liste Anniversaires'!A2:A100, ('Liste Anniversaires'!C2:C100=28) * ('Liste Anniversaires'!D2:D100=11))), "") | M30: =IFERROR(TEXTJOIN(CHAR(10), TRUE, FILTER('Liste Anniversaires'!A2:A100, ('Liste Anniversaires'!C2:C100=28) * ('Liste Anniversaires'!D2:D100=12))), "")
A31: 29 | B31: =IFERROR(TEXTJOIN(CHAR(10), TRUE, FILTER('Liste Anniversaires'!A2:A100, ('Liste Anniversaires'!C2:C100=29) * ('Liste Anniversaires'!D2:D100=1))), "") | C31: =IFERROR(TEXTJOIN(CHAR(10), TRUE, FILTER('Liste Anniversaires'!A2:A100, ('Liste Anniversaires'!C2:C100=29) * ('Liste Anniversaires'!D2:D100=2))), "") | D31: =IFERROR(TEXTJOIN(CHAR(10), TRUE, FILTER('Liste Anniversaires'!A2:A100, ('Liste Anniversaires'!C2:C100=29) * ('Liste Anniversaires'!D2:D100=3))), "") | E31: =IFERROR(TEXTJOIN(CHAR(10), TRUE, FILTER('Liste Anniversaires'!A2:A100, ('Liste Anniversaires'!C2:C100=29) * ('Liste Anniversaires'!D2:D100=4))), "") | F31: =IFERROR(TEXTJOIN(CHAR(10), TRUE, FILTER('Liste Anniversaires'!A2:A100, ('Liste Anniversaires'!C2:C100=29) * ('Liste Anniversaires'!D2:D100=5))), "") | G31: =IFERROR(TEXTJOIN(CHAR(10), TRUE, FILTER('Liste Anniversaires'!A2:A100, ('Liste Anniversaires'!C2:C100=29) * ('Liste Anniversaires'!D2:D100=6))), "") | H31: =IFERROR(TEXTJOIN(CHAR(10), TRUE, FILTER('Liste Anniversaires'!A2:A100, ('Liste Anniversaires'!C2:C100=29) * ('Liste Anniversaires'!D2:D100=7))), "") | I31: =IFERROR(TEXTJOIN(CHAR(10), TRUE, FILTER('Liste Anniversaires'!A2:A100, ('Liste Anniversaires'!C2:C100=29) * ('Liste Anniversaires'!D2:D100=8))), "") | J31: =IFERROR(TEXTJOIN(CHAR(10), TRUE, FILTER('Liste Anniversaires'!A2:A100, ('Liste Anniversaires'!C2:C100=29) * ('Liste Anniversaires'!D2:D100=9))), "") | K31: =IFERROR(TEXTJOIN(CHAR(10), TRUE, FILTER('Liste Anniversaires'!A2:A100, ('Liste Anniversaires'!C2:C100=29) * ('Liste Anniversaires'!D2:D100=10))), "") | L31: =IFERROR(TEXTJOIN(CHAR(10), TRUE, FILTER('Liste Anniversaires'!A2:A100, ('Liste Anniversaires'!C2:C100=29) * ('Liste Anniversaires'!D2:D100=11))), "") | M31: =IFERROR(TEXTJOIN(CHAR(10), TRUE, FILTER('Liste Anniversaires'!A2:A100, ('Liste Anniversaires'!C2:C100=29) * ('Liste Anniversaires'!D2:D100=12))), "")
A32: 30 | B32: =IFERROR(TEXTJOIN(CHAR(10), TRUE, FILTER('Liste Anniversaires'!A2:A100, ('Liste Anniversaires'!C2:C100=30) * ('Liste Anniversaires'!D2:D100=1))), "") | C32: =IFERROR(TEXTJOIN(CHAR(10), TRUE, FILTER('Liste Anniversaires'!A2:A100, ('Liste Anniversaires'!C2:C100=30) * ('Liste Anniversaires'!D2:D100=2))), "") | D32: =IFERROR(TEXTJOIN(CHAR(10), TRUE, FILTER('Liste Anniversaires'!A2:A100, ('Liste Anniversaires'!C2:C100=30) * ('Liste Anniversaires'!D2:D100=3))), "") | E32: =IFERROR(TEXTJOIN(CHAR(10), TRUE, FILTER('Liste Anniversaires'!A2:A100, ('Liste Anniversaires'!C2:C100=30) * ('Liste Anniversaires'!D2:D100=4))), "") | F32: =IFERROR(TEXTJOIN(CHAR(10), TRUE, FILTER('Liste Anniversaires'!A2:A100, ('Liste Anniversaires'!C2:C100=30) * ('Liste Anniversaires'!D2:D100=5))), "") | G32: =IFERROR(TEXTJOIN(CHAR(10), TRUE, FILTER('Liste Anniversaires'!A2:A100, ('Liste Anniversaires'!C2:C100=30) * ('Liste Anniversaires'!D2:D100=6))), "") | H32: =IFERROR(TEXTJOIN(CHAR(10), TRUE, FILTER('Liste Anniversaires'!A2:A100, ('Liste Anniversaires'!C2:C100=30) * ('Liste Anniversaires'!D2:D100=7))), "") | I32: =IFERROR(TEXTJOIN(CHAR(10), TRUE, FILTER('Liste Anniversaires'!A2:A100, ('Liste Anniversaires'!C2:C100=30) * ('Liste Anniversaires'!D2:D100=8))), "") | J32: =IFERROR(TEXTJOIN(CHAR(10), TRUE, FILTER('Liste Anniversaires'!A2:A100, ('Liste Anniversaires'!C2:C100=30) * ('Liste Anniversaires'!D2:D100=9))), "") | K32: =IFERROR(TEXTJOIN(CHAR(10), TRUE, FILTER('Liste Anniversaires'!A2:A100, ('Liste Anniversaires'!C2:C100=30) * ('Liste Anniversaires'!D2:D100=10))), "") | L32: =IFERROR(TEXTJOIN(CHAR(10), TRUE, FILTER('Liste Anniversaires'!A2:A100, ('Liste Anniversaires'!C2:C100=30) * ('Liste Anniversaires'!D2:D100=11))), "") | M32: =IFERROR(TEXTJOIN(CHAR(10), TRUE, FILTER('Liste Anniversaires'!A2:A100, ('Liste Anniversaires'!C2:C100=30) * ('Liste Anniversaires'!D2:D100=12))), "")
A33: 31 | B33: =IFERROR(TEXTJOIN(CHAR(10), TRUE, FILTER('Liste Anniversaires'!A2:A100, ('Liste Anniversaires'!C2:C100=31) * ('Liste Anniversaires'!D2:D100=1))), "") | C33: =IFERROR(TEXTJOIN(CHAR(10), TRUE, FILTER('Liste Anniversaires'!A2:A100, ('Liste Anniversaires'!C2:C100=31) * ('Liste Anniversaires'!D2:D100=2))), "") | D33: =IFERROR(TEXTJOIN(CHAR(10), TRUE, FILTER('Liste Anniversaires'!A2:A100, ('Liste Anniversaires'!C2:C100=31) * ('Liste Anniversaires'!D2:D100=3))), "") | E33: =IFERROR(TEXTJOIN(CHAR(10), TRUE, FILTER('Liste Anniversaires'!A2:A100, ('Liste Anniversaires'!C2:C100=31) * ('Liste Anniversaires'!D2:D100=4))), "") | F33: =IFERROR(TEXTJOIN(CHAR(10), TRUE, FILTER('Liste Anniversaires'!A2:A100, ('Liste Anniversaires'!C2:C100=31) * ('Liste Anniversaires'!D2:D100=5))), "") | G33: =IFERROR(TEXTJOIN(CHAR(10), TRUE, FILTER('Liste Anniversaires'!A2:A100, ('Liste Anniversaires'!C2:C100=31) * ('Liste Anniversaires'!D2:D100=6))), "") | H33: =IFERROR(TEXTJOIN(CHAR(10), TRUE, FILTER('Liste Anniversaires'!A2:A100, ('Liste Anniversaires'!C2:C100=31) * ('Liste Anniversaires'!D2:D100=7))), "") | I33: =IFERROR(TEXTJOIN(CHAR(10), TRUE, FILTER('Liste Anniversaires'!A2:A100, ('Liste Anniversaires'!C2:C100=31) * ('Liste Anniversaires'!D2:D100=8))), "") | J33: =IFERROR(TEXTJOIN(CHAR(10), TRUE, FILTER('Liste Anniversaires'!A2:A100, ('Liste Anniversaires'!C2:C100=31) * ('Liste Anniversaires'!D2:D100=9))), "") | K33: =IFERROR(TEXTJOIN(CHAR(10), TRUE, FILTER('Liste Anniversaires'!A2:A100, ('Liste Anniversaires'!C2:C100=31) * ('Liste Anniversaires'!D2:D100=10))), "") | L33: =IFERROR(TEXTJOIN(CHAR(10), TRUE, FILTER('Liste Anniversaires'!A2:A100, ('Liste Anniversaires'!C2:C100=31) * ('Liste Anniversaires'!D2:D100=11))), "") | M33: =IFERROR(TEXTJOIN(CHAR(10), TRUE, FILTER('Liste Anniversaires'!A2:A100, ('Liste Anniversaires'!C2:C100=31) * ('Liste Anniversaires'!D2:D100=12))), "")

Sheet Vue Synthèse
A1: Résumé Interactif
